BEGIN:VCALENDAR
VERSION:2.0
PRODID:-//The Mad River Valley Village - ECPv6.0.13//NONSGML v1.0//EN
CALSCALE:GREGORIAN
METHOD:PUBLISH
X-ORIGINAL-URL:https://mrvvillage.com
X-WR-CALDESC:Events for The Mad River Valley Village
REFRESH-INTERVAL;VALUE=DURATION:PT1H
X-Robots-Tag:noindex
X-PUBLISHED-TTL:PT1H
BEGIN:VTIMEZONE
TZID:America/New_York
BEGIN:DAYLIGHT
TZOFFSETFROM:-0500
TZOFFSETTO:-0400
TZNAME:EDT
DTSTART:20240310T070000
END:DAYLIGHT
BEGIN:STANDARD
TZOFFSETFROM:-0400
TZOFFSETTO:-0500
TZNAME:EST
DTSTART:20241103T060000
END:STANDARD
END:VTIMEZONE
BEGIN:VEVENT
DTSTART;TZID=America/New_York:20240810T093000
DTEND;TZID=America/New_York:20240810T110000
DTSTAMP:20260419T160352
CREATED:20240807T143816Z
LAST-MODIFIED:20240810T153813Z
UID:10006577-1723282200-1723287600@mrvvillage.com
SUMMARY:Coffee Hour with Rep. Dara Torre
DESCRIPTION:Stop in for conversation\, coffee and donuts with Dara!\nDara Torre is one of the MRV’s representative to the Vermont House of Representatives. \n 
URL:https://mrvvillage.com/event/coffee-hour-with-rep-dara-torre/
LOCATION:Mad River Donuts\, 6163 Main Street\, Waitsfield\, Vermont\, 05673
CATEGORIES:Community
ATTACH;FMTTYPE=image/png:https://mrvvillage.com/wp-content/uploads/2024/08/A3173756-6F58-4515-9538-22BE474429A3-RHn4Bt.tmp_.png
ORGANIZER;CN="Rep.%20Dara%20Torre":MAILTO:dtorre@leg.state.vt.us
GEO:44.1954916;-72.8191037
X-APPLE-STRUCTURED-LOCATION;VALUE=URI;X-ADDRESS=Mad River Donuts 6163 Main Street Waitsfield Vermont 05673;X-APPLE-RADIUS=500;X-TITLE=6163 Main Street:geo:-72.8191037,44.1954916
END:VEVENT
BEGIN:VEVENT
DTSTART;TZID=America/New_York:20240621T170000
DTEND;TZID=America/New_York:20240621T183000
DTSTAMP:20260419T160352
CREATED:20240619T193829Z
LAST-MODIFIED:20240621T200814Z
UID:10006357-1718989200-1718994600@mrvvillage.com
SUMMARY:Legislator forum
DESCRIPTION:Join area legislators for a debrief and discussion of this year’s legislative session. The three Washington County senators (Ann Cummings\, Andrew Perchlik and Anne Watson) will join Rep. Kari Dolan and Rep. Dara Torre at the Village Meeting House in Waitsfield to hear from the public and share some insights. The recorded discussion will be available online afterwards at mrvtv.com. Emailed questions/comments are welcome in advance at dtorre@leg.state.vt.us or kdolan@leg.state.vt.us.
URL:https://mrvvillage.com/event/legislator-forum/
LOCATION:Waitsfield United Church Village Meeting House\, 4355 Main St\, Waitsfield\, 05673
CATEGORIES:Government,Public Welcome
ATTACH;FMTTYPE=image/png:https://mrvvillage.com/wp-content/uploads/2024/06/MRV-June-21-legislator-forum-hc9svl.tmp_.png
ORGANIZER;CN="Rep.%20Dara%20Torre":MAILTO:dtorre@leg.state.vt.us
GEO:44.1905725;-72.8237868
X-APPLE-STRUCTURED-LOCATION;VALUE=URI;X-ADDRESS=Waitsfield United Church Village Meeting House 4355 Main St Waitsfield 05673;X-APPLE-RADIUS=500;X-TITLE=4355 Main St:geo:-72.8237868,44.1905725
END:VEVENT
END:VCALENDAR