BEGIN:VCALENDAR
VERSION:2.0
PRODID:-//The Mad River Valley Village - ECPv6.0.13//NONSGML v1.0//EN
CALSCALE:GREGORIAN
METHOD:PUBLISH
X-ORIGINAL-URL:https://mrvvillage.com
X-WR-CALDESC:Events for The Mad River Valley Village
REFRESH-INTERVAL;VALUE=DURATION:PT1H
X-Robots-Tag:noindex
X-PUBLISHED-TTL:PT1H
BEGIN:VTIMEZONE
TZID:America/New_York
BEGIN:DAYLIGHT
TZOFFSETFROM:-0500
TZOFFSETTO:-0400
TZNAME:EDT
DTSTART:20230312T070000
END:DAYLIGHT
BEGIN:STANDARD
TZOFFSETFROM:-0400
TZOFFSETTO:-0500
TZNAME:EST
DTSTART:20231105T060000
END:STANDARD
END:VTIMEZONE
BEGIN:VEVENT
DTSTART;TZID=America/New_York:20230717T180000
DTEND;TZID=America/New_York:20230717T200000
DTSTAMP:20260422T194729
CREATED:20230418T124703Z
LAST-MODIFIED:20230518T031333Z
UID:10003663-1689616800-1689624000@mrvvillage.com
SUMMARY:Moretown Selectboard (3rd Monday)
DESCRIPTION:Meeting Schedule\n\nDate: 1st and 3rd Monday of the month (If the 1st or 3rd Monday falls on a town-recognized holiday\, the meeting will be on the first Tuesday following the holiday)\nTime: 6:00 pm\nPlace: Moretown Town Office – 79 School Street\nPlease note during Covid-19 all meetings are held via ZOOM\nhttps://us02web.zoom.us/j/6201042716\nVia ZOOM Meeting ID 620 104 2716\nOr to call in: 929-205-6099\n\nSelectboard Members\n\nTom Martin\, Chairman | 802-496-2599 (h)\nJohn Hoogenboom\, Vice Chairman | 802-223-6584 (h)\nDon Wexler | 802-496-7504 (h)\nCallie Streeter | 802-498-3437 (cell)\nRobin Campbell |\n\nSELECTBOARD CONTACT – SELECTBOARD ASSISTANT\nSasha Elwell\, 802-882-8219\nmselectboard@moretownvt.net
URL:https://mrvvillage.com/event/moretown-selectboard-3rd-monday-4/
LOCATION:Moretown Town Hall\, 1147 Rte 100B\, Moretown\, VT\, 05660
CATEGORIES:Government
ATTACH;FMTTYPE=image/jpeg:https://mrvvillage.com/wp-content/uploads/2023/04/Moretown-town-hall-RqDbzu.tmp_.jpg
ORGANIZER;CN="Town%20of%20Moretown":MAILTO:townclerk@moretownvt.net
GEO:44.2693866;-72.7462061
X-APPLE-STRUCTURED-LOCATION;VALUE=URI;X-ADDRESS=Moretown Town Hall 1147 Rte 100B Moretown VT 05660;X-APPLE-RADIUS=500;X-TITLE=1147 Rte 100B:geo:-72.7462061,44.2693866
END:VEVENT
BEGIN:VEVENT
DTSTART;TZID=America/New_York:20230705T183000
DTEND;TZID=America/New_York:20230705T203000
DTSTAMP:20260422T194729
CREATED:20230412T183316Z
LAST-MODIFIED:20230506T001505Z
UID:10003594-1688581800-1688589000@mrvvillage.com
SUMMARY:Moretown Planning Commission (1st Wednesday)
DESCRIPTION:Meeting Schedule\n\nDate: 1st and 3rd Wednesday of the month (beginning February 2020)\nTime: 6:30 pm\nPlace: Moretown Town Office – 79 School Street\n\nPC Members\n\nDavid Stapleton – Chair (d.stapleton@comcast.net)\nKaren Horn – Vice Chair (khorn@vlct.org)\nJohn Schmeltzer (metsch@comcast.net)\nDeborah Carroll (deborahcarroll59@gmail.com)\nClark Amadon (clark@amadononline.net)\n\nUPDATING THE LAND USE AND DEVELOPMENT REGULATIONS AND OTHER DOCUMENTS\nNotices of hearings appear in the right sidebar (below on mobile). Documents in review and a record of these documents and revisions will appear in the respective Announcements. Some historical (revised) documents may also appear below. \nUPDATING THE TOWN PLAN\nThe Moretown Planning Commission last updated the Town Plan in January 2016 with support of a state Municipal Planning Grant. \nMoretown Housing snapshot: https://housingdata.org/profile/snapshot \nDOCUMENTS\n\nLHMP formal approval letter from FEMA\nMoretown Local Hazard Mitigation Plan (approved)\nMoretown Town Plan – Part 2 SB approved January 4-2016\nMoretown Town Plan – Part 1 SB approved January 4-2016\nPolicies – Moretown Town Plan (2015-11-03)\nLocal Hazard Mitigation Plan part 2\nLocal Hazard Mitigation Plan part 1
URL:https://mrvvillage.com/event/moretown-planning-commission-1st-wednesday-3/
LOCATION:Moretown Town Hall\, 1147 Rte 100B\, Moretown\, VT\, 05660
CATEGORIES:Government
ATTACH;FMTTYPE=image/jpeg:https://mrvvillage.com/wp-content/uploads/2023/04/Moretown-town-hall-RqDbzu.tmp_.jpg
ORGANIZER;CN="Town%20of%20Moretown":MAILTO:townclerk@moretownvt.net
GEO:44.2693866;-72.7462061
X-APPLE-STRUCTURED-LOCATION;VALUE=URI;X-ADDRESS=Moretown Town Hall 1147 Rte 100B Moretown VT 05660;X-APPLE-RADIUS=500;X-TITLE=1147 Rte 100B:geo:-72.7462061,44.2693866
END:VEVENT
BEGIN:VEVENT
DTSTART;TZID=America/New_York:20230703T180000
DTEND;TZID=America/New_York:20230703T200000
DTSTAMP:20260422T194729
CREATED:20230412T183300Z
LAST-MODIFIED:20230602T064108Z
UID:10003593-1688407200-1688414400@mrvvillage.com
SUMMARY:Moretown Selectboard (1st Monday)
DESCRIPTION:Meeting Schedule\n\nDate: 1st and 3rd Monday of the month (If the 1st or 3rd Monday falls on a town-recognized holiday\, the meeting will be on the first Tuesday following the holiday)\nTime: 6:00 pm\nPlace: Moretown Town Office – 79 School Street\nPlease note during Covid-19 all meetings are held via ZOOM\nhttps://us02web.zoom.us/j/6201042716\nVia ZOOM Meeting ID 620 104 2716\nOr to call in: 929-205-6099\n\nSelectboard Members\n\nTom Martin\, Chairman | 802-496-2599 (h)\nJohn Hoogenboom\, Vice Chairman | 802-223-6584 (h)\nDon Wexler | 802-496-7504 (h)\nCallie Streeter | 802-498-3437 (cell)\nRobin Campbell |\n\nSELECTBOARD CONTACT – SELECTBOARD ASSISTANT\nSasha Elwell\, 802-882-8219\nmselectboard@moretownvt.net
URL:https://mrvvillage.com/event/moretown-selectboard-1st-monday-3/
LOCATION:Moretown Town Hall\, 1147 Rte 100B\, Moretown\, VT\, 05660
CATEGORIES:Government
ATTACH;FMTTYPE=image/jpeg:https://mrvvillage.com/wp-content/uploads/2023/04/Moretown-town-hall-RqDbzu.tmp_.jpg
ORGANIZER;CN="Town%20of%20Moretown":MAILTO:townclerk@moretownvt.net
GEO:44.2693866;-72.7462061
X-APPLE-STRUCTURED-LOCATION;VALUE=URI;X-ADDRESS=Moretown Town Hall 1147 Rte 100B Moretown VT 05660;X-APPLE-RADIUS=500;X-TITLE=1147 Rte 100B:geo:-72.7462061,44.2693866
END:VEVENT
BEGIN:VEVENT
DTSTART;TZID=America/New_York:20230621T183000
DTEND;TZID=America/New_York:20230621T203000
DTSTAMP:20260422T194729
CREATED:20230412T183214Z
LAST-MODIFIED:20230520T034136Z
UID:10003591-1687372200-1687379400@mrvvillage.com
SUMMARY:Moretown Planning Commission (3rd Wednesday)
DESCRIPTION:Meeting Schedule\n\nDate: 1st and 3rd Wednesday of the month (beginning February 2020)\nTime: 6:30 pm\nPlace: Moretown Town Office – 79 School Street\n\nPC Members\n\nDavid Stapleton – Chair (d.stapleton@comcast.net)\nKaren Horn – Vice Chair (khorn@vlct.org)\nJohn Schmeltzer (metsch@comcast.net)\nDeborah Carroll (deborahcarroll59@gmail.com)\nClark Amadon (clark@amadononline.net)\n\nUPDATING THE LAND USE AND DEVELOPMENT REGULATIONS AND OTHER DOCUMENTS\nNotices of hearings appear in the right sidebar (below on mobile). Documents in review and a record of these documents and revisions will appear in the respective Announcements. Some historical (revised) documents may also appear below. \nUPDATING THE TOWN PLAN\nThe Moretown Planning Commission last updated the Town Plan in January 2016 with support of a state Municipal Planning Grant. \nMoretown Housing snapshot: https://housingdata.org/profile/snapshot \nDOCUMENTS\n\nLHMP formal approval letter from FEMA\nMoretown Local Hazard Mitigation Plan (approved)\nMoretown Town Plan – Part 2 SB approved January 4-2016\nMoretown Town Plan – Part 1 SB approved January 4-2016\nPolicies – Moretown Town Plan (2015-11-03)\nLocal Hazard Mitigation Plan part 2\nLocal Hazard Mitigation Plan part 1
URL:https://mrvvillage.com/event/moretown-planning-commission-3rd-wednesday-3/
LOCATION:Moretown Town Hall\, 1147 Rte 100B\, Moretown\, VT\, 05660
CATEGORIES:Government
ATTACH;FMTTYPE=image/jpeg:https://mrvvillage.com/wp-content/uploads/2023/04/Moretown-town-hall-RqDbzu.tmp_.jpg
ORGANIZER;CN="Town%20of%20Moretown":MAILTO:townclerk@moretownvt.net
GEO:44.2693866;-72.7462061
X-APPLE-STRUCTURED-LOCATION;VALUE=URI;X-ADDRESS=Moretown Town Hall 1147 Rte 100B Moretown VT 05660;X-APPLE-RADIUS=500;X-TITLE=1147 Rte 100B:geo:-72.7462061,44.2693866
END:VEVENT
BEGIN:VEVENT
DTSTART;TZID=America/New_York:20230619T180000
DTEND;TZID=America/New_York:20230619T200000
DTSTAMP:20260422T194729
CREATED:20230412T183158Z
LAST-MODIFIED:20230518T031217Z
UID:10003590-1687197600-1687204800@mrvvillage.com
SUMMARY:Moretown Selectboard (3rd Monday)
DESCRIPTION:Meeting Schedule\n\nDate: 1st and 3rd Monday of the month (If the 1st or 3rd Monday falls on a town-recognized holiday\, the meeting will be on the first Tuesday following the holiday)\nTime: 6:00 pm\nPlace: Moretown Town Office – 79 School Street\nPlease note during Covid-19 all meetings are held via ZOOM\nhttps://us02web.zoom.us/j/6201042716\nVia ZOOM Meeting ID 620 104 2716\nOr to call in: 929-205-6099\n\nSelectboard Members\n\nTom Martin\, Chairman | 802-496-2599 (h)\nJohn Hoogenboom\, Vice Chairman | 802-223-6584 (h)\nDon Wexler | 802-496-7504 (h)\nCallie Streeter | 802-498-3437 (cell)\nRobin Campbell |\n\nSELECTBOARD CONTACT – SELECTBOARD ASSISTANT\nSasha Elwell\, 802-882-8219\nmselectboard@moretownvt.net
URL:https://mrvvillage.com/event/moretown-selectboard-3rd-monday-3/
LOCATION:Moretown Town Hall\, 1147 Rte 100B\, Moretown\, VT\, 05660
CATEGORIES:Government
ATTACH;FMTTYPE=image/jpeg:https://mrvvillage.com/wp-content/uploads/2023/04/Moretown-town-hall-RqDbzu.tmp_.jpg
ORGANIZER;CN="Town%20of%20Moretown":MAILTO:townclerk@moretownvt.net
GEO:44.2693866;-72.7462061
X-APPLE-STRUCTURED-LOCATION;VALUE=URI;X-ADDRESS=Moretown Town Hall 1147 Rte 100B Moretown VT 05660;X-APPLE-RADIUS=500;X-TITLE=1147 Rte 100B:geo:-72.7462061,44.2693866
END:VEVENT
BEGIN:VEVENT
DTSTART;TZID=America/New_York:20230615T183000
DTEND;TZID=America/New_York:20230615T203000
DTSTAMP:20260422T194729
CREATED:20230412T183144Z
LAST-MODIFIED:20230521T035603Z
UID:10003589-1686853800-1686861000@mrvvillage.com
SUMMARY:Moretown Development Review Board
DESCRIPTION:Meeting Schedule\n\nDate: Held on 3rd Thursday of the month as warned\nTime: 6:30 pm\nPlace: Town Office –79 School Street (adjacent to the Moretown School).\n\nDRB Members\n\nJohn Riley – Chair\nJim O’Neill\nDavid Russo\nPaula Mastroberardino-Woods\nGreg Nagurney\nCraig Oshkello (alternate)\n\nDRB Decisions \n\nMoretown Holdings\, LLC (2020)\nButsch\nButsch dissenting opinion\nTopNotch Properties/Junipers Fare\nMoretown Holdings\, LLC\nTrek Communities\, LLC\nLiving Tree Alliance\nSainsbury\nJolly Associates\nManchester\nH & H Real Estate
URL:https://mrvvillage.com/event/moretown-development-review-board-3/
LOCATION:Moretown Town Hall\, 1147 Rte 100B\, Moretown\, VT\, 05660
CATEGORIES:Government
ATTACH;FMTTYPE=image/jpeg:https://mrvvillage.com/wp-content/uploads/2023/04/Moretown-town-hall-RqDbzu.tmp_.jpg
ORGANIZER;CN="Town%20of%20Moretown":MAILTO:townclerk@moretownvt.net
GEO:44.2693866;-72.7462061
X-APPLE-STRUCTURED-LOCATION;VALUE=URI;X-ADDRESS=Moretown Town Hall 1147 Rte 100B Moretown VT 05660;X-APPLE-RADIUS=500;X-TITLE=1147 Rte 100B:geo:-72.7462061,44.2693866
END:VEVENT
BEGIN:VEVENT
DTSTART;TZID=America/New_York:20230607T183000
DTEND;TZID=America/New_York:20230607T203000
DTSTAMP:20260422T194729
CREATED:20230412T183057Z
LAST-MODIFIED:20230506T001247Z
UID:10003587-1686162600-1686169800@mrvvillage.com
SUMMARY:Moretown Planning Commission (1st Wednesday)
DESCRIPTION:Meeting Schedule\n\nDate: 1st and 3rd Wednesday of the month (beginning February 2020)\nTime: 6:30 pm\nPlace: Moretown Town Office – 79 School Street\n\nPC Members\n\nDavid Stapleton – Chair (d.stapleton@comcast.net)\nKaren Horn – Vice Chair (khorn@vlct.org)\nJohn Schmeltzer (metsch@comcast.net)\nDeborah Carroll (deborahcarroll59@gmail.com)\nClark Amadon (clark@amadononline.net)\n\nUPDATING THE LAND USE AND DEVELOPMENT REGULATIONS AND OTHER DOCUMENTS\nNotices of hearings appear in the right sidebar (below on mobile). Documents in review and a record of these documents and revisions will appear in the respective Announcements. Some historical (revised) documents may also appear below. \nUPDATING THE TOWN PLAN\nThe Moretown Planning Commission last updated the Town Plan in January 2016 with support of a state Municipal Planning Grant. \nMoretown Housing snapshot: https://housingdata.org/profile/snapshot \nDOCUMENTS\n\nLHMP formal approval letter from FEMA\nMoretown Local Hazard Mitigation Plan (approved)\nMoretown Town Plan – Part 2 SB approved January 4-2016\nMoretown Town Plan – Part 1 SB approved January 4-2016\nPolicies – Moretown Town Plan (2015-11-03)\nLocal Hazard Mitigation Plan part 2\nLocal Hazard Mitigation Plan part 1
URL:https://mrvvillage.com/event/moretown-planning-commission-1st-wednesday-2/
LOCATION:Moretown Town Hall\, 1147 Rte 100B\, Moretown\, VT\, 05660
CATEGORIES:Government
ATTACH;FMTTYPE=image/jpeg:https://mrvvillage.com/wp-content/uploads/2023/04/Moretown-town-hall-RqDbzu.tmp_.jpg
ORGANIZER;CN="Town%20of%20Moretown":MAILTO:townclerk@moretownvt.net
GEO:44.2693866;-72.7462061
X-APPLE-STRUCTURED-LOCATION;VALUE=URI;X-ADDRESS=Moretown Town Hall 1147 Rte 100B Moretown VT 05660;X-APPLE-RADIUS=500;X-TITLE=1147 Rte 100B:geo:-72.7462061,44.2693866
END:VEVENT
BEGIN:VEVENT
DTSTART;TZID=America/New_York:20230605T180000
DTEND;TZID=America/New_York:20230605T200000
DTSTAMP:20260422T194729
CREATED:20230412T183043Z
LAST-MODIFIED:20230602T063836Z
UID:10003586-1685988000-1685995200@mrvvillage.com
SUMMARY:Moretown Selectboard (1st Monday)
DESCRIPTION:Meeting Schedule\n\nDate: 1st and 3rd Monday of the month (If the 1st or 3rd Monday falls on a town-recognized holiday\, the meeting will be on the first Tuesday following the holiday)\nTime: 6:00 pm\nPlace: Moretown Town Office – 79 School Street\nPlease note during Covid-19 all meetings are held via ZOOM\nhttps://us02web.zoom.us/j/6201042716\nVia ZOOM Meeting ID 620 104 2716\nOr to call in: 929-205-6099\n\nSelectboard Members\n\nTom Martin\, Chairman | 802-496-2599 (h)\nJohn Hoogenboom\, Vice Chairman | 802-223-6584 (h)\nDon Wexler | 802-496-7504 (h)\nCallie Streeter | 802-498-3437 (cell)\nRobin Campbell |\n\nSELECTBOARD CONTACT – SELECTBOARD ASSISTANT\nSasha Elwell\, 802-882-8219\nmselectboard@moretownvt.net
URL:https://mrvvillage.com/event/moretown-selectboard-1st-monday-2/
LOCATION:Moretown Town Hall\, 1147 Rte 100B\, Moretown\, VT\, 05660
CATEGORIES:Government
ATTACH;FMTTYPE=image/jpeg:https://mrvvillage.com/wp-content/uploads/2023/04/Moretown-town-hall-RqDbzu.tmp_.jpg
ORGANIZER;CN="Town%20of%20Moretown":MAILTO:townclerk@moretownvt.net
GEO:44.2693866;-72.7462061
X-APPLE-STRUCTURED-LOCATION;VALUE=URI;X-ADDRESS=Moretown Town Hall 1147 Rte 100B Moretown VT 05660;X-APPLE-RADIUS=500;X-TITLE=1147 Rte 100B:geo:-72.7462061,44.2693866
END:VEVENT
BEGIN:VEVENT
DTSTART;TZID=America/New_York:20230518T183000
DTEND;TZID=America/New_York:20230518T203000
DTSTAMP:20260422T194729
CREATED:20230412T182858Z
LAST-MODIFIED:20230518T200824Z
UID:10003584-1684434600-1684441800@mrvvillage.com
SUMMARY:Moretown Development Review Board
DESCRIPTION:Meeting Schedule\n\nDate: Held on 3rd Thursday of the month as warned\nTime: 6:30 pm\nPlace: Town Office –79 School Street (adjacent to the Moretown School).\n\nDRB Members\n\nJohn Riley – Chair\nJim O’Neill\nDavid Russo\nPaula Mastroberardino-Woods\nGreg Nagurney\nCraig Oshkello (alternate)\n\nDRB Decisions \n\nMoretown Holdings\, LLC (2020)\nButsch\nButsch dissenting opinion\nTopNotch Properties/Junipers Fare\nMoretown Holdings\, LLC\nTrek Communities\, LLC\nLiving Tree Alliance\nSainsbury\nJolly Associates\nManchester\nH & H Real Estate
URL:https://mrvvillage.com/event/moretown-development-review-board-2/
LOCATION:Moretown Town Hall\, 1147 Rte 100B\, Moretown\, VT\, 05660
CATEGORIES:Government
ATTACH;FMTTYPE=image/jpeg:https://mrvvillage.com/wp-content/uploads/2023/04/Moretown-town-hall-RqDbzu.tmp_.jpg
ORGANIZER;CN="Town%20of%20Moretown":MAILTO:townclerk@moretownvt.net
GEO:44.2693866;-72.7462061
X-APPLE-STRUCTURED-LOCATION;VALUE=URI;X-ADDRESS=Moretown Town Hall 1147 Rte 100B Moretown VT 05660;X-APPLE-RADIUS=500;X-TITLE=1147 Rte 100B:geo:-72.7462061,44.2693866
END:VEVENT
BEGIN:VEVENT
DTSTART;TZID=America/New_York:20230517T183000
DTEND;TZID=America/New_York:20230517T203000
DTSTAMP:20260422T194729
CREATED:20230412T182858Z
LAST-MODIFIED:20230517T195318Z
UID:10003583-1684348200-1684355400@mrvvillage.com
SUMMARY:Moretown Planning Commission (3rd Wednesday)
DESCRIPTION:Meeting Schedule\n\nDate: 1st and 3rd Wednesday of the month (beginning February 2020)\nTime: 6:30 pm\nPlace: Moretown Town Office – 79 School Street\n\nPC Members\n\nDavid Stapleton – Chair (d.stapleton@comcast.net)\nKaren Horn – Vice Chair (khorn@vlct.org)\nJohn Schmeltzer (metsch@comcast.net)\nDeborah Carroll (deborahcarroll59@gmail.com)\nClark Amadon (clark@amadononline.net)\n\nUPDATING THE LAND USE AND DEVELOPMENT REGULATIONS AND OTHER DOCUMENTS\nNotices of hearings appear in the right sidebar (below on mobile). Documents in review and a record of these documents and revisions will appear in the respective Announcements. Some historical (revised) documents may also appear below. \nUPDATING THE TOWN PLAN\nThe Moretown Planning Commission last updated the Town Plan in January 2016 with support of a state Municipal Planning Grant. \nMoretown Housing snapshot: https://housingdata.org/profile/snapshot \nDOCUMENTS\n\nLHMP formal approval letter from FEMA\nMoretown Local Hazard Mitigation Plan (approved)\nMoretown Town Plan – Part 2 SB approved January 4-2016\nMoretown Town Plan – Part 1 SB approved January 4-2016\nPolicies – Moretown Town Plan (2015-11-03)\nLocal Hazard Mitigation Plan part 2\nLocal Hazard Mitigation Plan part 1
URL:https://mrvvillage.com/event/moretown-planning-commission-3rd-wednesday-2/
LOCATION:Moretown Town Hall\, 1147 Rte 100B\, Moretown\, VT\, 05660
CATEGORIES:Government
ATTACH;FMTTYPE=image/jpeg:https://mrvvillage.com/wp-content/uploads/2023/04/Moretown-town-hall-RqDbzu.tmp_.jpg
ORGANIZER;CN="Town%20of%20Moretown":MAILTO:townclerk@moretownvt.net
GEO:44.2693866;-72.7462061
X-APPLE-STRUCTURED-LOCATION;VALUE=URI;X-ADDRESS=Moretown Town Hall 1147 Rte 100B Moretown VT 05660;X-APPLE-RADIUS=500;X-TITLE=1147 Rte 100B:geo:-72.7462061,44.2693866
END:VEVENT
END:VCALENDAR