BEGIN:VCALENDAR
VERSION:2.0
PRODID:-//The Mad River Valley Village - ECPv6.0.13//NONSGML v1.0//EN
CALSCALE:GREGORIAN
METHOD:PUBLISH
X-ORIGINAL-URL:https://mrvvillage.com
X-WR-CALDESC:Events for The Mad River Valley Village
REFRESH-INTERVAL;VALUE=DURATION:PT1H
X-Robots-Tag:noindex
X-PUBLISHED-TTL:PT1H
BEGIN:VTIMEZONE
TZID:America/New_York
BEGIN:DAYLIGHT
TZOFFSETFROM:-0500
TZOFFSETTO:-0400
TZNAME:EDT
DTSTART:20230312T070000
END:DAYLIGHT
BEGIN:STANDARD
TZOFFSETFROM:-0400
TZOFFSETTO:-0500
TZNAME:EST
DTSTART:20231105T060000
END:STANDARD
BEGIN:DAYLIGHT
TZOFFSETFROM:-0500
TZOFFSETTO:-0400
TZNAME:EDT
DTSTART:20240310T070000
END:DAYLIGHT
BEGIN:STANDARD
TZOFFSETFROM:-0400
TZOFFSETTO:-0500
TZNAME:EST
DTSTART:20241103T060000
END:STANDARD
BEGIN:DAYLIGHT
TZOFFSETFROM:-0500
TZOFFSETTO:-0400
TZNAME:EDT
DTSTART:20250309T070000
END:DAYLIGHT
BEGIN:STANDARD
TZOFFSETFROM:-0400
TZOFFSETTO:-0500
TZNAME:EST
DTSTART:20251102T060000
END:STANDARD
BEGIN:DAYLIGHT
TZOFFSETFROM:-0500
TZOFFSETTO:-0400
TZNAME:EDT
DTSTART:20260308T070000
END:DAYLIGHT
BEGIN:STANDARD
TZOFFSETFROM:-0400
TZOFFSETTO:-0500
TZNAME:EST
DTSTART:20261101T060000
END:STANDARD
END:VTIMEZONE
BEGIN:VEVENT
DTSTART;TZID=America/New_York:20260315T090000
DTEND;TZID=America/New_York:20260315T150000
DTSTAMP:20260421T190224
CREATED:20260107T224416Z
LAST-MODIFIED:20260315T220836Z
UID:10009683-1773565200-1773586800@mrvvillage.com
SUMMARY:Backcountry Ski Tour: Spring Special
DESCRIPTION:Our guided instructional tour will bring you to some of Stowe’s premier backcountry on a full-day instructional ski adventure. Choose the equipment you would like to ski on during your tour\, lightweight 75mm 3-pin telemark equipment or AT equipment. Umiak’s certified backcountry guide will teach proper safety protocol and the necessary safety gear needed before heading into the backcountry. Learn valuable skills in applying\, removing\, and storing climbing skins or caring for fish scale backcountry gear and operation of the binding as well as other important BC equipment. We will work on different climbing techniques as well as an efficient skin to ski transition prior to a powder-filled downhill run. Intended for intermediate\, to advanced alpine skiers and riders that want to expand their comfort level and skills in the backcountry. \nChoose from one of our four scheduled event days or contact us to customize your own private tour. \nBeginners Day: Sunday\, Jan 25\, 9:00 AM – 3:00 PM\nPerfect for newcomers\, this day offers foundational skills and confidence-building lessons to get you started comfortably. \nTrees & Skis: Sunday\, Feb 8\, 9:00 AM – 3:00 PM\nSpend the day learning how to ski safely among the trees\, focusing on techniques to navigate wooded areas. We’ll also explore the different tree species in the Green Mountains\, discuss the impact of deforestation\, and learn about conservation efforts! \nWomen’s Only Day: Sunday\, March 1\, 9:00 AM – 3:00 PM\nA supportive environment designed to empower women through tailored instruction\, camaraderie\, and shared outdoor experiences. This tour will be all women\, including the instructor! \nSpring Special: Sunday\, March 15\, 9:00 AM – 3:00 PM\nCelebrate the season with this scenic adventure that showcases the beauty of springtime in the forests of Vermont. \nDuration: 6 Hours 9:00 AM – 3:00 PM \nPricing: $189 Per Person \nAdvance Reservation Required. Please contact us for more information at 802-253-2317
URL:https://mrvvillage.com/event/backcountry-ski-tour-spring-special/
LOCATION:Umiak Outfitters\, 849 South Main Street\, Stowe\, Vermont\, 05672\, United States
CATEGORIES:Sports & Recreation
ATTACH;FMTTYPE=image/jpeg:https://mrvvillage.com/wp-content/uploads/2026/01/Umiak-Outdoor-Outfitters-Backcountry-Ski-1-OyXmyO.jpg
ORGANIZER;CN="Umiak%20Outfitters":MAILTO:info@umiak.com
GEO:44.4548472;-72.6949537
X-APPLE-STRUCTURED-LOCATION;VALUE=URI;X-ADDRESS=Umiak Outfitters 849 South Main Street Stowe Vermont 05672 United States;X-APPLE-RADIUS=500;X-TITLE=849 South Main Street:geo:-72.6949537,44.4548472
END:VEVENT
BEGIN:VEVENT
DTSTART;TZID=America/New_York:20260301T090000
DTEND;TZID=America/New_York:20260301T150000
DTSTAMP:20260421T190224
CREATED:20260107T224323Z
LAST-MODIFIED:20260301T183831Z
UID:10009682-1772355600-1772377200@mrvvillage.com
SUMMARY:Backcountry Ski Tour: Women’s Only Day
DESCRIPTION:Our guided instructional tour will bring you to some of Stowe’s premier backcountry on a full-day instructional ski adventure. Choose the equipment you would like to ski on during your tour\, lightweight 75mm 3-pin telemark equipment or AT equipment. Umiak’s certified backcountry guide will teach proper safety protocol and the necessary safety gear needed before heading into the backcountry. Learn valuable skills in applying\, removing\, and storing climbing skins or caring for fish scale backcountry gear and operation of the binding as well as other important BC equipment. We will work on different climbing techniques as well as an efficient skin to ski transition prior to a powder-filled downhill run. Intended for intermediate\, to advanced alpine skiers and riders that want to expand their comfort level and skills in the backcountry. \nChoose from one of our four scheduled event days or contact us to customize your own private tour. \nBeginners Day: Sunday\, Jan 25\, 9:00 AM – 3:00 PM\nPerfect for newcomers\, this day offers foundational skills and confidence-building lessons to get you started comfortably. \nTrees & Skis: Sunday\, Feb 8\, 9:00 AM – 3:00 PM\nSpend the day learning how to ski safely among the trees\, focusing on techniques to navigate wooded areas. We’ll also explore the different tree species in the Green Mountains\, discuss the impact of deforestation\, and learn about conservation efforts! \nWomen’s Only Day: Sunday\, March 1\, 9:00 AM – 3:00 PM\nA supportive environment designed to empower women through tailored instruction\, camaraderie\, and shared outdoor experiences. This tour will be all women\, including the instructor! \nSpring Special: Sunday\, March 15\, 9:00 AM – 3:00 PM\nCelebrate the season with this scenic adventure that showcases the beauty of springtime in the forests of Vermont. \nDuration: 6 Hours 9:00 AM – 3:00 PM \nPricing: $189 Per Person \nAdvance Reservation Required. Please contact us for more information at 802-253-2317
URL:https://mrvvillage.com/event/backcountry-ski-tour-womens-only-day/
LOCATION:Umiak Outfitters\, 849 South Main Street\, Stowe\, Vermont\, 05672\, United States
CATEGORIES:Sports & Recreation
ATTACH;FMTTYPE=image/jpeg:https://mrvvillage.com/wp-content/uploads/2026/01/Umiak-Outdoor-Outfitters-Backcountry-Ski-Ryan-Carr-IMG_20230128_122842253_HDR-copy-CoKeoE.jpg
ORGANIZER;CN="Umiak%20Outfitters":MAILTO:info@umiak.com
GEO:44.4548472;-72.6949537
X-APPLE-STRUCTURED-LOCATION;VALUE=URI;X-ADDRESS=Umiak Outfitters 849 South Main Street Stowe Vermont 05672 United States;X-APPLE-RADIUS=500;X-TITLE=849 South Main Street:geo:-72.6949537,44.4548472
END:VEVENT
BEGIN:VEVENT
DTSTART;TZID=America/New_York:20260208T090000
DTEND;TZID=America/New_York:20260208T150000
DTSTAMP:20260421T190224
CREATED:20260107T224159Z
LAST-MODIFIED:20260208T132332Z
UID:10009680-1770541200-1770562800@mrvvillage.com
SUMMARY:Backcountry Ski Tour: Trees & Skis
DESCRIPTION:Our guided instructional tour will bring you to some of Stowe’s premier backcountry on a full-day instructional ski adventure. Choose the equipment you would like to ski on during your tour\, lightweight 75mm 3-pin telemark equipment or AT equipment. Umiak’s certified backcountry guide will teach proper safety protocol and the necessary safety gear needed before heading into the backcountry. Learn valuable skills in applying\, removing\, and storing climbing skins or caring for fish scale backcountry gear and operation of the binding as well as other important BC equipment. We will work on different climbing techniques as well as an efficient skin to ski transition prior to a powder-filled downhill run. Intended for intermediate\, to advanced alpine skiers and riders that want to expand their comfort level and skills in the backcountry. \nChoose from one of our four scheduled event days or contact us to customize your own private tour. \nBeginners Day: Sunday\, Jan 25\, 9:00 AM – 3:00 PM\nPerfect for newcomers\, this day offers foundational skills and confidence-building lessons to get you started comfortably. \nTrees & Skis: Sunday\, Feb 8\, 9:00 AM – 3:00 PM\nSpend the day learning how to ski safely among the trees\, focusing on techniques to navigate wooded areas. We’ll also explore the different tree species in the Green Mountains\, discuss the impact of deforestation\, and learn about conservation efforts! \nWomen’s Only Day: Sunday\, March 1\, 9:00 AM – 3:00 PM\nA supportive environment designed to empower women through tailored instruction\, camaraderie\, and shared outdoor experiences. This tour will be all women\, including the instructor! \nSpring Special: Sunday\, March 15\, 9:00 AM – 3:00 PM\nCelebrate the season with this scenic adventure that showcases the beauty of springtime in the forests of Vermont.\nDuration: 6 Hours 9:00 AM – 3:00 PM \nPricing: $189 Per Person \nAdvance Reservation Required. Please contact us for more information at 802-253-2317
URL:https://mrvvillage.com/event/backcountry-ski-tour-trees-skis/
LOCATION:Umiak Outfitters\, 849 South Main Street\, Stowe\, Vermont\, 05672\, United States
CATEGORIES:Sports & Recreation
ATTACH;FMTTYPE=image/jpeg:https://mrvvillage.com/wp-content/uploads/2026/01/Umiak-Outdoor-Outfitters-Backcountry-Ski-IMG_0410-copy-VbQZXZ.jpg
ORGANIZER;CN="Umiak%20Outfitters":MAILTO:info@umiak.com
GEO:44.4548472;-72.6949537
X-APPLE-STRUCTURED-LOCATION;VALUE=URI;X-ADDRESS=Umiak Outfitters 849 South Main Street Stowe Vermont 05672 United States;X-APPLE-RADIUS=500;X-TITLE=849 South Main Street:geo:-72.6949537,44.4548472
END:VEVENT
BEGIN:VEVENT
DTSTART;TZID=America/New_York:20260125T090000
DTEND;TZID=America/New_York:20260125T150000
DTSTAMP:20260421T190224
CREATED:20260107T224037Z
LAST-MODIFIED:20260125T220835Z
UID:10009678-1769331600-1769353200@mrvvillage.com
SUMMARY:Backcountry Ski Tour: Beginners Day
DESCRIPTION:Our guided instructional tour will bring you to some of Stowe’s premier backcountry on a full-day instructional ski adventure. Choose the equipment you would like to ski on during your tour\, lightweight 75mm 3-pin telemark equipment or AT equipment. Umiak’s certified backcountry guide will teach proper safety protocol and the necessary safety gear needed before heading into the backcountry. Learn valuable skills in applying\, removing\, and storing climbing skins or caring for fish scale backcountry gear and operation of the binding as well as other important BC equipment. We will work on different climbing techniques as well as an efficient skin to ski transition prior to a powder-filled downhill run. Intended for intermediate\, to advanced alpine skiers and riders that want to expand their comfort level and skills in the backcountry. \nChoose from one of our four scheduled event days or contact us to customize your own private tour. \nBeginners Day: Sunday\, Jan 25\, 9:00 AM – 3:00 PM\nPerfect for newcomers\, this day offers foundational skills and confidence-building lessons to get you started comfortably. \nTrees & Skis: Sunday\, Feb 8\, 9:00 AM – 3:00 PM\nSpend the day learning how to ski safely among the trees\, focusing on techniques to navigate wooded areas. We’ll also explore the different tree species in the Green Mountains\, discuss the impact of deforestation\, and learn about conservation efforts! \nWomen’s Only Day: Sunday\, March 1\, 9:00 AM – 3:00 PM\nA supportive environment designed to empower women through tailored instruction\, camaraderie\, and shared outdoor experiences. This tour will be all women\, including the instructor! \nSpring Special: Sunday\, March 15\, 9:00 AM – 3:00 PM\nCelebrate the season with this scenic adventure that showcases the beauty of springtime in the forests of Vermont.\nDuration: 6 Hours 9:00 AM – 3:00 PM \nPricing: $189 Per Person \nAdvance Reservation Required. Please contact us for more information at 802-253-2317
URL:https://mrvvillage.com/event/backcountry-ski-tour-beginners-day/
LOCATION:Umiak Outfitters\, 849 South Main Street\, Stowe\, Vermont\, 05672\, United States
CATEGORIES:Sports & Recreation
ATTACH;FMTTYPE=image/jpeg:https://mrvvillage.com/wp-content/uploads/2026/01/Umiak-Outdoor-Outfitters-Backcountry-Ski-IMG_0410-copy-2-zMdE3P.jpg
ORGANIZER;CN="Umiak%20Outfitters":MAILTO:info@umiak.com
GEO:44.4548472;-72.6949537
X-APPLE-STRUCTURED-LOCATION;VALUE=URI;X-ADDRESS=Umiak Outfitters 849 South Main Street Stowe Vermont 05672 United States;X-APPLE-RADIUS=500;X-TITLE=849 South Main Street:geo:-72.6949537,44.4548472
END:VEVENT
BEGIN:VEVENT
DTSTART;TZID=America/New_York:20241026T143000
DTEND;TZID=America/New_York:20241026T150000
DTSTAMP:20260421T190224
CREATED:20241008T010934Z
LAST-MODIFIED:20241026T143810Z
UID:10007121-1729953000-1729954800@mrvvillage.com
SUMMARY:Sled Dog Meet and Greet
DESCRIPTION:Elevate your spirits and embrace the joy of companionship by joining Siber Sled Dogs and Umiak for a Puppy Meet and Greet! This experience features an enchanting new litter of Siberian Husky puppies! Immerse yourself in the delightful charm and playful energy these adorable pups bring\, creating a truly unforgettable experience. This exclusive opportunity is available for a limited time and is a great activity for families and kids! Secure your reservation today and be a part of this unique celebration of joy and connection! While the snow may not have arrived just yet\, these wonderful puppies are here to warm your heart and bring a smile to your face!\nWhat’s included \nPuppy program tells the story of how the puppies of Siber Sled Dogs have spread joy throughout the community. Playtime and interaction with the puppies included! \nLocation\nUmiak Outdoor Outfitters\n849 South Main Street\,\nStowe\, Vermont 05672 \nOctober 26th\, 2024\n2:30 PM – 3:00 PM\n3:30 PM – 4:00 PM \nAdult: $39 Per Person\nChild: $29 Per Person \nReserve online through our calendar or call 802-253-2317
URL:https://mrvvillage.com/event/sled-dog-meet-and-greet/
LOCATION:Umiak Outfitters\, 849 South Main Street\, Stowe\, Vermont\, 05672\, United States
CATEGORIES:Community,Sports & Recreation
ATTACH;FMTTYPE=image/jpeg:https://mrvvillage.com/wp-content/uploads/2024/10/2-G7fUnz.tmp_.jpg
ORGANIZER;CN="Umiak%20Outfitters":MAILTO:info@umiak.com
GEO:44.4548472;-72.6949537
X-APPLE-STRUCTURED-LOCATION;VALUE=URI;X-ADDRESS=Umiak Outfitters 849 South Main Street Stowe Vermont 05672 United States;X-APPLE-RADIUS=500;X-TITLE=849 South Main Street:geo:-72.6949537,44.4548472
END:VEVENT
BEGIN:VEVENT
DTSTART;TZID=America/New_York:20230904T000000
DTEND;TZID=America/New_York:20230904T235959
DTSTAMP:20260421T190224
CREATED:20230830T215414Z
LAST-MODIFIED:20230904T230827Z
UID:10005076-1693785600-1693871999@mrvvillage.com
SUMMARY:Mad River Tubing Shuttle
DESCRIPTION:Come spend the day on a leisurely float down the Mad River. Umiak Outdoor Outfitters is providing this tour as an option in place of our usual tours\, which are presently recuperating from the recent floods in Vermont. Each day from Thursday through Monday we run three tours at 10 am\, 12 pm\, and 2 pm. Based on water levels and the time of the season we average this tour taking between 2-3 hours. Guests will meet us at our takeout in Waitsfield. From there we will shuttle you upriver and drop you off at our put-in. Your shuttle driver will go over some river safety and explain the takeout point in detail. From there the rest is up to you! Enjoy the scenic float on the Mad River! Float duration is dependent on water levels. \nReservations are Required
URL:https://mrvvillage.com/event/mad-river-tubing-shuttle-5/
LOCATION:1824 House\, 2150 Main St.\, Waitsfield\, VT\, 05673
CATEGORIES:Sports & Recreation
ATTACH;FMTTYPE=image/jpeg:https://mrvvillage.com/wp-content/uploads/2023/08/Tubing-IMG_3894-0vcA23.tmp_.jpg
ORGANIZER;CN="Umiak%20Outfitters":MAILTO:info@umiak.com
GEO:44.1926386;-72.7798479
X-APPLE-STRUCTURED-LOCATION;VALUE=URI;X-ADDRESS=1824 House 2150 Main St. Waitsfield VT 05673;X-APPLE-RADIUS=500;X-TITLE=2150 Main St.:geo:-72.7798479,44.1926386
END:VEVENT
BEGIN:VEVENT
DTSTART;TZID=America/New_York:20230903T000000
DTEND;TZID=America/New_York:20230903T235959
DTSTAMP:20260421T190224
CREATED:20230830T215413Z
LAST-MODIFIED:20230903T225449Z
UID:10005075-1693699200-1693785599@mrvvillage.com
SUMMARY:Mad River Tubing Shuttle
DESCRIPTION:Come spend the day on a leisurely float down the Mad River. Umiak Outdoor Outfitters is providing this tour as an option in place of our usual tours\, which are presently recuperating from the recent floods in Vermont. Each day from Thursday through Monday we run three tours at 10 am\, 12 pm\, and 2 pm. Based on water levels and the time of the season we average this tour taking between 2-3 hours. Guests will meet us at our takeout in Waitsfield. From there we will shuttle you upriver and drop you off at our put-in. Your shuttle driver will go over some river safety and explain the takeout point in detail. From there the rest is up to you! Enjoy the scenic float on the Mad River! Float duration is dependent on water levels. \nReservations are Required
URL:https://mrvvillage.com/event/mad-river-tubing-shuttle-4/
LOCATION:1824 House\, 2150 Main St.\, Waitsfield\, VT\, 05673
CATEGORIES:Sports & Recreation
ATTACH;FMTTYPE=image/jpeg:https://mrvvillage.com/wp-content/uploads/2023/08/Tubing-IMG_3894-0vcA23.tmp_.jpg
ORGANIZER;CN="Umiak%20Outfitters":MAILTO:info@umiak.com
GEO:44.1926386;-72.7798479
X-APPLE-STRUCTURED-LOCATION;VALUE=URI;X-ADDRESS=1824 House 2150 Main St. Waitsfield VT 05673;X-APPLE-RADIUS=500;X-TITLE=2150 Main St.:geo:-72.7798479,44.1926386
END:VEVENT
BEGIN:VEVENT
DTSTART;TZID=America/New_York:20230902T000000
DTEND;TZID=America/New_York:20230902T235959
DTSTAMP:20260421T190224
CREATED:20230830T215400Z
LAST-MODIFIED:20230902T223950Z
UID:10005074-1693612800-1693699199@mrvvillage.com
SUMMARY:Mad River Tubing Shuttle
DESCRIPTION:Come spend the day on a leisurely float down the Mad River. Umiak Outdoor Outfitters is providing this tour as an option in place of our usual tours\, which are presently recuperating from the recent floods in Vermont. Each day from Thursday through Monday we run three tours at 10 am\, 12 pm\, and 2 pm. Based on water levels and the time of the season we average this tour taking between 2-3 hours. Guests will meet us at our takeout in Waitsfield. From there we will shuttle you upriver and drop you off at our put-in. Your shuttle driver will go over some river safety and explain the takeout point in detail. From there the rest is up to you! Enjoy the scenic float on the Mad River! Float duration is dependent on water levels. \nReservations are Required
URL:https://mrvvillage.com/event/mad-river-tubing-shuttle-3/
LOCATION:1824 House\, 2150 Main St.\, Waitsfield\, VT\, 05673
CATEGORIES:Sports & Recreation
ATTACH;FMTTYPE=image/jpeg:https://mrvvillage.com/wp-content/uploads/2023/08/Tubing-IMG_3894-0vcA23.tmp_.jpg
ORGANIZER;CN="Umiak%20Outfitters":MAILTO:info@umiak.com
GEO:44.1926386;-72.7798479
X-APPLE-STRUCTURED-LOCATION;VALUE=URI;X-ADDRESS=1824 House 2150 Main St. Waitsfield VT 05673;X-APPLE-RADIUS=500;X-TITLE=2150 Main St.:geo:-72.7798479,44.1926386
END:VEVENT
BEGIN:VEVENT
DTSTART;TZID=America/New_York:20230901T000000
DTEND;TZID=America/New_York:20230901T235959
DTSTAMP:20260421T190224
CREATED:20230830T215346Z
LAST-MODIFIED:20230901T222345Z
UID:10005073-1693526400-1693612799@mrvvillage.com
SUMMARY:Mad River Tubing Shuttle
DESCRIPTION:Come spend the day on a leisurely float down the Mad River. Umiak Outdoor Outfitters is providing this tour as an option in place of our usual tours\, which are presently recuperating from the recent floods in Vermont. Each day from Thursday through Monday we run three tours at 10 am\, 12 pm\, and 2 pm. Based on water levels and the time of the season we average this tour taking between 2-3 hours. Guests will meet us at our takeout in Waitsfield. From there we will shuttle you upriver and drop you off at our put-in. Your shuttle driver will go over some river safety and explain the takeout point in detail. From there the rest is up to you! Enjoy the scenic float on the Mad River! Float duration is dependent on water levels. \nReservations are Required
URL:https://mrvvillage.com/event/mad-river-tubing-shuttle-2/
LOCATION:1824 House\, 2150 Main St.\, Waitsfield\, VT\, 05673
CATEGORIES:Sports & Recreation
ATTACH;FMTTYPE=image/jpeg:https://mrvvillage.com/wp-content/uploads/2023/08/Tubing-IMG_3894-0vcA23.tmp_.jpg
ORGANIZER;CN="Umiak%20Outfitters":MAILTO:info@umiak.com
GEO:44.1926386;-72.7798479
X-APPLE-STRUCTURED-LOCATION;VALUE=URI;X-ADDRESS=1824 House 2150 Main St. Waitsfield VT 05673;X-APPLE-RADIUS=500;X-TITLE=2150 Main St.:geo:-72.7798479,44.1926386
END:VEVENT
BEGIN:VEVENT
DTSTART;TZID=America/New_York:20230831T000000
DTEND;TZID=America/New_York:20230831T235959
DTSTAMP:20260421T190224
CREATED:20230830T215327Z
LAST-MODIFIED:20230831T220833Z
UID:10005072-1693440000-1693526399@mrvvillage.com
SUMMARY:Mad River Tubing Shuttle
DESCRIPTION:Come spend the day on a leisurely float down the Mad River. Umiak Outdoor Outfitters is providing this tour as an option in place of our usual tours\, which are presently recuperating from the recent floods in Vermont. Each day from Thursday through Monday we run three tours at 10 am\, 12 pm\, and 2 pm. Based on water levels and the time of the season we average this tour taking between 2-3 hours. Guests will meet us at our takeout in Waitsfield. From there we will shuttle you upriver and drop you off at our put-in. Your shuttle driver will go over some river safety and explain the takeout point in detail. From there the rest is up to you! Enjoy the scenic float on the Mad River! Float duration is dependent on water levels. \nReservations are Required
URL:https://mrvvillage.com/event/mad-river-tubing-shuttle/
LOCATION:1824 House\, 2150 Main St.\, Waitsfield\, VT\, 05673
CATEGORIES:Sports & Recreation
ATTACH;FMTTYPE=image/jpeg:https://mrvvillage.com/wp-content/uploads/2023/08/Tubing-IMG_3894-0vcA23.tmp_.jpg
ORGANIZER;CN="Umiak%20Outfitters":MAILTO:info@umiak.com
GEO:44.1926386;-72.7798479
X-APPLE-STRUCTURED-LOCATION;VALUE=URI;X-ADDRESS=1824 House 2150 Main St. Waitsfield VT 05673;X-APPLE-RADIUS=500;X-TITLE=2150 Main St.:geo:-72.7798479,44.1926386
END:VEVENT
END:VCALENDAR