BEGIN:VCALENDAR
VERSION:2.0
PRODID:-//The Mad River Valley Village - ECPv6.0.13//NONSGML v1.0//EN
CALSCALE:GREGORIAN
METHOD:PUBLISH
X-WR-CALNAME:The Mad River Valley Village
X-ORIGINAL-URL:https://mrvvillage.com
X-WR-CALDESC:Events for The Mad River Valley Village
REFRESH-INTERVAL;VALUE=DURATION:PT1H
X-Robots-Tag:noindex
X-PUBLISHED-TTL:PT1H
BEGIN:VTIMEZONE
TZID:America/New_York
BEGIN:DAYLIGHT
TZOFFSETFROM:-0500
TZOFFSETTO:-0400
TZNAME:EDT
DTSTART:20260308T070000
END:DAYLIGHT
BEGIN:STANDARD
TZOFFSETFROM:-0400
TZOFFSETTO:-0500
TZNAME:EST
DTSTART:20261101T060000
END:STANDARD
END:VTIMEZONE
BEGIN:VEVENT
DTSTART;TZID=America/New_York:20260422T181500
DTEND;TZID=America/New_York:20260422T201500
DTSTAMP:20260421T184214
CREATED:20260127T224529Z
LAST-MODIFIED:20260421T223822Z
UID:10009816-1776881700-1776888900@mrvvillage.com
SUMMARY:Life Drawing Wednesdays
DESCRIPTION:✍🏻 Life Drawing Wednesdays presented by The Valley Artists Guild \nThe very popular Wednesday Night Drawing Sessions will resume on Feb\, 4\, 2025. This is a self-directed session. No instruction or critiques are offered but conversations and sharing within the group are sure to inspire 😎 \nSubjects vary every two weeks: two weeks of Live Models\, two weeks of Still Life or equivalent. All media are welcome except\nphotography. \nWHEN\nEvery Wednesday Evening from 6:15 – 8:15 pm. Classes begin on Feb 4th. \nWHERE\nThe UCC Waitsfield Village Meeting House. Located in Historic Waitsfield Village across from the VG. Parking is in back. \nCOST\nThe cost is $15/visit. Cash only Please. \n#madrivervalley #vermontartist #livedrawing #madriverartists #vtlivedrawing \nPhoto / drawing courtesy Loida Alvarez (@Loida.art) — copyright 2026
URL:https://mrvvillage.com/event/life-drawing-wednesdays-12/
LOCATION:Waitsfield Church Village Meeting Room\, Route 100\, Waitsfield\, VT\, 05673
CATEGORIES:Arts & Entertainment
ATTACH;FMTTYPE=image/jpeg:https://mrvvillage.com/wp-content/uploads/2026/01/sketch-loida-alvarez-GUILD-web-T2l9NL.jpg
ORGANIZER;CN="Valley%20Artists%20Guild":MAILTO:info@valleyartistsguild.com
GEO:44.2017815;-72.8121321
X-APPLE-STRUCTURED-LOCATION;VALUE=URI;X-ADDRESS=Waitsfield Church Village Meeting Room Route 100 Waitsfield VT 05673;X-APPLE-RADIUS=500;X-TITLE=Route 100:geo:-72.8121321,44.2017815
END:VEVENT
BEGIN:VEVENT
DTSTART;TZID=America/New_York:20260429T181500
DTEND;TZID=America/New_York:20260429T201500
DTSTAMP:20260421T184214
CREATED:20260129T040015Z
LAST-MODIFIED:20260421T223851Z
UID:10009819-1777486500-1777493700@mrvvillage.com
SUMMARY:Life Drawing Wednesdays
DESCRIPTION:✍🏻 Life Drawing Wednesdays presented by The Valley Artists Guild \nThe very popular Wednesday Night Drawing Sessions will resume on Feb\, 4\, 2025. This is a self-directed session. No instruction or critiques are offered but conversations and sharing within the group are sure to inspire 😎 \nSubjects vary every two weeks: two weeks of Live Models\, two weeks of Still Life or equivalent. All media are welcome except\nphotography. \nWHEN\nEvery Wednesday Evening from 6:15 – 8:15 pm. Classes begin on Feb 4th. \nWHERE\nThe UCC Waitsfield Village Meeting House. Located in Historic Waitsfield Village across from the VG. Parking is in back. \nCOST\nThe cost is $15/visit. Cash only Please. \n#madrivervalley #vermontartist #livedrawing #madriverartists #vtlivedrawing \nPhoto / drawing courtesy Loida Alvarez (@Loida.art) — copyright 2026
URL:https://mrvvillage.com/event/life-drawing-wednesdays-13/
LOCATION:Waitsfield Church Village Meeting Room\, Route 100\, Waitsfield\, VT\, 05673
CATEGORIES:Arts & Entertainment
ATTACH;FMTTYPE=image/jpeg:https://mrvvillage.com/wp-content/uploads/2026/01/sketch-loida-alvarez-GUILD-web-T2l9NL.jpg
ORGANIZER;CN="Valley%20Artists%20Guild":MAILTO:info@valleyartistsguild.com
GEO:44.2017815;-72.8121321
X-APPLE-STRUCTURED-LOCATION;VALUE=URI;X-ADDRESS=Waitsfield Church Village Meeting Room Route 100 Waitsfield VT 05673;X-APPLE-RADIUS=500;X-TITLE=Route 100:geo:-72.8121321,44.2017815
END:VEVENT
BEGIN:VEVENT
DTSTART;TZID=America/New_York:20260506T181500
DTEND;TZID=America/New_York:20260506T201500
DTSTAMP:20260421T184214
CREATED:20260205T054502Z
LAST-MODIFIED:20260421T223906Z
UID:10009848-1778091300-1778098500@mrvvillage.com
SUMMARY:Life Drawing Wednesdays
DESCRIPTION:✍🏻 Life Drawing Wednesdays presented by The Valley Artists Guild \nThe very popular Wednesday Night Drawing Sessions will resume on Feb\, 4\, 2025. This is a self-directed session. No instruction or critiques are offered but conversations and sharing within the group are sure to inspire 😎 \nSubjects vary every two weeks: two weeks of Live Models\, two weeks of Still Life or equivalent. All media are welcome except\nphotography. \nWHEN\nEvery Wednesday Evening from 6:15 – 8:15 pm. Classes begin on Feb 4th. \nWHERE\nThe UCC Waitsfield Village Meeting House. Located in Historic Waitsfield Village across from the VG. Parking is in back. \nCOST\nThe cost is $15/visit. Cash only Please. \n#madrivervalley #vermontartist #livedrawing #madriverartists #vtlivedrawing \nPhoto / drawing courtesy Loida Alvarez (@Loida.art) — copyright 2026
URL:https://mrvvillage.com/event/life-drawing-wednesdays-14/
LOCATION:Waitsfield Church Village Meeting Room\, Route 100\, Waitsfield\, VT\, 05673
CATEGORIES:Arts & Entertainment
ATTACH;FMTTYPE=image/jpeg:https://mrvvillage.com/wp-content/uploads/2026/01/sketch-loida-alvarez-GUILD-web-T2l9NL.jpg
ORGANIZER;CN="Valley%20Artists%20Guild":MAILTO:info@valleyartistsguild.com
GEO:44.2017815;-72.8121321
X-APPLE-STRUCTURED-LOCATION;VALUE=URI;X-ADDRESS=Waitsfield Church Village Meeting Room Route 100 Waitsfield VT 05673;X-APPLE-RADIUS=500;X-TITLE=Route 100:geo:-72.8121321,44.2017815
END:VEVENT
BEGIN:VEVENT
DTSTART;TZID=America/New_York:20260513T181500
DTEND;TZID=America/New_York:20260513T201500
DTSTAMP:20260421T184214
CREATED:20260212T072915Z
LAST-MODIFIED:20260421T223937Z
UID:10009861-1778696100-1778703300@mrvvillage.com
SUMMARY:Life Drawing Wednesdays
DESCRIPTION:✍🏻 Life Drawing Wednesdays presented by The Valley Artists Guild \nThe very popular Wednesday Night Drawing Sessions will resume on Feb\, 4\, 2025. This is a self-directed session. No instruction or critiques are offered but conversations and sharing within the group are sure to inspire 😎 \nSubjects vary every two weeks: two weeks of Live Models\, two weeks of Still Life or equivalent. All media are welcome except\nphotography. \nWHEN\nEvery Wednesday Evening from 6:15 – 8:15 pm. Classes begin on Feb 4th. \nWHERE\nThe UCC Waitsfield Village Meeting House. Located in Historic Waitsfield Village across from the VG. Parking is in back. \nCOST\nThe cost is $15/visit. Cash only Please. \n#madrivervalley #vermontartist #livedrawing #madriverartists #vtlivedrawing \nPhoto / drawing courtesy Loida Alvarez (@Loida.art) — copyright 2026
URL:https://mrvvillage.com/event/life-drawing-wednesdays-15/
LOCATION:Waitsfield Church Village Meeting Room\, Route 100\, Waitsfield\, VT\, 05673
CATEGORIES:Arts & Entertainment
ATTACH;FMTTYPE=image/jpeg:https://mrvvillage.com/wp-content/uploads/2026/01/sketch-loida-alvarez-GUILD-web-T2l9NL.jpg
ORGANIZER;CN="Valley%20Artists%20Guild":MAILTO:info@valleyartistsguild.com
GEO:44.2017815;-72.8121321
X-APPLE-STRUCTURED-LOCATION;VALUE=URI;X-ADDRESS=Waitsfield Church Village Meeting Room Route 100 Waitsfield VT 05673;X-APPLE-RADIUS=500;X-TITLE=Route 100:geo:-72.8121321,44.2017815
END:VEVENT
BEGIN:VEVENT
DTSTART;TZID=America/New_York:20260520T181500
DTEND;TZID=America/New_York:20260520T201500
DTSTAMP:20260421T184214
CREATED:20260219T091344Z
LAST-MODIFIED:20260421T224010Z
UID:10009886-1779300900-1779308100@mrvvillage.com
SUMMARY:Life Drawing Wednesdays
DESCRIPTION:✍🏻 Life Drawing Wednesdays presented by The Valley Artists Guild \nThe very popular Wednesday Night Drawing Sessions will resume on Feb\, 4\, 2025. This is a self-directed session. No instruction or critiques are offered but conversations and sharing within the group are sure to inspire 😎 \nSubjects vary every two weeks: two weeks of Live Models\, two weeks of Still Life or equivalent. All media are welcome except\nphotography. \nWHEN\nEvery Wednesday Evening from 6:15 – 8:15 pm. Classes begin on Feb 4th. \nWHERE\nThe UCC Waitsfield Village Meeting House. Located in Historic Waitsfield Village across from the VG. Parking is in back. \nCOST\nThe cost is $15/visit. Cash only Please. \n#madrivervalley #vermontartist #livedrawing #madriverartists #vtlivedrawing \nPhoto / drawing courtesy Loida Alvarez (@Loida.art) — copyright 2026
URL:https://mrvvillage.com/event/life-drawing-wednesdays-16/
LOCATION:Waitsfield Church Village Meeting Room\, Route 100\, Waitsfield\, VT\, 05673
CATEGORIES:Arts & Entertainment
ATTACH;FMTTYPE=image/jpeg:https://mrvvillage.com/wp-content/uploads/2026/01/sketch-loida-alvarez-GUILD-web-T2l9NL.jpg
ORGANIZER;CN="Valley%20Artists%20Guild":MAILTO:info@valleyartistsguild.com
GEO:44.2017815;-72.8121321
X-APPLE-STRUCTURED-LOCATION;VALUE=URI;X-ADDRESS=Waitsfield Church Village Meeting Room Route 100 Waitsfield VT 05673;X-APPLE-RADIUS=500;X-TITLE=Route 100:geo:-72.8121321,44.2017815
END:VEVENT
BEGIN:VEVENT
DTSTART;TZID=America/New_York:20260527T181500
DTEND;TZID=America/New_York:20260527T201500
DTSTAMP:20260421T184214
CREATED:20260226T105909Z
LAST-MODIFIED:20260421T224011Z
UID:10009943-1779905700-1779912900@mrvvillage.com
SUMMARY:Life Drawing Wednesdays
DESCRIPTION:✍🏻 Life Drawing Wednesdays presented by The Valley Artists Guild \nThe very popular Wednesday Night Drawing Sessions will resume on Feb\, 4\, 2025. This is a self-directed session. No instruction or critiques are offered but conversations and sharing within the group are sure to inspire 😎 \nSubjects vary every two weeks: two weeks of Live Models\, two weeks of Still Life or equivalent. All media are welcome except\nphotography. \nWHEN\nEvery Wednesday Evening from 6:15 – 8:15 pm. Classes begin on Feb 4th. \nWHERE\nThe UCC Waitsfield Village Meeting House. Located in Historic Waitsfield Village across from the VG. Parking is in back. \nCOST\nThe cost is $15/visit. Cash only Please. \n#madrivervalley #vermontartist #livedrawing #madriverartists #vtlivedrawing \nPhoto / drawing courtesy Loida Alvarez (@Loida.art) — copyright 2026
URL:https://mrvvillage.com/event/life-drawing-wednesdays-17/
LOCATION:Waitsfield Church Village Meeting Room\, Route 100\, Waitsfield\, VT\, 05673
CATEGORIES:Arts & Entertainment
ATTACH;FMTTYPE=image/jpeg:https://mrvvillage.com/wp-content/uploads/2026/01/sketch-loida-alvarez-GUILD-web-T2l9NL.jpg
ORGANIZER;CN="Valley%20Artists%20Guild":MAILTO:info@valleyartistsguild.com
GEO:44.2017815;-72.8121321
X-APPLE-STRUCTURED-LOCATION;VALUE=URI;X-ADDRESS=Waitsfield Church Village Meeting Room Route 100 Waitsfield VT 05673;X-APPLE-RADIUS=500;X-TITLE=Route 100:geo:-72.8121321,44.2017815
END:VEVENT
BEGIN:VEVENT
DTSTART;TZID=America/New_York:20260611T163000
DTEND;TZID=America/New_York:20260619T210000
DTSTAMP:20260421T184214
CREATED:20260415T212614Z
LAST-MODIFIED:20260421T224026Z
UID:10010120-1781195400-1781902800@mrvvillage.com
SUMMARY:14th Annual Green Mountain Watercolor Exhibition (GMWE)
DESCRIPTION:The Valley Artists Guild proudly announces the 14th Annual Green Mountain Watercolor Exhibition (GMWE) —an acclaimed celebration of watercolor painting that has grown from a grassroots show in 2012 into a nationally recognized summer exhibition. \nThe 2026 exhibition will be held June 11 through July 19 at the Historic Red Barn Galleries at Lareau Farm & Forest\, located on Route 100 in Waitsfield\, Vermont. \nFeaturing the work of over 60 accomplished watercolor artists from across the United States\, the exhibition draws more than 3\,000 visitors each year to experience a vibrant and diverse range of contemporary watercolor painting\, including entries in conjunction with the Whiskey Painters of America—it’s a show within a show! \nThis year\, more than $7\,000 in awards will be presented to artists demonstrating exceptional skill and vision in the medium. \nThe exhibition has received international attention\, including recognition by the French publication Art of Watercolour as one of America’s premier summer watercolor exhibitions. This distinction continues to attract highly regarded jurors who carefully select outstanding works for inclusion and award honors. \nCome spend an evening summer with us in the beautiful Big Red Barn at Lareau Farm (home of American Flatbread)\, Waitsfield\, VT. Gallery hours are the same as American Flatbread dinner hours\, Thursday through Sunday.
URL:https://mrvvillage.com/event/14th-annual-green-mountain-watercolor-exhibition-gmwe/
LOCATION:Lareau Farm\, 48 Lareau Road\, Waitsfield\, VT\, 05673\, United States
CATEGORIES:Arts & Entertainment
ATTACH;FMTTYPE=image/jpeg:https://mrvvillage.com/wp-content/uploads/2026/04/2026GMWE_Insta-uNDeYU.jpg
ORGANIZER;CN="Valley%20Artists%20Guild":MAILTO:info@valleyartistsguild.com
GEO:44.172559;-72.833919
X-APPLE-STRUCTURED-LOCATION;VALUE=URI;X-ADDRESS=Lareau Farm 48 Lareau Road Waitsfield VT 05673 United States;X-APPLE-RADIUS=500;X-TITLE=48 Lareau Road:geo:-72.833919,44.172559
END:VEVENT
END:VCALENDAR