BEGIN:VCALENDAR
VERSION:2.0
PRODID:-//The Mad River Valley Village - ECPv6.0.13//NONSGML v1.0//EN
CALSCALE:GREGORIAN
METHOD:PUBLISH
X-WR-CALNAME:The Mad River Valley Village
X-ORIGINAL-URL:https://mrvvillage.com
X-WR-CALDESC:Events for The Mad River Valley Village
REFRESH-INTERVAL;VALUE=DURATION:PT1H
X-Robots-Tag:noindex
X-PUBLISHED-TTL:PT1H
BEGIN:VTIMEZONE
TZID:America/New_York
BEGIN:DAYLIGHT
TZOFFSETFROM:-0500
TZOFFSETTO:-0400
TZNAME:EDT
DTSTART:20230312T070000
END:DAYLIGHT
BEGIN:STANDARD
TZOFFSETFROM:-0400
TZOFFSETTO:-0500
TZNAME:EST
DTSTART:20231105T060000
END:STANDARD
BEGIN:DAYLIGHT
TZOFFSETFROM:-0500
TZOFFSETTO:-0400
TZNAME:EDT
DTSTART:20240310T070000
END:DAYLIGHT
BEGIN:STANDARD
TZOFFSETFROM:-0400
TZOFFSETTO:-0500
TZNAME:EST
DTSTART:20241103T060000
END:STANDARD
BEGIN:DAYLIGHT
TZOFFSETFROM:-0500
TZOFFSETTO:-0400
TZNAME:EDT
DTSTART:20250309T070000
END:DAYLIGHT
BEGIN:STANDARD
TZOFFSETFROM:-0400
TZOFFSETTO:-0500
TZNAME:EST
DTSTART:20251102T060000
END:STANDARD
BEGIN:DAYLIGHT
TZOFFSETFROM:-0500
TZOFFSETTO:-0400
TZNAME:EDT
DTSTART:20260308T070000
END:DAYLIGHT
BEGIN:STANDARD
TZOFFSETFROM:-0400
TZOFFSETTO:-0500
TZNAME:EST
DTSTART:20261101T060000
END:STANDARD
END:VTIMEZONE
BEGIN:VEVENT
DTSTART;TZID=America/New_York:20260308T140000
DTEND;TZID=America/New_York:20260308T143000
DTSTAMP:20260422T184734
CREATED:20260218T085559Z
LAST-MODIFIED:20260308T202329Z
UID:10009879-1772978400-1772980200@mrvvillage.com
SUMMARY:Journey through Dance
DESCRIPTION:Waltzes and Tangos\, Minuets and Gavottes – the Vermont Philharmonic’s annual Family Concert at 2 pm on Sunday March 8th is a Journey through Dance\, with music by J.S. Bach\, Offenbach\, Prokofiev\, Handel\, Tchaikovsky\, and more. Conducted by Lou Kosma\, the concert at the Barre Opera House is a family favorite. Audiences will happily recognize Offenbach’s Can-Can\, Khachaturian’s Masquerade Waltz\, and Angel Villoldo’s Kiss of Fire tango among others. \nIn addition to the dances\, old and new\, the program features two special new works. Michael Close’s North Star was written for virtuoso violist Elizabeth Reid\, who will be performing the work at the concert. Michael is a cellist and music educator living in Worcester VT\, and the senior composer-mentor at Music-Comp\, encouraging and supporting students in composing and arranging music. Grayson Eley\, a multi-talented freshman at Harwood Union\, has enjoyed his participation in Music-Comp for three years. He wrote Homecoming to celebrate that special place of physical or mental welcome we call “home.” \nThe Vermont Philharmonic is celebrating its sixty-seventh year of making beautiful music in Central Vermont. The concert is sponsored by Passumpsic Bank of St Johnsbury. Tickets are $25 for adults\, $20 for seniors\, $5 for students. Tickets and information are available at vermontphilharmonic.com or at the door.
URL:https://mrvvillage.com/event/journey-through-dance/
LOCATION:Barre Opera House\, 6 N Main St #4\, Barre\, Vermont\, 05641\, United States
CATEGORIES:Arts & Entertainment
ATTACH;FMTTYPE=image/jpeg:https://mrvvillage.com/wp-content/uploads/2026/02/2603-grayson-eley-horizo-RwmA4m.jpg
GEO:44.1967101;-72.5017979
X-APPLE-STRUCTURED-LOCATION;VALUE=URI;X-ADDRESS=Barre Opera House 6 N Main St #4 Barre Vermont 05641 United States;X-APPLE-RADIUS=500;X-TITLE=6 N Main St #4:geo:-72.5017979,44.1967101
END:VEVENT
BEGIN:VEVENT
DTSTART;TZID=America/New_York:20251207T140000
DTEND;TZID=America/New_York:20251207T160000
DTSTAMP:20260422T184734
CREATED:20251119T200949Z
LAST-MODIFIED:20251207T223825Z
UID:10009293-1765116000-1765123200@mrvvillage.com
SUMMARY:Handel’s Messiah – Vermont Philharmonic
DESCRIPTION:Hallelujah! As Vermont enters the season of cold and darkness\, Handel’s beloved Messiah brings warmth\, light and joy. Conducted by Lisa Jablow\, the Vermont Philharmonic Orchestra and Chorus will present two uplifting performances to put everyone in the holiday spirit\, on Friday\, December 5 at 7:30 pm in St Augustine Church in Montpelier\, and Sunday\, December 7 at 2:00 pm in the Barre Opera House. \nThe Vermont Philharmonic performances will present the entire first part of Messiah\, with arias and choral numbers that contemplate the idea of a messiah\, foretell the coming\, and hail the arrival. The concert concludes with the beloved “Hallelujah” chorus from Part II\, and six numbers from Part III celebrating redemption. \nThe outstanding soloists are familiar to Vermonters. They include Colleen Flynn Campbell\, soprano\, Nessa Rabin\, mezzo-soprano\, Connor Trombly\, tenor\, and Erik Kronke\, bass. Mary Jane Austin is the assistant choral director \nCelebrating its 67th Season\, the Vermont Philharmonic is composed of professional and talented amateur musicians from throughout Vermont. It is Vermont’s oldest community orchestra\, founded in 1959 by Jon Borowicz\, emeritus professor of music at Norwich University. Since 1993\, the Philharmonic’s home base has been the Barre Opera House. Lou Kosma has been the Music Director of the Philharmonic since 1999. \nTickets are available online at vermontphilharmonic.com or at the door.
URL:https://mrvvillage.com/event/handels-messiah-vermont-philharmonic-2/
LOCATION:Barre Opera House\, 6 N Main St #4\, Barre\, Vermont\, 05641\, United States
CATEGORIES:Live Music,Special Events
ATTACH;FMTTYPE=image/jpeg:https://mrvvillage.com/wp-content/uploads/2025/11/2512-Messiah-header-rFqQOL.jpg
GEO:44.1967101;-72.5017979
X-APPLE-STRUCTURED-LOCATION;VALUE=URI;X-ADDRESS=Barre Opera House 6 N Main St #4 Barre Vermont 05641 United States;X-APPLE-RADIUS=500;X-TITLE=6 N Main St #4:geo:-72.5017979,44.1967101
END:VEVENT
BEGIN:VEVENT
DTSTART;TZID=America/New_York:20251205T193000
DTEND;TZID=America/New_York:20251205T213000
DTSTAMP:20260422T184734
CREATED:20251119T200922Z
LAST-MODIFIED:20251205T222327Z
UID:10009292-1764963000-1764970200@mrvvillage.com
SUMMARY:Handel’s Messiah – Vermont Philharmonic
DESCRIPTION:Hallelujah! As Vermont enters the season of cold and darkness\, Handel’s beloved Messiah brings warmth\, light and joy. Conducted by Lisa Jablow\, the Vermont Philharmonic Orchestra and Chorus will present two uplifting performances to put everyone in the holiday spirit\, on Friday\, December 5 at 7:30 pm in St Augustine Church in Montpelier\, and Sunday\, December 7 at 2:00 pm in the Barre Opera House. \nThe Vermont Philharmonic performances will present the entire first part of Messiah\, with arias and choral numbers that contemplate the idea of a messiah\, foretell the coming\, and hail the arrival. The concert concludes with the beloved “Hallelujah” chorus from Part II\, and six numbers from Part III celebrating redemption. \nThe outstanding soloists are familiar to Vermonters. They include Colleen Flynn Campbell\, soprano\, Nessa Rabin\, mezzo-soprano\, Connor Trombly\, tenor\, and Erik Kronke\, bass. Mary Jane Austin is the assistant choral director \nCelebrating its 67th Season\, the Vermont Philharmonic is composed of professional and talented amateur musicians from throughout Vermont. It is Vermont’s oldest community orchestra\, founded in 1959 by Jon Borowicz\, emeritus professor of music at Norwich University. Since 1993\, the Philharmonic’s home base has been the Barre Opera House. Lou Kosma has been the Music Director of the Philharmonic since 1999. \nTickets are available online at vermontphilharmonic.com or at the door.
URL:https://mrvvillage.com/event/handels-messiah-vermont-philharmonic/
LOCATION:Barre Opera House\, 6 N Main St #4\, Barre\, Vermont\, 05641\, United States
CATEGORIES:Live Music,Special Events
ATTACH;FMTTYPE=image/jpeg:https://mrvvillage.com/wp-content/uploads/2025/11/2512-Messiah-header1-lrts4k.jpg
GEO:44.1967101;-72.5017979
X-APPLE-STRUCTURED-LOCATION;VALUE=URI;X-ADDRESS=Barre Opera House 6 N Main St #4 Barre Vermont 05641 United States;X-APPLE-RADIUS=500;X-TITLE=6 N Main St #4:geo:-72.5017979,44.1967101
END:VEVENT
BEGIN:VEVENT
DTSTART;TZID=America/New_York:20251019T140000
DTEND;TZID=America/New_York:20251019T160000
DTSTAMP:20260422T184734
CREATED:20250926T225536Z
LAST-MODIFIED:20251019T143818Z
UID:10009044-1760882400-1760889600@mrvvillage.com
SUMMARY:Celestial Sounds
DESCRIPTION:Some out-of-this-world music opens the Vermont Philharmonic’s 67th season with a concert program that includes Mozart’s Jupiter Symphony and Gustav Holst’s The Planets. Concerts are Saturday\, October 18th at 4:00 at the Highland Center for the Arts in Greensboro\, and Sunday October 19th at 2:00 pm at the Barre Opera House. Music Director Lou Kosma has been the orchestra’s beloved Music Director and Conductor since May 1999. \nThe Planets\, a seven-movement orchestral suite\, was composed between 1914 and 1917. Each movement of the suite is named after a planet of the solar system and its supposed astrological character: Mars\, the Bringer of War; Venus\, the Bringer of Peace; Mercury\, the Winged Messenger; Jupiter\, the Bringer of Jollity; Saturn\, the Bringer of Old Age; Uranus\, the Magician; and Neptune\, the Mystic. As the titles suggest\, the movements offer a variety of moods. \nMozart composed his last symphony\, appropriately nicknamed “Jupiter”\, in 1788. It is regarded as one of the greatest symphonies in classical music\, celebrated for its grandeur\, formal complexity\, and contrapuntal mastery. \nThe Vermont Philharmonic is celebrating its sixty-seventh year of bringing the joy of classical music to Central and Northern Vermont. The concert is sponsored by Community National Bank. Tickets are $25 for adults\, $20 for seniors\, $5 for students. More information about the Vermont Philharmonic is at vermontphilharmonic.com. \nTickets may be purchased online or at the door.
URL:https://mrvvillage.com/event/celestial-sounds/
LOCATION:Barre Opera House\, 6 N Main St #4\, Barre\, Vermont\, 05641\, United States
CATEGORIES:Live Music
ATTACH;FMTTYPE=image/jpeg:https://mrvvillage.com/wp-content/uploads/2025/09/623A1055sm-UIS60t.jpg
GEO:44.1967101;-72.5017979
X-APPLE-STRUCTURED-LOCATION;VALUE=URI;X-ADDRESS=Barre Opera House 6 N Main St #4 Barre Vermont 05641 United States;X-APPLE-RADIUS=500;X-TITLE=6 N Main St #4:geo:-72.5017979,44.1967101
END:VEVENT
BEGIN:VEVENT
DTSTART;TZID=America/New_York:20250810T160000
DTEND;TZID=America/New_York:20250810T173000
DTSTAMP:20260422T184734
CREATED:20250716T122612Z
LAST-MODIFIED:20250810T183819Z
UID:10008657-1754841600-1754847000@mrvvillage.com
SUMMARY:Vermont Philharmonic Pops Concert
DESCRIPTION:The Vermont Philharmonic brings its big orchestral sound to the lawn at Moose Meadow Lodge on Sunday August 10th at 4:00 PM for its annual Summer Pops Concert. \nUnder the baton of music director Lou Kosma\, the orchestra will entertain the audience with music from West Side Story and Carmen (“March of the Toreadors”) and composers Leroy Anderson and Duke Ellington. Concertmaster Joanna Alpizar will sing Sabor a Mi\, and principal clarinetist Margaret Barsumian will perform the rousing Clarinet Polka. The program also features a work by a young Vermont composer\, Alexander Maroney\, along with audience favorites “Washington Post March”\, “Ashokan Farewell”\, “Bohemian Rhapsody”\, and “Take Me Out to the Ballgame”. The program concludes\, of course\, with “The Stars and Stripes Forever”. \nMoose Meadow Lodge is located at 607 Crossett Hill Road in Duxbury. The grounds will be open for picnicking at 3:00 PM. Tickets are $25 adults\, $20 seniors\, $5 students\, $55 family of 4 – available online or at the venue (cash or check). \nIn case of rain\, the concert will be held at Harwood Union High School\, 458 Rte 100\, Moretown. \nCelebrating its 66th Season\, the Vermont Philharmonic is composed of professional and talented amateur musicians from throughout Vermont. It is Vermont’s oldest community orchestra\, founded in 1959 by Jon Borowicz\, emeritus professor of music at Norwich University. Since 1993\, the Philharmonic’s home base has been the Barre Opera House. Lou Kosma has been the Music Director of the Philharmonic since 1999. \nInformation and tickets are at www.vermontphilharmonic.com.
URL:https://mrvvillage.com/event/vermont-philharmonic-pops-concert-2/
LOCATION:Moose Meadow Lodge\, 607 Crossett Hill\, Waterbury\, VT\, 05676\, United States
CATEGORIES:Live Music,Ticketed Event
ATTACH;FMTTYPE=image/jpeg:https://mrvvillage.com/wp-content/uploads/2025/07/IMG_8855-wj1XBr.jpg
GEO:44.3035181;-72.7819277
X-APPLE-STRUCTURED-LOCATION;VALUE=URI;X-ADDRESS=Moose Meadow Lodge 607 Crossett Hill Waterbury VT 05676 United States;X-APPLE-RADIUS=500;X-TITLE=607 Crossett Hill:geo:-72.7819277,44.3035181
END:VEVENT
BEGIN:VEVENT
DTSTART;TZID=America/New_York:20230813T160000
DTEND;TZID=America/New_York:20230813T173000
DTSTAMP:20260422T184734
CREATED:20230726T221105Z
LAST-MODIFIED:20230813T160824Z
UID:10004476-1691942400-1691947800@mrvvillage.com
SUMMARY:Vermont Philharmonic Pops Concert
DESCRIPTION:The Vermont Philharmonic will play its annual outdoor Summer Pops Concerts on the beautiful lawn of Moose Meadow Lodge on Sunday\, August 13\, 2023 at 4:00 PM and on the scenic grounds of the Shore Acres Inn in North Hero overlooking Lake Champlain and the Green Mountains on Saturday\, September 2\, 2023\, at 4:00 PM. \nLed by music director Lou Kosma\, the orchestra will entertain the audience with selections from musicals (The King and I and Rocky Broadway)\, films (The Lord of the Rings)\, and orchestral classics (“Hungarian March” from Hector Berlioz’s The Damnation of Faust) The program will also feature two works by young Vermont composers\, Chase Ehrlich’s “Spirit of the Sky” and Callum Robechek’s “And in a Moment”\, along with audience favorites “Bohemian Rhapsody” and “Take Me Out to the Ballgame”. The program concludes\, of course\, with “The Stars and Stripes Forever”. \nMoose Meadow Lodge is at 607 Crossett Hill Road in Duxbury. The grounds will be open for picnicking at 3:00 PM. \nShore Acres Inn is at 237 Shore Acres Drive in North Hero. Alcoholic beverages will be available for sale by Shore Acres Inn. Bringing your own alcohol is prohibited. \nParking is limited at both locations. Carpooling is highly recommended. Tickets and information are online at vermontphilharmonic.com.
URL:https://mrvvillage.com/event/vermont-philharmonic-pops-concert/
LOCATION:Moose Meadow Lodge\, 607 Crossett Hill\, Waterbury\, VT\, 05676\, United States
CATEGORIES:Arts & Entertainment
ATTACH;FMTTYPE=image/jpeg:https://mrvvillage.com/wp-content/uploads/2023/07/IMG_8855-1ee4lP.tmp_.jpg
GEO:44.3035181;-72.7819277
X-APPLE-STRUCTURED-LOCATION;VALUE=URI;X-ADDRESS=Moose Meadow Lodge 607 Crossett Hill Waterbury VT 05676 United States;X-APPLE-RADIUS=500;X-TITLE=607 Crossett Hill:geo:-72.7819277,44.3035181
END:VEVENT
END:VCALENDAR