BEGIN:VCALENDAR
VERSION:2.0
PRODID:-//The Mad River Valley Village - ECPv6.0.13//NONSGML v1.0//EN
CALSCALE:GREGORIAN
METHOD:PUBLISH
X-ORIGINAL-URL:https://mrvvillage.com
X-WR-CALDESC:Events for The Mad River Valley Village
REFRESH-INTERVAL;VALUE=DURATION:PT1H
X-Robots-Tag:noindex
X-PUBLISHED-TTL:PT1H
BEGIN:VTIMEZONE
TZID:America/New_York
BEGIN:DAYLIGHT
TZOFFSETFROM:-0500
TZOFFSETTO:-0400
TZNAME:EDT
DTSTART:20230312T070000
END:DAYLIGHT
BEGIN:STANDARD
TZOFFSETFROM:-0400
TZOFFSETTO:-0500
TZNAME:EST
DTSTART:20231105T060000
END:STANDARD
BEGIN:DAYLIGHT
TZOFFSETFROM:-0500
TZOFFSETTO:-0400
TZNAME:EDT
DTSTART:20240310T070000
END:DAYLIGHT
BEGIN:STANDARD
TZOFFSETFROM:-0400
TZOFFSETTO:-0500
TZNAME:EST
DTSTART:20241103T060000
END:STANDARD
BEGIN:DAYLIGHT
TZOFFSETFROM:-0500
TZOFFSETTO:-0400
TZNAME:EDT
DTSTART:20250309T070000
END:DAYLIGHT
BEGIN:STANDARD
TZOFFSETFROM:-0400
TZOFFSETTO:-0500
TZNAME:EST
DTSTART:20251102T060000
END:STANDARD
END:VTIMEZONE
BEGIN:VEVENT
DTSTART;TZID=America/New_York:20250720T100000
DTEND;TZID=America/New_York:20250720T160000
DTSTAMP:20260423T193025
CREATED:20250706T174057Z
LAST-MODIFIED:20250720T210821Z
UID:10008587-1753005600-1753027200@mrvvillage.com
SUMMARY:Gardens of Waterbury–A Garden Tour
DESCRIPTION:The ARRTI (A River Runs Through It) Garden Club of Waterbury is hosting a self-guided garden tour on Sunday\, July 20th. Join us to explore this summer’s line-up of beautiful gardens in and around Waterbury\, VT. \nYou will have the opportunity to admire a variety of stunning gardens lovingly cared for by dedicated gardeners. From colorful flower beds to vibrant fruit and vegetable gardens to serene water features and spectacular views\, there’s something for everyone to enjoy! Don’t miss this chance to be inspired and connect with fellow garden lovers. Whether you’re looking for new ideas for your own garden or simply want to appreciate the beauty of nature\, this tour is sure to delight. Grab your walking shoes and get ready to immerse yourself in the Gardens of Waterbury! \nCut and paste this link into your browser to get all the details:\nhttps://www.eventbrite.com/e/gardens-of-waterbury-a-garden-tour-hosted-by-arrti-garden-club-tickets-1352866874239
URL:https://mrvvillage.com/event/gardens-of-waterbury-a-garden-tour/
LOCATION:Downtown Waterbury\, Stowe Street\, Waterbury\, VT\, 05677
CATEGORIES:Special Events
ORGANIZER;CN="Waterbury%20Garden%20Club-ARRTI%20%28A%20River%20Runs%20Through%20It%29":MAILTO:jlattrell@gmail.com
GEO:44.3408212;-72.7513178
X-APPLE-STRUCTURED-LOCATION;VALUE=URI;X-ADDRESS=Downtown Waterbury Stowe Street Waterbury VT 05677;X-APPLE-RADIUS=500;X-TITLE=Stowe Street:geo:-72.7513178,44.3408212
END:VEVENT
BEGIN:VEVENT
DTSTART;TZID=America/New_York:20230716T090000
DTEND;TZID=America/New_York:20230716T150000
DTSTAMP:20260423T193025
CREATED:20230619T141037Z
LAST-MODIFIED:20230716T232327Z
UID:10004134-1689498000-1689519600@mrvvillage.com
SUMMARY:Waterbury Garden Tour and Plant Sale
DESCRIPTION:Gardens of Waterbury\, A Garden Tour and Plant Sale in Waterbury\, VT\n7 beautiful country gardens will be showcased at the height of their summer growing season on this self-guided tour around Waterbury Vermont\nSponsored By: A River Runs Through It (ARRTI) Garden Club \nDate and time\nSunday\, July 16 · 9am – 3pm EDT\nLocation\n56 S Main St 56 South Main Street Waterbury Village Historic District\, VT 05676\nRefund Policy\nNo Refunds\nAbout this event\n6 hours\nMobile eTicket\nA River Runs Through It (ARRTI) Garden Club of Waterbury Vermont will be hosting a Garden Tour on Sunday\, July 16th 2023\, 9 AM – 3 PM\, rain or shine .\nARRTI will be showcasing 7 beautiful Vermont gardens located in and around town of Waterbury and Waterbury Center. The gardens chosen for this self-guided tour include a variety of interesting ecological settings such as riverside\, brookside\, mountainside\, sun\, and shade gardens. Most of the gardens are located at private homes but we’re also excited to include the Waterbury Public Library’s Book Garden on this tour.\nSite maps and details will be sent on Saturday evening July 15th\, the evening before the event.\nParking is limited in some locations so carpooling is encouraged and highly recommended. Most of the gardens are located at private residences on dirt roads. Please wear comfortable walking shoes. Children must be accompanied by an adult at all times while touring the gardens and attending the sale. Please leave your pets at home.\nDuring the garden tour hours\, ARRTI will also be holding a Plant and Garden Paraphernalia Sale\, which will be held on the lawn at the Wesley United Methodist Church located at 56 S. Main St.\, Waterbury\, VT. Garden tour attendees and the general public are welcome to stop at this central location for information\, refreshments and to purchase plants and gardening-related items for sale. All proceeds benefit ARRTI community grants\, programs and garden projects.\nTicket information and purchase:
URL:https://mrvvillage.com/event/waterbury-garden-tour-and-plant-sale/
LOCATION:GARDEN TOUR and PLANT SALE\, Waterbury Home Gardens Around Town\, Waterbury\, Vermont\, 05676\, United States
CATEGORIES:Community
ATTACH;FMTTYPE=image/png:https://mrvvillage.com/wp-content/uploads/2023/06/Screen-Shot-2023-06-19-at-9.24.25-AM-PVUVll.tmp_.png
ORGANIZER;CN="Waterbury%20Garden%20Club-ARRTI%20%28A%20River%20Runs%20Through%20It%29":MAILTO:jlattrell@gmail.com
GEO:44.3378203;-72.7562636
X-APPLE-STRUCTURED-LOCATION;VALUE=URI;X-ADDRESS=GARDEN TOUR and PLANT SALE Waterbury Home Gardens Around Town Waterbury Vermont 05676 United States;X-APPLE-RADIUS=500;X-TITLE=Waterbury Home Gardens Around Town:geo:-72.7562636,44.3378203
END:VEVENT
END:VCALENDAR