BEGIN:VCALENDAR
VERSION:2.0
PRODID:-//The Mad River Valley Village - ECPv6.0.13//NONSGML v1.0//EN
CALSCALE:GREGORIAN
METHOD:PUBLISH
X-ORIGINAL-URL:https://mrvvillage.com
X-WR-CALDESC:Events for The Mad River Valley Village
REFRESH-INTERVAL;VALUE=DURATION:PT1H
X-Robots-Tag:noindex
X-PUBLISHED-TTL:PT1H
BEGIN:VTIMEZONE
TZID:America/New_York
BEGIN:DAYLIGHT
TZOFFSETFROM:-0500
TZOFFSETTO:-0400
TZNAME:EDT
DTSTART:20260308T070000
END:DAYLIGHT
BEGIN:STANDARD
TZOFFSETFROM:-0400
TZOFFSETTO:-0500
TZNAME:EST
DTSTART:20261101T060000
END:STANDARD
END:VTIMEZONE
BEGIN:VEVENT
DTSTART;TZID=America/New_York:20260501T170000
DTEND;TZID=America/New_York:20260501T190000
DTSTAMP:20260421T152839
CREATED:20260415T212421Z
LAST-MODIFIED:20260421T162351Z
UID:10010107-1777654800-1777662000@mrvvillage.com
SUMMARY:VIP Shopping Night with Ursa Major & Carve Designs
DESCRIPTION:Enjoy drinks\, small bites\, and a first look at Carve Designs’ Spring 2026 collection\, along with Ursa Major’s newest launches and longtime favorites. Gather a few friends and make a night of it. Your $20 ticket will be applied toward any purchase made during the event. Enjoy 10% off all clothing purchased that night\, gifts with purchase and raffle prizes throughout the evening. Space is limited.
URL:https://mrvvillage.com/event/vip-shopping-night-with-ursa-major-carve-designs/
LOCATION:Addison West\, 5275 Main Street\, Waitsfield\, VT\, 05673\, United States
ATTACH;FMTTYPE=image/jpeg:https://mrvvillage.com/wp-content/uploads/2026/04/Cal-events-graphic-1-UqttTl.jpg
ORGANIZER;CN="Addison%20West":MAILTO:info@theaddisonwest.com
GEO:44.1926386;-72.7798479
X-APPLE-STRUCTURED-LOCATION;VALUE=URI;X-ADDRESS=Addison West 5275 Main Street Waitsfield VT 05673 United States;X-APPLE-RADIUS=500;X-TITLE=5275 Main Street:geo:-72.7798479,44.1926386
END:VEVENT
BEGIN:VEVENT
DTSTART;TZID=America/New_York:20260516T100000
DTEND;TZID=America/New_York:20260516T140000
DTSTAMP:20260421T152839
CREATED:20260408T204057Z
LAST-MODIFIED:20260421T162446Z
UID:10010093-1778925600-1778940000@mrvvillage.com
SUMMARY:Forest City Designs at Addison West Makers Market
DESCRIPTION:Todd Cummings is a Vermont based illustrator and designer whose work celebrates the natural beauty of Vermont and the Northeast. His style is a modern interpretation of classic American landscape painting.
URL:https://mrvvillage.com/event/forest-city-designs-at-addison-west-makers-market/
LOCATION:Addison West\, 5275 Main Street\, Waitsfield\, VT\, 05673\, United States
ATTACH;FMTTYPE=image/png:https://mrvvillage.com/wp-content/uploads/2026/04/ea3959_1ff072ccc9b743059606d29f6ff417e7mv2-2-nu438p.png
ORGANIZER;CN="Addison%20West":MAILTO:info@theaddisonwest.com
GEO:44.1926386;-72.7798479
X-APPLE-STRUCTURED-LOCATION;VALUE=URI;X-ADDRESS=Addison West 5275 Main Street Waitsfield VT 05673 United States;X-APPLE-RADIUS=500;X-TITLE=5275 Main Street:geo:-72.7798479,44.1926386
END:VEVENT
BEGIN:VEVENT
DTSTART;TZID=America/New_York:20260516T100000
DTEND;TZID=America/New_York:20260516T140000
DTSTAMP:20260421T152839
CREATED:20260415T212524Z
LAST-MODIFIED:20260421T162446Z
UID:10010112-1778925600-1778940000@mrvvillage.com
SUMMARY:Kate Ives Art at Addison West Makers Market
DESCRIPTION:A Vermont based painter whose work is inspired by time spent outdoors. Her bold paintings capture the movement and energy of mountain landscapes and winter days well spent.
URL:https://mrvvillage.com/event/kate-ives-art-at-addison-west-makers-market/
LOCATION:Addison West\, 5275 Main Street\, Waitsfield\, VT\, 05673\, United States
ATTACH;FMTTYPE=image/png:https://mrvvillage.com/wp-content/uploads/2026/04/FFC4AA41-E623-45EF-A0BD-6F0685F861AB-Ski_gondola_16x20_jpg_no_border-pbIR4k.png
ORGANIZER;CN="Addison%20West":MAILTO:info@theaddisonwest.com
GEO:44.1926386;-72.7798479
X-APPLE-STRUCTURED-LOCATION;VALUE=URI;X-ADDRESS=Addison West 5275 Main Street Waitsfield VT 05673 United States;X-APPLE-RADIUS=500;X-TITLE=5275 Main Street:geo:-72.7798479,44.1926386
END:VEVENT
BEGIN:VEVENT
DTSTART;TZID=America/New_York:20260516T100000
DTEND;TZID=America/New_York:20260516T140000
DTSTAMP:20260421T152839
CREATED:20260415T212526Z
LAST-MODIFIED:20260421T162446Z
UID:10010113-1778925600-1778940000@mrvvillage.com
SUMMARY:Lemon Fair View Homestead at Addison West Makers Market
DESCRIPTION:We are lucky to have Lemon Fair View Homestead bringing their sourdough breads and other small-batch baked goods to Waitsfield from their Champlain Valley home base.
URL:https://mrvvillage.com/event/lemon-fair-view-homestead-at-addison-west-makers-market/
LOCATION:Addison West\, 5275 Main Street\, Waitsfield\, VT\, 05673\, United States
ATTACH;FMTTYPE=image/png:https://mrvvillage.com/wp-content/uploads/2026/04/IMG_3619-kT9i8G.png
ORGANIZER;CN="Addison%20West":MAILTO:info@theaddisonwest.com
GEO:44.1926386;-72.7798479
X-APPLE-STRUCTURED-LOCATION;VALUE=URI;X-ADDRESS=Addison West 5275 Main Street Waitsfield VT 05673 United States;X-APPLE-RADIUS=500;X-TITLE=5275 Main Street:geo:-72.7798479,44.1926386
END:VEVENT
BEGIN:VEVENT
DTSTART;TZID=America/New_York:20260523T100000
DTEND;TZID=America/New_York:20260523T140000
DTSTAMP:20260421T152839
CREATED:20260415T212544Z
LAST-MODIFIED:20260421T162501Z
UID:10010114-1779530400-1779544800@mrvvillage.com
SUMMARY:As Little Cooking As Possible at Addison West Makers Market
DESCRIPTION:Elisa’s charming illustrations are inspired by her Finnish roots and the character of Vermont life. Explore her collection of sustainably produced prints\, greeting cards\, and unique gifts.
URL:https://mrvvillage.com/event/as-little-cooking-as-possible-at-addison-west-makers-market-2/
LOCATION:Addison West\, 5275 Main Street\, Waitsfield\, VT\, 05673\, United States
ATTACH;FMTTYPE=image/jpeg:https://mrvvillage.com/wp-content/uploads/2026/04/SummerMarket2025-9SmWxI.jpg
ORGANIZER;CN="Addison%20West":MAILTO:info@theaddisonwest.com
GEO:44.1926386;-72.7798479
X-APPLE-STRUCTURED-LOCATION;VALUE=URI;X-ADDRESS=Addison West 5275 Main Street Waitsfield VT 05673 United States;X-APPLE-RADIUS=500;X-TITLE=5275 Main Street:geo:-72.7798479,44.1926386
END:VEVENT
BEGIN:VEVENT
DTSTART;TZID=America/New_York:20260523T100000
DTEND;TZID=America/New_York:20260523T140000
DTSTAMP:20260421T152839
CREATED:20260415T212546Z
LAST-MODIFIED:20260421T162501Z
UID:10010115-1779530400-1779544800@mrvvillage.com
SUMMARY:Banoffi & Such Poptarts at Addison West Makers Market
DESCRIPTION:Banoffi & Such is popping up with homemade pop tarts—flaky\, buttery pastries filled with seasonal flavors and just the right touch of nostalgia. Stop by for a sweet treat (or two) and a fresh take on a classic favorite.
URL:https://mrvvillage.com/event/banoffi-such-poptarts-at-addison-west-makers-market/
LOCATION:Addison West\, 5275 Main Street\, Waitsfield\, VT\, 05673\, United States
ATTACH;FMTTYPE=image/png:https://mrvvillage.com/wp-content/uploads/2026/04/5841C988-EC81-47EF-83C4-B297E7CB2862_1_201_a-MvS8QJ.png
ORGANIZER;CN="Addison%20West":MAILTO:info@theaddisonwest.com
GEO:44.1926386;-72.7798479
X-APPLE-STRUCTURED-LOCATION;VALUE=URI;X-ADDRESS=Addison West 5275 Main Street Waitsfield VT 05673 United States;X-APPLE-RADIUS=500;X-TITLE=5275 Main Street:geo:-72.7798479,44.1926386
END:VEVENT
BEGIN:VEVENT
DTSTART;TZID=America/New_York:20260530T100000
DTEND;TZID=America/New_York:20260530T140000
DTSTAMP:20260421T152839
CREATED:20260408T204114Z
LAST-MODIFIED:20260421T162502Z
UID:10010094-1780135200-1780149600@mrvvillage.com
SUMMARY:Forest City Designs at Addison West Makers Market
DESCRIPTION:Todd Cummings is a Vermont based illustrator and designer whose work celebrates the natural beauty of Vermont and the Northeast. His style is a modern interpretation of classic American landscape painting.
URL:https://mrvvillage.com/event/forest-city-designs-at-addison-west-makers-market-2/
LOCATION:Addison West\, 5275 Main Street\, Waitsfield\, VT\, 05673\, United States
ATTACH;FMTTYPE=image/png:https://mrvvillage.com/wp-content/uploads/2026/04/ea3959_1ff072ccc9b743059606d29f6ff417e7mv2-2-nu438p.png
ORGANIZER;CN="Addison%20West":MAILTO:info@theaddisonwest.com
GEO:44.1926386;-72.7798479
X-APPLE-STRUCTURED-LOCATION;VALUE=URI;X-ADDRESS=Addison West 5275 Main Street Waitsfield VT 05673 United States;X-APPLE-RADIUS=500;X-TITLE=5275 Main Street:geo:-72.7798479,44.1926386
END:VEVENT
BEGIN:VEVENT
DTSTART;TZID=America/New_York:20260530T100000
DTEND;TZID=America/New_York:20260530T140000
DTSTAMP:20260421T152839
CREATED:20260415T212604Z
LAST-MODIFIED:20260421T162502Z
UID:10010116-1780135200-1780149600@mrvvillage.com
SUMMARY:Forest City Designs at Addison West Makers Market
DESCRIPTION:Todd Cummings is a Vermont based illustrator and designer whose work celebrates the natural beauty of Vermont and the Northeast. His style is a modern interpretation of classic American landscape painting.
URL:https://mrvvillage.com/event/forest-city-designs-at-addison-west-makers-market-3/
LOCATION:Addison West\, 5275 Main Street\, Waitsfield\, VT\, 05673\, United States
ATTACH;FMTTYPE=image/png:https://mrvvillage.com/wp-content/uploads/2026/04/ea3959_1ff072ccc9b743059606d29f6ff417e7mv2-21-XVbk00.png
ORGANIZER;CN="Addison%20West":MAILTO:info@theaddisonwest.com
GEO:44.1926386;-72.7798479
X-APPLE-STRUCTURED-LOCATION;VALUE=URI;X-ADDRESS=Addison West 5275 Main Street Waitsfield VT 05673 United States;X-APPLE-RADIUS=500;X-TITLE=5275 Main Street:geo:-72.7798479,44.1926386
END:VEVENT
BEGIN:VEVENT
DTSTART;TZID=America/New_York:20260530T100000
DTEND;TZID=America/New_York:20260530T140000
DTSTAMP:20260421T152839
CREATED:20260415T212607Z
LAST-MODIFIED:20260421T162517Z
UID:10010117-1780135200-1780149600@mrvvillage.com
SUMMARY:Kathy Mehuron at Addison West Makers Market
DESCRIPTION:Kathy Mehuron\, local columnist and author\, will be joining our Makers Market with her collection of novels and nonfiction works. Through her writing\, she supports her nonprofit\, Take Me Back\, dedicated to preserving and sharing the rich history of the Mad River Valley.
URL:https://mrvvillage.com/event/kathy-mehuron-at-addison-west-makers-market/
LOCATION:Addison West\, 5275 Main Street\, Waitsfield\, VT\, 05673\, United States
ATTACH;FMTTYPE=image/jpeg:https://mrvvillage.com/wp-content/uploads/2026/04/Untitled-design-1-I4wxVS.jpg
ORGANIZER;CN="Addison%20West":MAILTO:info@theaddisonwest.com
GEO:44.1926386;-72.7798479
X-APPLE-STRUCTURED-LOCATION;VALUE=URI;X-ADDRESS=Addison West 5275 Main Street Waitsfield VT 05673 United States;X-APPLE-RADIUS=500;X-TITLE=5275 Main Street:geo:-72.7798479,44.1926386
END:VEVENT
BEGIN:VEVENT
DTSTART;TZID=America/New_York:20260530T100000
DTEND;TZID=America/New_York:20260530T140000
DTSTAMP:20260421T152839
CREATED:20260415T212610Z
LAST-MODIFIED:20260421T162517Z
UID:10010118-1780135200-1780149600@mrvvillage.com
SUMMARY:Wink Designs at Addison West Makers Market
DESCRIPTION:Whimsical tea towels\, dish cloths\, notepads\, and more—everyday goods with a playful twist.
URL:https://mrvvillage.com/event/wink-designs-at-addison-west-makers-market-2/
LOCATION:Addison West\, 5275 Main Street\, Waitsfield\, VT\, 05673\, United States
ATTACH;FMTTYPE=image/jpeg:https://mrvvillage.com/wp-content/uploads/2026/04/DSC_6207-Edit-1x1_d2dca831-1ac7-42e5-bf9c-3d557c6c4625-LlsFqu.jpg
ORGANIZER;CN="Addison%20West":MAILTO:info@theaddisonwest.com
GEO:44.1926386;-72.7798479
X-APPLE-STRUCTURED-LOCATION;VALUE=URI;X-ADDRESS=Addison West 5275 Main Street Waitsfield VT 05673 United States;X-APPLE-RADIUS=500;X-TITLE=5275 Main Street:geo:-72.7798479,44.1926386
END:VEVENT
BEGIN:VEVENT
DTSTART;TZID=America/New_York:20260530T120000
DTEND;TZID=America/New_York:20260530T160000
DTSTAMP:20260421T152839
CREATED:20260415T212612Z
LAST-MODIFIED:20260421T162517Z
UID:10010119-1780142400-1780156800@mrvvillage.com
SUMMARY:Split Spirits at Addison West Makers Market
DESCRIPTION:America’s first Climate Neutral certified distillery—handcrafted and infused with local woods and grains for a true taste of place. Enjoy cocktails and tastings from this sustainable Middlebury-based spirits brand.
URL:https://mrvvillage.com/event/split-spirits-at-addison-west-makers-market-5/
LOCATION:Addison West\, 5275 Main Street\, Waitsfield\, VT\, 05673\, United States
ATTACH;FMTTYPE=image/png:https://mrvvillage.com/wp-content/uploads/2026/04/split-spirits-logo-Kml9Ha.png
ORGANIZER;CN="Addison%20West":MAILTO:info@theaddisonwest.com
GEO:44.1926386;-72.7798479
X-APPLE-STRUCTURED-LOCATION;VALUE=URI;X-ADDRESS=Addison West 5275 Main Street Waitsfield VT 05673 United States;X-APPLE-RADIUS=500;X-TITLE=5275 Main Street:geo:-72.7798479,44.1926386
END:VEVENT
END:VCALENDAR