BEGIN:VCALENDAR
VERSION:2.0
PRODID:-//The Mad River Valley Village - ECPv6.0.13//NONSGML v1.0//EN
CALSCALE:GREGORIAN
METHOD:PUBLISH
X-ORIGINAL-URL:https://mrvvillage.com
X-WR-CALDESC:Events for The Mad River Valley Village
REFRESH-INTERVAL;VALUE=DURATION:PT1H
X-Robots-Tag:noindex
X-PUBLISHED-TTL:PT1H
BEGIN:VTIMEZONE
TZID:America/New_York
BEGIN:DAYLIGHT
TZOFFSETFROM:-0500
TZOFFSETTO:-0400
TZNAME:EDT
DTSTART:20230312T070000
END:DAYLIGHT
BEGIN:STANDARD
TZOFFSETFROM:-0400
TZOFFSETTO:-0500
TZNAME:EST
DTSTART:20231105T060000
END:STANDARD
BEGIN:DAYLIGHT
TZOFFSETFROM:-0500
TZOFFSETTO:-0400
TZNAME:EDT
DTSTART:20240310T070000
END:DAYLIGHT
BEGIN:STANDARD
TZOFFSETFROM:-0400
TZOFFSETTO:-0500
TZNAME:EST
DTSTART:20241103T060000
END:STANDARD
BEGIN:DAYLIGHT
TZOFFSETFROM:-0500
TZOFFSETTO:-0400
TZNAME:EDT
DTSTART:20250309T070000
END:DAYLIGHT
BEGIN:STANDARD
TZOFFSETFROM:-0400
TZOFFSETTO:-0500
TZNAME:EST
DTSTART:20251102T060000
END:STANDARD
END:VTIMEZONE
BEGIN:VEVENT
DTSTART;TZID=America/New_York:20231201T100000
DTEND;TZID=America/New_York:20231201T170000
DTSTAMP:20260423T053154
CREATED:20231117T215356Z
LAST-MODIFIED:20231201T160819Z
UID:10005538-1701424800-1701450000@mrvvillage.com
SUMMARY:BAKED BEADS POP-UP JEWELRY & SCARF SALE • 3-for-$20!
DESCRIPTION:Everything priced at 3-for-$20 — 60-75% off previous seasons’ styles of earrings\, necklaces\, bracelets & scarves!\nFriday and Saturday December 1-2  from 10AM-5PM
URL:https://mrvvillage.com/event/baked-beads-pop-up-jewelry-scarf-sale-3-for-20/
LOCATION:Baked Beads\, 6973 Main Street\, Waitsfield\, Vermont\, 05673\, United States
CATEGORIES:Community,Special Events
ATTACH;FMTTYPE=image/jpeg:https://mrvvillage.com/wp-content/uploads/2023/11/Sale-December-2023-Event-Photo-lE3Crx.tmp_.jpg
ORGANIZER;CN="Baked%20Beads":MAILTO:clearance@bakedbeads
GEO:44.1598221;-72.8339319
X-APPLE-STRUCTURED-LOCATION;VALUE=URI;X-ADDRESS=Baked Beads 6973 Main Street Waitsfield Vermont 05673 United States;X-APPLE-RADIUS=500;X-TITLE=6973 Main Street:geo:-72.8339319,44.1598221
END:VEVENT
BEGIN:VEVENT
DTSTART;TZID=America/New_York:20241213T100000
DTEND;TZID=America/New_York:20241213T170000
DTSTAMP:20260423T053154
CREATED:20241209T182319Z
LAST-MODIFIED:20241213T192315Z
UID:10007238-1734084000-1734109200@mrvvillage.com
SUMMARY:BAKED BEADS 3-for-$20 POP-UP JEWELRY & SCARF SALE
DESCRIPTION:• All Earrings\, Necklaces\, Bracelets & Scarves Priced at 3-for-$20\n• 75% Off Previous Season Styles\, One-of-a-Kind Designs & Production Samples\n• Silver\, Gold\, Brass\, Sparkle\, Enamel\, Natural Stones\, Big & Small\n• Plus Rings\, Hair Accessories\, Pouches\, Key Chains\, Beads & More \n• Come enjoy the thrill of finding bargains with our helpful crew\, fellow shoppers\, and great music playing in the background!\n• Find something for everyone on your shopping list\, Including YOU!\n• Follow us on Facebook and Instagram\, and sign up on our website to receive our emails so you don’t miss a sale!\n• Please help spread the word!\n• Explore so much more in the Mad River Valley! \n• Cash • Check • Venmo
URL:https://mrvvillage.com/event/baked-beads-3-for-20-pop-up-jewelry-scarf-sale/
LOCATION:Baked Beads\, 6973 Main Street\, Waitsfield\, Vermont\, 05673\, United States
ATTACH;FMTTYPE=image/jpeg:https://mrvvillage.com/wp-content/uploads/2024/12/Pop-Up-Sale-December-2024-Photo-Displays-5vcWMR.tmp_.jpg
ORGANIZER;CN="Baked%20Beads":MAILTO:clearance@bakedbeads
GEO:44.1598221;-72.8339319
X-APPLE-STRUCTURED-LOCATION;VALUE=URI;X-ADDRESS=Baked Beads 6973 Main Street Waitsfield Vermont 05673 United States;X-APPLE-RADIUS=500;X-TITLE=6973 Main Street:geo:-72.8339319,44.1598221
END:VEVENT
BEGIN:VEVENT
DTSTART;TZID=America/New_York:20241214T100000
DTEND;TZID=America/New_York:20241214T170000
DTSTAMP:20260423T053154
CREATED:20241209T182338Z
LAST-MODIFIED:20241214T192313Z
UID:10007241-1734170400-1734195600@mrvvillage.com
SUMMARY:BAKED BEADS 3-for-$20 POP-UP JEWELRY & SCARF SALE
DESCRIPTION:• All Earrings\, Necklaces\, Bracelets & Scarves Priced at 3-for-$20\n• 75% Off Previous Season Styles\, One-of-a-Kind Designs & Production Samples\n• Silver\, Gold\, Brass\, Sparkle\, Enamel\, Natural Stones\, Big & Small\n• Plus Rings\, Hair Accessories\, Pouches\, Key Chains\, Beads & More \n• Come enjoy the thrill of finding bargains with our helpful crew\, fellow shoppers\, and great music playing in the background!\n• Find something for everyone on your shopping list\, Including YOU!\n• Follow us on Facebook and Instagram\, and sign up on our website to receive our emails so you don’t miss a sale!\n• Please help spread the word!\n• Explore so much more in the Mad River Valley! \n• Cash • Check • Venmo
URL:https://mrvvillage.com/event/baked-beads-3-for-20-pop-up-jewelry-scarf-sale-2/
LOCATION:Baked Beads\, 6973 Main Street\, Waitsfield\, Vermont\, 05673\, United States
ATTACH;FMTTYPE=image/jpeg:https://mrvvillage.com/wp-content/uploads/2024/12/Pop-Up-Sale-December-2024-Photo-Displays-5vcWMR.tmp_.jpg
ORGANIZER;CN="Baked%20Beads":MAILTO:clearance@bakedbeads
GEO:44.1598221;-72.8339319
X-APPLE-STRUCTURED-LOCATION;VALUE=URI;X-ADDRESS=Baked Beads 6973 Main Street Waitsfield Vermont 05673 United States;X-APPLE-RADIUS=500;X-TITLE=6973 Main Street:geo:-72.8339319,44.1598221
END:VEVENT
BEGIN:VEVENT
DTSTART;TZID=America/New_York:20251010T100000
DTEND;TZID=America/New_York:20251010T170000
DTSTAMP:20260423T053154
CREATED:20250917T212521Z
LAST-MODIFIED:20251010T135324Z
UID:10009013-1760090400-1760115600@mrvvillage.com
SUMMARY:BAKED BEADS JEWELRY & SCARF WAREHOUSE SALE – 3-for-$20
DESCRIPTION:All earrings\, necklaces\, bracelets & scarves priced at 3-for-$20 . . . Plus rings\, key chains\, bags of beads\, displays & more! \nBaked Beads has been designing\, manufacturing\, and wholesaling fashion jewelry and scarves in Vermont’s Mad River Valley since 1991. We launched our first retail sale in Waitsfield that same year as a way of selling our previous season’s first quality overstocks . . . And we’ve been doing it ever since. While the sales have evolved over the last 34 years\, they’re still all about an abundant selection of affordable jewelry and scarves\, spending time with friends\, making new ones\, the thrill of bargain hunting\, and of course\, the great music. There’s no better way to kick off your holiday shopping! \nFollow us on Facebook & Instagram\, and sign up on our website to receive our emails for all in-person warehouse and online sale info!
URL:https://mrvvillage.com/event/baked-beads-jewelry-scarf-warehouse-sale-3-for-20/
LOCATION:Baked Beads\, 6973 Main Street\, Waitsfield\, Vermont\, 05673\, United States
CATEGORIES:Special Events
ATTACH;FMTTYPE=image/jpeg:https://mrvvillage.com/wp-content/uploads/2025/09/Warehouse-Sale-October-2025-Green-Earring-Banner-for-Poster-eSpmt9.jpg
ORGANIZER;CN="Baked%20Beads":MAILTO:clearance@bakedbeads
GEO:44.1598221;-72.8339319
X-APPLE-STRUCTURED-LOCATION;VALUE=URI;X-ADDRESS=Baked Beads 6973 Main Street Waitsfield Vermont 05673 United States;X-APPLE-RADIUS=500;X-TITLE=6973 Main Street:geo:-72.8339319,44.1598221
END:VEVENT
BEGIN:VEVENT
DTSTART;TZID=America/New_York:20251011T100000
DTEND;TZID=America/New_York:20251011T170000
DTSTAMP:20260423T053154
CREATED:20250917T212548Z
LAST-MODIFIED:20251011T140838Z
UID:10009014-1760176800-1760202000@mrvvillage.com
SUMMARY:BAKED BEADS JEWELRY & SCARF WAREHOUSE SALE – 3-for-$20
DESCRIPTION:All earrings\, necklaces\, bracelets & scarves priced at 3-for-$20 . . . Plus rings\, key chains\, bags of beads\, displays & more! \nBaked Beads has been designing\, manufacturing\, and wholesaling fashion jewelry and scarves in Vermont’s Mad River Valley since 1991. We launched our first retail sale in Waitsfield that same year as a way of selling our previous season’s first quality overstocks . . . And we’ve been doing it ever since. While the sales have evolved over the last 34 years\, they’re still all about an abundant selection of affordable jewelry and scarves\, spending time with friends\, making new ones\, the thrill of bargain hunting\, and of course\, the great music. There’s no better way to kick off your holiday shopping! \nFollow us on Facebook & Instagram\, and sign up on our website to receive our emails for all in-person warehouse and online sale info!
URL:https://mrvvillage.com/event/baked-beads-jewelry-scarf-warehouse-sale-3-for-20-2/
LOCATION:Baked Beads\, 6973 Main Street\, Waitsfield\, Vermont\, 05673\, United States
CATEGORIES:Special Events
ATTACH;FMTTYPE=image/jpeg:https://mrvvillage.com/wp-content/uploads/2025/09/Warehouse-Sale-October-2025-Green-Earring-Banner-for-Poster-eSpmt9.jpg
ORGANIZER;CN="Baked%20Beads":MAILTO:clearance@bakedbeads
GEO:44.1598221;-72.8339319
X-APPLE-STRUCTURED-LOCATION;VALUE=URI;X-ADDRESS=Baked Beads 6973 Main Street Waitsfield Vermont 05673 United States;X-APPLE-RADIUS=500;X-TITLE=6973 Main Street:geo:-72.8339319,44.1598221
END:VEVENT
BEGIN:VEVENT
DTSTART;TZID=America/New_York:20251012T100000
DTEND;TZID=America/New_York:20251012T170000
DTSTAMP:20260423T053154
CREATED:20250917T212548Z
LAST-MODIFIED:20251012T140818Z
UID:10009015-1760263200-1760288400@mrvvillage.com
SUMMARY:BAKED BEADS JEWELRY & SCARF WAREHOUSE SALE – 3-for-$20
DESCRIPTION:All earrings\, necklaces\, bracelets & scarves priced at 3-for-$20 . . . Plus rings\, key chains\, bags of beads\, displays & more! \nBaked Beads has been designing\, manufacturing\, and wholesaling fashion jewelry and scarves in Vermont’s Mad River Valley since 1991. We launched our first retail sale in Waitsfield that same year as a way of selling our previous season’s first quality overstocks . . . And we’ve been doing it ever since. While the sales have evolved over the last 34 years\, they’re still all about an abundant selection of affordable jewelry and scarves\, spending time with friends\, making new ones\, the thrill of bargain hunting\, and of course\, the great music. There’s no better way to kick off your holiday shopping! \nFollow us on Facebook & Instagram\, and sign up on our website to receive our emails for all in-person warehouse and online sale info!
URL:https://mrvvillage.com/event/baked-beads-jewelry-scarf-warehouse-sale-3-for-20-3/
LOCATION:Baked Beads\, 6973 Main Street\, Waitsfield\, Vermont\, 05673\, United States
CATEGORIES:Special Events
ATTACH;FMTTYPE=image/jpeg:https://mrvvillage.com/wp-content/uploads/2025/09/Warehouse-Sale-October-2025-Green-Earring-Banner-for-Poster-eSpmt9.jpg
ORGANIZER;CN="Baked%20Beads":MAILTO:clearance@bakedbeads
GEO:44.1598221;-72.8339319
X-APPLE-STRUCTURED-LOCATION;VALUE=URI;X-ADDRESS=Baked Beads 6973 Main Street Waitsfield Vermont 05673 United States;X-APPLE-RADIUS=500;X-TITLE=6973 Main Street:geo:-72.8339319,44.1598221
END:VEVENT
END:VCALENDAR