BEGIN:VCALENDAR
VERSION:2.0
PRODID:-//The Mad River Valley Village - ECPv6.0.13//NONSGML v1.0//EN
CALSCALE:GREGORIAN
METHOD:PUBLISH
X-ORIGINAL-URL:https://mrvvillage.com
X-WR-CALDESC:Events for The Mad River Valley Village
REFRESH-INTERVAL;VALUE=DURATION:PT1H
X-Robots-Tag:noindex
X-PUBLISHED-TTL:PT1H
BEGIN:VTIMEZONE
TZID:America/New_York
BEGIN:DAYLIGHT
TZOFFSETFROM:-0500
TZOFFSETTO:-0400
TZNAME:EDT
DTSTART:20260308T070000
END:DAYLIGHT
BEGIN:STANDARD
TZOFFSETFROM:-0400
TZOFFSETTO:-0500
TZNAME:EST
DTSTART:20261101T060000
END:STANDARD
END:VTIMEZONE
BEGIN:VEVENT
DTSTART;TZID=America/New_York:20260404T110000
DTEND;TZID=America/New_York:20260404T120000
DTSTAMP:20260421T190725
CREATED:20260328T182429Z
LAST-MODIFIED:20260404T195325Z
UID:10010047-1775300400-1775304000@mrvvillage.com
SUMMARY:Saturday Family Fun
DESCRIPTION:Join Three Mountain Cafe and Inklings Children’s Books for some pre-Easter activities! \nSaturday\, April 4th\, starting at 11am\, there will be wooden egg decorating at Inklings. Register in advance for a delicious box lunch from Three Mountain! \nDon’t miss this great opportunity for grown ups to do a little shopping at Mad River Green Shops while the littles enjoy some creative fun!
URL:https://mrvvillage.com/event/saturday-family-fun/
LOCATION:Inklings Children’s Books\, 106 Mad River Greeen\, Waitsfield\, VT\, 05673\, United States
CATEGORIES:Arts & Entertainment,Family Friendly
ATTACH;FMTTYPE=image/jpeg:https://mrvvillage.com/wp-content/uploads/2026/03/AprilFourFlyer-MRV-eLmiTA.jpg
ORGANIZER;CN="Inklings%20Children%26%238217%3Bs%20Books":MAILTO:inklingschildrensbooks@gmail.com
GEO:44.1844899;-72.839037
X-APPLE-STRUCTURED-LOCATION;VALUE=URI;X-ADDRESS=Inklings Children’s Books 106 Mad River Greeen Waitsfield VT 05673 United States;X-APPLE-RADIUS=500;X-TITLE=106 Mad River Greeen:geo:-72.839037,44.1844899
END:VEVENT
BEGIN:VEVENT
DTSTART;TZID=America/New_York:20260410T100000
DTEND;TZID=America/New_York:20260410T110000
DTSTAMP:20260421T190725
CREATED:20260110T183058Z
LAST-MODIFIED:20260410T205325Z
UID:10009723-1775815200-1775818800@mrvvillage.com
SUMMARY:Toddler Time\, Creative Shapes Art Class at Inklings!
DESCRIPTION:It’s Toddler Time\, Creative Shapes Art Class at Inklings Children’s Books! Friday mornings from 10am – 11am. \nCaregivers and their little ones are invited to explore shapes in a whole new way\, and develop those fine motor skills; all while having some creative fun! \nActivities will include painting with balloons\, creating shapes with different materials\, and color matching. \nBegins Friday\, Nov. 7th and goes for 6 weeks.\nAges: 18mo – 4yrs.\nPrice: $85 (all six classes) Drop-in Price: $15/per class
URL:https://mrvvillage.com/event/toddler-time-creative-shapes-art-class-at-inklings-24/
LOCATION:Inklings Children’s Books\, 106 Mad River Greeen\, Waitsfield\, VT\, 05673\, United States
CATEGORIES:Family Friendly
ATTACH;FMTTYPE=image/jpeg:https://mrvvillage.com/wp-content/uploads/2025/10/Creative-Shapes-Flyer-MRV-OKWKDM.jpg
ORGANIZER;CN="Inklings%20Children%26%238217%3Bs%20Books":MAILTO:inklingschildrensbooks@gmail.com
GEO:44.1844899;-72.839037
X-APPLE-STRUCTURED-LOCATION;VALUE=URI;X-ADDRESS=Inklings Children’s Books 106 Mad River Greeen Waitsfield VT 05673 United States;X-APPLE-RADIUS=500;X-TITLE=106 Mad River Greeen:geo:-72.839037,44.1844899
END:VEVENT
BEGIN:VEVENT
DTSTART;TZID=America/New_York:20260411T110000
DTEND;TZID=America/New_York:20260411T120000
DTSTAMP:20260421T190725
CREATED:20260401T141006Z
LAST-MODIFIED:20260411T205323Z
UID:10010070-1775905200-1775908800@mrvvillage.com
SUMMARY:“Magic Woods” Podcaster George Patrick Leal visits Inklings!
DESCRIPTION:Inklings is excited to welcome Vermont teacher\, author\, and creator of the Magic Woods podcast and book series\, George Patrick Leal! \nMagic Woods began as a way to stay connected with his students\, but has since grown into a podcast that’s now been played in more than fifty countries.
URL:https://mrvvillage.com/event/magic-woods-podcaster-george-patrick-leal-visits-inklings/
LOCATION:Inklings Children’s Books\, 106 Mad River Greeen\, Waitsfield\, VT\, 05673\, United States
CATEGORIES:Arts & Entertainment,Family Friendly
ATTACH;FMTTYPE=image/jpeg:https://mrvvillage.com/wp-content/uploads/2026/04/GeorgeLealVisit-MRV-Vv778o.jpg
ORGANIZER;CN="Inklings%20Children%26%238217%3Bs%20Books":MAILTO:inklingschildrensbooks@gmail.com
GEO:44.1844899;-72.839037
X-APPLE-STRUCTURED-LOCATION;VALUE=URI;X-ADDRESS=Inklings Children’s Books 106 Mad River Greeen Waitsfield VT 05673 United States;X-APPLE-RADIUS=500;X-TITLE=106 Mad River Greeen:geo:-72.839037,44.1844899
END:VEVENT
BEGIN:VEVENT
DTSTART;TZID=America/New_York:20260417T100000
DTEND;TZID=America/New_York:20260417T110000
DTSTAMP:20260421T190725
CREATED:20260117T010024Z
LAST-MODIFIED:20260417T215323Z
UID:10009748-1776420000-1776423600@mrvvillage.com
SUMMARY:Toddler Time\, Creative Shapes Art Class at Inklings!
DESCRIPTION:It’s Toddler Time\, Creative Shapes Art Class at Inklings Children’s Books! Friday mornings from 10am – 11am. \nCaregivers and their little ones are invited to explore shapes in a whole new way\, and develop those fine motor skills; all while having some creative fun! \nActivities will include painting with balloons\, creating shapes with different materials\, and color matching. \nBegins Friday\, Nov. 7th and goes for 6 weeks.\nAges: 18mo – 4yrs.\nPrice: $85 (all six classes) Drop-in Price: $15/per class
URL:https://mrvvillage.com/event/toddler-time-creative-shapes-art-class-at-inklings-25/
LOCATION:Inklings Children’s Books\, 106 Mad River Greeen\, Waitsfield\, VT\, 05673\, United States
CATEGORIES:Family Friendly
ATTACH;FMTTYPE=image/jpeg:https://mrvvillage.com/wp-content/uploads/2025/10/Creative-Shapes-Flyer-MRV-OKWKDM.jpg
ORGANIZER;CN="Inklings%20Children%26%238217%3Bs%20Books":MAILTO:inklingschildrensbooks@gmail.com
GEO:44.1844899;-72.839037
X-APPLE-STRUCTURED-LOCATION;VALUE=URI;X-ADDRESS=Inklings Children’s Books 106 Mad River Greeen Waitsfield VT 05673 United States;X-APPLE-RADIUS=500;X-TITLE=106 Mad River Greeen:geo:-72.839037,44.1844899
END:VEVENT
BEGIN:VEVENT
DTSTART;TZID=America/New_York:20260418T110000
DTEND;TZID=America/New_York:20260418T110000
DTSTAMP:20260421T190725
CREATED:20260401T141044Z
LAST-MODIFIED:20260418T220819Z
UID:10010072-1776510000-1776510000@mrvvillage.com
SUMMARY:Miss Gladys visits Inklings for Bilingual Storytime!
DESCRIPTION:Join our special guest\, Miss Gladys\, for a reading of Love is Still Winning on Saturday\, April 18th at 11am. \nParents will adore this bilingual English-Spanish picture book as it introduces little ones to possibilities in which they can bring love and kindness into the world.
URL:https://mrvvillage.com/event/miss-gladys-visits-inklings-for-bilingual-storytime/
LOCATION:Inklings Children’s Books\, 106 Mad River Greeen\, Waitsfield\, VT\, 05673\, United States
CATEGORIES:Arts & Entertainment,Family Friendly
ATTACH;FMTTYPE=image/jpeg:https://mrvvillage.com/wp-content/uploads/2026/04/MissGladysStorytime-MRV-L0tOS3.jpg
ORGANIZER;CN="Inklings%20Children%26%238217%3Bs%20Books":MAILTO:inklingschildrensbooks@gmail.com
GEO:44.1844899;-72.839037
X-APPLE-STRUCTURED-LOCATION;VALUE=URI;X-ADDRESS=Inklings Children’s Books 106 Mad River Greeen Waitsfield VT 05673 United States;X-APPLE-RADIUS=500;X-TITLE=106 Mad River Greeen:geo:-72.839037,44.1844899
END:VEVENT
END:VCALENDAR