BEGIN:VCALENDAR
VERSION:2.0
PRODID:-//The Mad River Valley Village - ECPv6.0.13//NONSGML v1.0//EN
CALSCALE:GREGORIAN
METHOD:PUBLISH
X-ORIGINAL-URL:https://mrvvillage.com
X-WR-CALDESC:Events for The Mad River Valley Village
REFRESH-INTERVAL;VALUE=DURATION:PT1H
X-Robots-Tag:noindex
X-PUBLISHED-TTL:PT1H
BEGIN:VTIMEZONE
TZID:America/New_York
BEGIN:DAYLIGHT
TZOFFSETFROM:-0500
TZOFFSETTO:-0400
TZNAME:EDT
DTSTART:20260308T070000
END:DAYLIGHT
BEGIN:STANDARD
TZOFFSETFROM:-0400
TZOFFSETTO:-0500
TZNAME:EST
DTSTART:20261101T060000
END:STANDARD
END:VTIMEZONE
BEGIN:VEVENT
DTSTART;TZID=America/New_York:20260425T140000
DTEND;TZID=America/New_York:20260425T160000
DTSTAMP:20260422T203455
CREATED:20260422T163838Z
LAST-MODIFIED:20260422T223837Z
UID:10010135-1777125600-1777132800@mrvvillage.com
SUMMARY:Understanding Pollination Through Illustration
DESCRIPTION:Gain a better understanding of the process of pollination through discussion and scientific illustration. No experience necessary.
URL:https://mrvvillage.com/event/understanding-pollination-through-illustration/
LOCATION:Joy Bar & Restaurant\, 172 Mad River Green 172 Mad River Green\, Waitsfield\, Vermont\, 05673\, United States
ATTACH;FMTTYPE=image/png:https://mrvvillage.com/wp-content/uploads/2026/04/poster-joy-scaled-pq0nQY.png
ORGANIZER;CN="Emma%20Delphin":MAILTO:joybarandrestaurant@gmail.com
GEO:44.1834509;-72.8396745
X-APPLE-STRUCTURED-LOCATION;VALUE=URI;X-ADDRESS=Joy Bar & Restaurant 172 Mad River Green 172 Mad River Green Waitsfield Vermont 05673 United States;X-APPLE-RADIUS=500;X-TITLE=172 Mad River Green 172 Mad River Green:geo:-72.8396745,44.1834509
END:VEVENT
END:VCALENDAR