BEGIN:VCALENDAR
VERSION:2.0
PRODID:-//The Mad River Valley Village - ECPv6.0.13//NONSGML v1.0//EN
CALSCALE:GREGORIAN
METHOD:PUBLISH
X-ORIGINAL-URL:https://mrvvillage.com
X-WR-CALDESC:Events for The Mad River Valley Village
REFRESH-INTERVAL;VALUE=DURATION:PT1H
X-Robots-Tag:noindex
X-PUBLISHED-TTL:PT1H
BEGIN:VTIMEZONE
TZID:America/New_York
BEGIN:DAYLIGHT
TZOFFSETFROM:-0500
TZOFFSETTO:-0400
TZNAME:EDT
DTSTART:20260308T070000
END:DAYLIGHT
BEGIN:STANDARD
TZOFFSETFROM:-0400
TZOFFSETTO:-0500
TZNAME:EST
DTSTART:20261101T060000
END:STANDARD
END:VTIMEZONE
BEGIN:VEVENT
DTSTART;TZID=America/New_York:20260629T090000
DTEND;TZID=America/New_York:20260703T150000
DTSTAMP:20260422T170913
CREATED:20260422T164101Z
LAST-MODIFIED:20260422T164101Z
UID:10010140-1782723600-1783090800@mrvvillage.com
SUMMARY:Parade Camp
DESCRIPTION:A week of farm adventures and creativity \nThis special camp week blends the best of farm life with creative parade preparation. Campers will explore the joys of the farm while also creating costumes and building a float for the Warren Fourth of July parade. \nA typical day includes: \n—Morning farm explorations: tending animals\, planting seeds\, and caring for the garden\n—Creative parade preparation: designing costumes with fabric\, paints\, and papier-mâché\, and building our camp float together\n—Healthy cooking with farm ingredients\n—Afternoon swims in our private Mad River swimming hole\n—Games\, crafts\, and building new friendships\n—Culminating celebration: marching together in the Warren July 4th Parade!
URL:https://mrvvillage.com/event/parade-camp/
LOCATION:Living Tree Alliance\, 96 Living Tree Ln\, Moretown\, VT\, 05660\, United States
ATTACH;FMTTYPE=image/png:https://mrvvillage.com/wp-content/uploads/2026/04/Farm-camps-gn7Oil.png
ORGANIZER;CN="Living%20Tree%20Alliance":MAILTO:info@livingtreealliance.com
GEO:44.2472902;-72.7762636
X-APPLE-STRUCTURED-LOCATION;VALUE=URI;X-ADDRESS=Living Tree Alliance 96 Living Tree Ln Moretown VT 05660 United States;X-APPLE-RADIUS=500;X-TITLE=96 Living Tree Ln:geo:-72.7762636,44.2472902
END:VEVENT
END:VCALENDAR