BEGIN:VCALENDAR
VERSION:2.0
PRODID:-//The Mad River Valley Village - ECPv6.0.13//NONSGML v1.0//EN
CALSCALE:GREGORIAN
METHOD:PUBLISH
X-ORIGINAL-URL:https://mrvvillage.com
X-WR-CALDESC:Events for The Mad River Valley Village
REFRESH-INTERVAL;VALUE=DURATION:PT1H
X-Robots-Tag:noindex
X-PUBLISHED-TTL:PT1H
BEGIN:VTIMEZONE
TZID:America/New_York
BEGIN:DAYLIGHT
TZOFFSETFROM:-0500
TZOFFSETTO:-0400
TZNAME:EDT
DTSTART:20240310T070000
END:DAYLIGHT
BEGIN:STANDARD
TZOFFSETFROM:-0400
TZOFFSETTO:-0500
TZNAME:EST
DTSTART:20241103T060000
END:STANDARD
BEGIN:DAYLIGHT
TZOFFSETFROM:-0500
TZOFFSETTO:-0400
TZNAME:EDT
DTSTART:20250309T070000
END:DAYLIGHT
BEGIN:STANDARD
TZOFFSETFROM:-0400
TZOFFSETTO:-0500
TZNAME:EST
DTSTART:20251102T060000
END:STANDARD
END:VTIMEZONE
BEGIN:VEVENT
DTSTART;TZID=America/New_York:20240408T130000
DTEND;TZID=America/New_York:20240408T160000
DTSTAMP:20260423T183653
CREATED:20240227T211034Z
LAST-MODIFIED:20240408T142307Z
UID:10005962-1712581200-1712592000@mrvvillage.com
SUMMARY:Solar Eclipse Celebration at Mad River Green Shops!
DESCRIPTION:How do you have fun during a solar eclipse? You planet…\nSo plan to be at Mad River Green Shops for the solar eclipse celebration. \nStarting at 1:00pm on April 8\, shops at the Green will begin their Celestial Celebration\, giving children and grown ups the chance to have an afternoon of fun leading up to this once-in-a-lifetime experience. \nTravel from shop to shop to participate in games\, raffles\, a make your own moon craft\, and yummy eclipse themed treats for all ages. Then\, join everyone on the Green for the main event. \nThe Collection: Viewing Goggles Available\, Moon Balls \nInklings Children’s Books: Books about the eclipse\, child-sized viewing glasses\, a make-your-own moon craft \nMad River Taste Place: Will have “Path of Totality” Vermont IPA from Mt. Holly available for purchase — limited release! Snack boxes available for grab-and-go while supplies last. \nProduct Think Tank: Stop by for a”Moonshine Mocktail” and a chance to win a cotton unisex sweater in the color black. \nThree Mountain Cafe: Will have eclipse themed treats. \nVisit participating stores for details.
URL:https://mrvvillage.com/event/solar-eclipse-celebration-at-mad-river-green-shops/
LOCATION:Mad River Green Shops\, 107 M\, waitsfield\, VT\, 05673\, United States
CATEGORIES:Community,Family Friendly,Food & Drink
ATTACH;FMTTYPE=image/jpeg:https://mrvvillage.com/wp-content/uploads/2024/02/EclipseFlyer-copy-1NQS1t.tmp_.jpg
ORGANIZER;CN="Mad%20River%20Green%20Shops":MAILTO:sedona5028@gmail.com
GEO:44.1926386;-72.7798479
X-APPLE-STRUCTURED-LOCATION;VALUE=URI;X-ADDRESS=Mad River Green Shops 107 M waitsfield VT 05673 United States;X-APPLE-RADIUS=500;X-TITLE=107 M:geo:-72.7798479,44.1926386
END:VEVENT
BEGIN:VEVENT
DTSTART;TZID=America/New_York:20241207T120000
DTEND;TZID=America/New_York:20241207T160000
DTSTAMP:20260423T183653
CREATED:20241118T175341Z
LAST-MODIFIED:20241121T182343Z
UID:10007227-1733572800-1733587200@mrvvillage.com
SUMMARY:Join the 2nd Annual Waitsfield Holiday Walkabout!!
DESCRIPTION:Come celebrate the holidays in the Mad River Valley at the 2nd Annual Waitsfield Holiday Walkabout!! \nStep back into the charm of an old-fashioned holiday and join local shops on Saturday December 7th\, from 12pm – 4pm\, for Live Music\, Cookie Decorating\, S’more Making\, Crafting\, Delicious Food\, and Hot Chocolate- and a visit from Santa!!! \nJoin the Holiday Scavenger Hunt for a chance to win big prizes!! \nFollow participating shops for more information. \nPLANNED ACTIVITIES:\nBridge Street:\nHoliday Card Making and Stories at Early Literacy Labs\, 12PM – 4PM\nCookie Decorating at Joslin Memorial Library\, 1PM – 3PM\nSanta’s Helpers Collect Letters to Santa at Library Steps\, 1PM – 2PM\nSanta Claus on Bridge Street\, 1PM – 2PM\nLighting of luminaries at 4:15PM \nMad River Green Shops:\nBeignets\, Hot Cocoa\, and Holiday Treats from Three Mountain Cafe\, 12PM – 4PM\nFree S’more making\, 12PM – 4PM\nWrite Letters to Santa and Crafts at Inklings Children’s Books\, 12PM – 4PM\nLive Holiday Music w/Madigan Linnane\, 12:30 – 1:30PM\nSanta’s Helper Collects  Letters to Santa at The Collection\, 2:15PM – 3:15PM\nCandy canes at Whippletree Designs\nPhotos with Santa at Inklings Children’s Books\, 2:15PM – 3:15PM \nPARTICIPATING BUSINESSES:\nArtisans’ Gallery\nBarrie Fisher Photo + Gallery\nBlockhouse Studio\nThe Collection\nDeadrise Revival\nDrip Culture\nEarly Literacy Labs\n5th Quarter Butcher Shop\nGracie’s Tamales\nInklings Children’s Books\nJoslin Memorial Library\nMad River Massage\nMad River Taste Place\nThe Mad Rover\nQuayl’s Chocolates\nProduct Think Tank\nSalt & Sand Studios\nSerenity Now Studio\nSomeday Boutique\nStephanie Grace Ceramics\nThree Buds Apothecary\nThree Mountain Cafe\nWhippletree Designs
URL:https://mrvvillage.com/event/join-the-2nd-annual-waitsfield-holiday-walkabout/
LOCATION:Mad River Green Shops\, 107 M\, waitsfield\, VT\, 05673\, United States
CATEGORIES:Arts & Entertainment,Community,Family Friendly,Food & Drink,Public Welcome,Special Events
ATTACH;FMTTYPE=image/jpeg:https://mrvvillage.com/wp-content/uploads/2024/11/Holiday-Walkabout-Combined-Flyer-MRV-nC7GX6.tmp_.jpg
ORGANIZER;CN="Inklings%20Children%26%238217%3Bs%20Books":MAILTO:inklingschildrensbooks@gmail.com
GEO:44.1926386;-72.7798479
X-APPLE-STRUCTURED-LOCATION;VALUE=URI;X-ADDRESS=Mad River Green Shops 107 M waitsfield VT 05673 United States;X-APPLE-RADIUS=500;X-TITLE=107 M:geo:-72.7798479,44.1926386
END:VEVENT
BEGIN:VEVENT
DTSTART;TZID=America/New_York:20250517T090000
DTEND;TZID=America/New_York:20250517T130000
DTSTAMP:20260423T183653
CREATED:20250509T185407Z
LAST-MODIFIED:20250517T230813Z
UID:10008067-1747472400-1747486800@mrvvillage.com
SUMMARY:Waitsfield Farmer’s Market
DESCRIPTION:Rain or Shine\, May 17th to October 18th. 9AM to 1PM. \nEnjoy local food\, live music\, and support local Vermont small businesses. \nOur vendors consist of 57+ small family farms\, handmade artisans\, and unique culinary producers.
URL:https://mrvvillage.com/event/waitsfield-farmers-market-24/
LOCATION:Mad River Green Shops\, 107 M\, waitsfield\, VT\, 05673\, United States
CATEGORIES:Family Friendly,Food & Drink,Live Music,Public Welcome,Special Events
ATTACH;FMTTYPE=image/png:https://mrvvillage.com/wp-content/uploads/2025/05/Untitled-design-15-QqCNuT.png
ORGANIZER;CN="Waitsfield%20Farmers%20Market":MAILTO:waitsfieldmarketmanager@gmail.com
GEO:44.1926386;-72.7798479
X-APPLE-STRUCTURED-LOCATION;VALUE=URI;X-ADDRESS=Mad River Green Shops 107 M waitsfield VT 05673 United States;X-APPLE-RADIUS=500;X-TITLE=107 M:geo:-72.7798479,44.1926386
END:VEVENT
BEGIN:VEVENT
DTSTART;TZID=America/New_York:20250524T090000
DTEND;TZID=America/New_York:20250524T130000
DTSTAMP:20260423T183653
CREATED:20250509T185431Z
LAST-MODIFIED:20250524T200814Z
UID:10008070-1748077200-1748091600@mrvvillage.com
SUMMARY:Waitsfield Farmer’s Market
DESCRIPTION:Rain or Shine\, May 17th to October 18th. 9AM to 1PM. \nEnjoy local food\, live music\, and support local Vermont small businesses. \nOur vendors consist of 57+ small family farms\, handmade artisans\, and unique culinary producers.
URL:https://mrvvillage.com/event/waitsfield-farmers-market-25/
LOCATION:Mad River Green Shops\, 107 M\, waitsfield\, VT\, 05673\, United States
CATEGORIES:Family Friendly,Food & Drink,Live Music,Public Welcome,Special Events
ATTACH;FMTTYPE=image/png:https://mrvvillage.com/wp-content/uploads/2025/05/Untitled-design-15-QqCNuT.png
ORGANIZER;CN="Waitsfield%20Farmers%20Market":MAILTO:waitsfieldmarketmanager@gmail.com
GEO:44.1926386;-72.7798479
X-APPLE-STRUCTURED-LOCATION;VALUE=URI;X-ADDRESS=Mad River Green Shops 107 M waitsfield VT 05673 United States;X-APPLE-RADIUS=500;X-TITLE=107 M:geo:-72.7798479,44.1926386
END:VEVENT
BEGIN:VEVENT
DTSTART;TZID=America/New_York:20250531T090000
DTEND;TZID=America/New_York:20250531T130000
DTSTAMP:20260423T183653
CREATED:20250509T185449Z
LAST-MODIFIED:20250531T205317Z
UID:10008072-1748682000-1748696400@mrvvillage.com
SUMMARY:Waitsfield Farmer’s Market
DESCRIPTION:Rain or Shine\, May 17th to October 18th. 9AM to 1PM. \nEnjoy local food\, live music\, and support local Vermont small businesses. \nOur vendors consist of 57+ small family farms\, handmade artisans\, and unique culinary producers.
URL:https://mrvvillage.com/event/waitsfield-farmers-market-26/
LOCATION:Mad River Green Shops\, 107 M\, waitsfield\, VT\, 05673\, United States
CATEGORIES:Family Friendly,Food & Drink,Live Music,Public Welcome,Special Events
ATTACH;FMTTYPE=image/png:https://mrvvillage.com/wp-content/uploads/2025/05/Untitled-design-15-QqCNuT.png
ORGANIZER;CN="Waitsfield%20Farmers%20Market":MAILTO:waitsfieldmarketmanager@gmail.com
GEO:44.1926386;-72.7798479
X-APPLE-STRUCTURED-LOCATION;VALUE=URI;X-ADDRESS=Mad River Green Shops 107 M waitsfield VT 05673 United States;X-APPLE-RADIUS=500;X-TITLE=107 M:geo:-72.7798479,44.1926386
END:VEVENT
BEGIN:VEVENT
DTSTART;TZID=America/New_York:20250607T090000
DTEND;TZID=America/New_York:20250607T130000
DTSTAMP:20260423T183653
CREATED:20250509T185508Z
LAST-MODIFIED:20250607T223822Z
UID:10008074-1749286800-1749301200@mrvvillage.com
SUMMARY:Waitsfield Farmer’s Market
DESCRIPTION:Rain or Shine\, May 17th to October 18th. 9AM to 1PM. \nEnjoy local food\, live music\, and support local Vermont small businesses. \nOur vendors consist of 57+ small family farms\, handmade artisans\, and unique culinary producers.
URL:https://mrvvillage.com/event/waitsfield-farmers-market-27/
LOCATION:Mad River Green Shops\, 107 M\, waitsfield\, VT\, 05673\, United States
CATEGORIES:Family Friendly,Food & Drink,Live Music,Public Welcome,Special Events
ATTACH;FMTTYPE=image/png:https://mrvvillage.com/wp-content/uploads/2025/05/Untitled-design-15-QqCNuT.png
ORGANIZER;CN="Waitsfield%20Farmers%20Market":MAILTO:waitsfieldmarketmanager@gmail.com
GEO:44.1926386;-72.7798479
X-APPLE-STRUCTURED-LOCATION;VALUE=URI;X-ADDRESS=Mad River Green Shops 107 M waitsfield VT 05673 United States;X-APPLE-RADIUS=500;X-TITLE=107 M:geo:-72.7798479,44.1926386
END:VEVENT
BEGIN:VEVENT
DTSTART;TZID=America/New_York:20250614T090000
DTEND;TZID=America/New_York:20250614T130000
DTSTAMP:20260423T183653
CREATED:20250509T185523Z
LAST-MODIFIED:20250614T120818Z
UID:10008076-1749891600-1749906000@mrvvillage.com
SUMMARY:Waitsfield Farmer’s Market
DESCRIPTION:Rain or Shine\, May 17th to October 18th. 9AM to 1PM. \nEnjoy local food\, live music\, and support local Vermont small businesses. \nOur vendors consist of 57+ small family farms\, handmade artisans\, and unique culinary producers.
URL:https://mrvvillage.com/event/waitsfield-farmers-market-28/
LOCATION:Mad River Green Shops\, 107 M\, waitsfield\, VT\, 05673\, United States
CATEGORIES:Family Friendly,Food & Drink,Live Music,Public Welcome,Special Events
ATTACH;FMTTYPE=image/png:https://mrvvillage.com/wp-content/uploads/2025/05/Untitled-design-15-QqCNuT.png
ORGANIZER;CN="Waitsfield%20Farmers%20Market":MAILTO:waitsfieldmarketmanager@gmail.com
GEO:44.1926386;-72.7798479
X-APPLE-STRUCTURED-LOCATION;VALUE=URI;X-ADDRESS=Mad River Green Shops 107 M waitsfield VT 05673 United States;X-APPLE-RADIUS=500;X-TITLE=107 M:geo:-72.7798479,44.1926386
END:VEVENT
BEGIN:VEVENT
DTSTART;TZID=America/New_York:20250621T090000
DTEND;TZID=America/New_York:20250621T130000
DTSTAMP:20260423T183653
CREATED:20250509T185524Z
LAST-MODIFIED:20250618T130835Z
UID:10008078-1750496400-1750510800@mrvvillage.com
SUMMARY:Waitsfield Farmer’s Market
DESCRIPTION:Rain or Shine\, May 17th to October 18th. 9AM to 1PM. \nEnjoy local food\, live music\, and support local Vermont small businesses. \nOur vendors consist of 57+ small family farms\, handmade artisans\, and unique culinary producers.
URL:https://mrvvillage.com/event/waitsfield-farmers-market-29/
LOCATION:Mad River Green Shops\, 107 M\, waitsfield\, VT\, 05673\, United States
CATEGORIES:Family Friendly,Food & Drink,Live Music,Public Welcome,Special Events
ATTACH;FMTTYPE=image/png:https://mrvvillage.com/wp-content/uploads/2025/05/Untitled-design-15-QqCNuT.png
ORGANIZER;CN="Waitsfield%20Farmers%20Market":MAILTO:waitsfieldmarketmanager@gmail.com
GEO:44.1926386;-72.7798479
X-APPLE-STRUCTURED-LOCATION;VALUE=URI;X-ADDRESS=Mad River Green Shops 107 M waitsfield VT 05673 United States;X-APPLE-RADIUS=500;X-TITLE=107 M:geo:-72.7798479,44.1926386
END:VEVENT
BEGIN:VEVENT
DTSTART;TZID=America/New_York:20250628T090000
DTEND;TZID=America/New_York:20250628T130000
DTSTAMP:20260423T183653
CREATED:20250509T185538Z
LAST-MODIFIED:20250618T130918Z
UID:10008079-1751101200-1751115600@mrvvillage.com
SUMMARY:Waitsfield Farmer’s Market
DESCRIPTION:Rain or Shine\, May 17th to October 18th. 9AM to 1PM. \nEnjoy local food\, live music\, and support local Vermont small businesses. \nOur vendors consist of 57+ small family farms\, handmade artisans\, and unique culinary producers.
URL:https://mrvvillage.com/event/waitsfield-farmers-market-30/
LOCATION:Mad River Green Shops\, 107 M\, waitsfield\, VT\, 05673\, United States
CATEGORIES:Family Friendly,Food & Drink,Live Music,Public Welcome,Special Events
ATTACH;FMTTYPE=image/png:https://mrvvillage.com/wp-content/uploads/2025/05/Untitled-design-15-QqCNuT.png
ORGANIZER;CN="Waitsfield%20Farmers%20Market":MAILTO:waitsfieldmarketmanager@gmail.com
GEO:44.1926386;-72.7798479
X-APPLE-STRUCTURED-LOCATION;VALUE=URI;X-ADDRESS=Mad River Green Shops 107 M waitsfield VT 05673 United States;X-APPLE-RADIUS=500;X-TITLE=107 M:geo:-72.7798479,44.1926386
END:VEVENT
BEGIN:VEVENT
DTSTART;TZID=America/New_York:20250705T090000
DTEND;TZID=America/New_York:20250705T130000
DTSTAMP:20260423T183653
CREATED:20250509T185554Z
LAST-MODIFIED:20250618T130959Z
UID:10008080-1751706000-1751720400@mrvvillage.com
SUMMARY:Waitsfield Farmer’s Market
DESCRIPTION:Rain or Shine\, May 17th to October 18th. 9AM to 1PM. \nEnjoy local food\, live music\, and support local Vermont small businesses. \nOur vendors consist of 57+ small family farms\, handmade artisans\, and unique culinary producers.
URL:https://mrvvillage.com/event/waitsfield-farmers-market-31/
LOCATION:Mad River Green Shops\, 107 M\, waitsfield\, VT\, 05673\, United States
CATEGORIES:Family Friendly,Food & Drink,Live Music,Public Welcome,Special Events
ATTACH;FMTTYPE=image/png:https://mrvvillage.com/wp-content/uploads/2025/05/Untitled-design-15-QqCNuT.png
ORGANIZER;CN="Waitsfield%20Farmers%20Market":MAILTO:waitsfieldmarketmanager@gmail.com
GEO:44.1926386;-72.7798479
X-APPLE-STRUCTURED-LOCATION;VALUE=URI;X-ADDRESS=Mad River Green Shops 107 M waitsfield VT 05673 United States;X-APPLE-RADIUS=500;X-TITLE=107 M:geo:-72.7798479,44.1926386
END:VEVENT
BEGIN:VEVENT
DTSTART;TZID=America/New_York:20250712T090000
DTEND;TZID=America/New_York:20250712T130000
DTSTAMP:20260423T183653
CREATED:20250509T185554Z
LAST-MODIFIED:20250618T131027Z
UID:10008081-1752310800-1752325200@mrvvillage.com
SUMMARY:Waitsfield Farmer’s Market
DESCRIPTION:Rain or Shine\, May 17th to October 18th. 9AM to 1PM. \nEnjoy local food\, live music\, and support local Vermont small businesses. \nOur vendors consist of 57+ small family farms\, handmade artisans\, and unique culinary producers.
URL:https://mrvvillage.com/event/waitsfield-farmers-market-32/
LOCATION:Mad River Green Shops\, 107 M\, waitsfield\, VT\, 05673\, United States
CATEGORIES:Family Friendly,Food & Drink,Live Music,Public Welcome,Special Events
ATTACH;FMTTYPE=image/png:https://mrvvillage.com/wp-content/uploads/2025/05/Untitled-design-15-QqCNuT.png
ORGANIZER;CN="Waitsfield%20Farmers%20Market":MAILTO:waitsfieldmarketmanager@gmail.com
GEO:44.1926386;-72.7798479
X-APPLE-STRUCTURED-LOCATION;VALUE=URI;X-ADDRESS=Mad River Green Shops 107 M waitsfield VT 05673 United States;X-APPLE-RADIUS=500;X-TITLE=107 M:geo:-72.7798479,44.1926386
END:VEVENT
BEGIN:VEVENT
DTSTART;TZID=America/New_York:20250719T090000
DTEND;TZID=America/New_York:20250719T130000
DTSTAMP:20260423T183653
CREATED:20250509T185554Z
LAST-MODIFIED:20250618T131055Z
UID:10008082-1752915600-1752930000@mrvvillage.com
SUMMARY:Waitsfield Farmer’s Market
DESCRIPTION:Rain or Shine\, May 17th to October 18th. 9AM to 1PM. \nEnjoy local food\, live music\, and support local Vermont small businesses. \nOur vendors consist of 57+ small family farms\, handmade artisans\, and unique culinary producers.
URL:https://mrvvillage.com/event/waitsfield-farmers-market-33/
LOCATION:Mad River Green Shops\, 107 M\, waitsfield\, VT\, 05673\, United States
CATEGORIES:Family Friendly,Food & Drink,Live Music,Public Welcome,Special Events
ATTACH;FMTTYPE=image/png:https://mrvvillage.com/wp-content/uploads/2025/05/Untitled-design-15-QqCNuT.png
ORGANIZER;CN="Waitsfield%20Farmers%20Market":MAILTO:waitsfieldmarketmanager@gmail.com
GEO:44.1926386;-72.7798479
X-APPLE-STRUCTURED-LOCATION;VALUE=URI;X-ADDRESS=Mad River Green Shops 107 M waitsfield VT 05673 United States;X-APPLE-RADIUS=500;X-TITLE=107 M:geo:-72.7798479,44.1926386
END:VEVENT
BEGIN:VEVENT
DTSTART;TZID=America/New_York:20250726T090000
DTEND;TZID=America/New_York:20250726T130000
DTSTAMP:20260423T183653
CREATED:20250509T185554Z
LAST-MODIFIED:20250618T131120Z
UID:10008083-1753520400-1753534800@mrvvillage.com
SUMMARY:Waitsfield Farmer’s Market
DESCRIPTION:Rain or Shine\, May 17th to October 18th. 9AM to 1PM. \nEnjoy local food\, live music\, and support local Vermont small businesses. \nOur vendors consist of 57+ small family farms\, handmade artisans\, and unique culinary producers.
URL:https://mrvvillage.com/event/waitsfield-farmers-market-34/
LOCATION:Mad River Green Shops\, 107 M\, waitsfield\, VT\, 05673\, United States
CATEGORIES:Family Friendly,Food & Drink,Live Music,Public Welcome,Special Events
ATTACH;FMTTYPE=image/png:https://mrvvillage.com/wp-content/uploads/2025/05/Untitled-design-15-QqCNuT.png
ORGANIZER;CN="Waitsfield%20Farmers%20Market":MAILTO:waitsfieldmarketmanager@gmail.com
GEO:44.1926386;-72.7798479
X-APPLE-STRUCTURED-LOCATION;VALUE=URI;X-ADDRESS=Mad River Green Shops 107 M waitsfield VT 05673 United States;X-APPLE-RADIUS=500;X-TITLE=107 M:geo:-72.7798479,44.1926386
END:VEVENT
BEGIN:VEVENT
DTSTART;TZID=America/New_York:20250802T090000
DTEND;TZID=America/New_York:20250802T130000
DTSTAMP:20260423T183653
CREATED:20250509T185608Z
LAST-MODIFIED:20250618T131134Z
UID:10008084-1754125200-1754139600@mrvvillage.com
SUMMARY:Waitsfield Farmer’s Market
DESCRIPTION:Rain or Shine\, May 17th to October 18th. 9AM to 1PM. \nEnjoy local food\, live music\, and support local Vermont small businesses. \nOur vendors consist of 57+ small family farms\, handmade artisans\, and unique culinary producers.
URL:https://mrvvillage.com/event/waitsfield-farmers-market-35/
LOCATION:Mad River Green Shops\, 107 M\, waitsfield\, VT\, 05673\, United States
CATEGORIES:Family Friendly,Food & Drink,Live Music,Public Welcome,Special Events
ATTACH;FMTTYPE=image/png:https://mrvvillage.com/wp-content/uploads/2025/05/Untitled-design-15-QqCNuT.png
ORGANIZER;CN="Waitsfield%20Farmers%20Market":MAILTO:waitsfieldmarketmanager@gmail.com
GEO:44.1926386;-72.7798479
X-APPLE-STRUCTURED-LOCATION;VALUE=URI;X-ADDRESS=Mad River Green Shops 107 M waitsfield VT 05673 United States;X-APPLE-RADIUS=500;X-TITLE=107 M:geo:-72.7798479,44.1926386
END:VEVENT
BEGIN:VEVENT
DTSTART;TZID=America/New_York:20250809T090000
DTEND;TZID=America/New_York:20250809T130000
DTSTAMP:20260423T183653
CREATED:20250511T191025Z
LAST-MODIFIED:20250618T131148Z
UID:10008086-1754730000-1754744400@mrvvillage.com
SUMMARY:Waitsfield Farmer’s Market
DESCRIPTION:Rain or Shine\, May 17th to October 18th. 9AM to 1PM. \nEnjoy local food\, live music\, and support local Vermont small businesses. \nOur vendors consist of 57+ small family farms\, handmade artisans\, and unique culinary producers.
URL:https://mrvvillage.com/event/waitsfield-farmers-market-36/
LOCATION:Mad River Green Shops\, 107 M\, waitsfield\, VT\, 05673\, United States
CATEGORIES:Family Friendly,Food & Drink,Live Music,Public Welcome,Special Events
ATTACH;FMTTYPE=image/png:https://mrvvillage.com/wp-content/uploads/2025/05/Untitled-design-15-QqCNuT.png
ORGANIZER;CN="Waitsfield%20Farmers%20Market":MAILTO:waitsfieldmarketmanager@gmail.com
GEO:44.1926386;-72.7798479
X-APPLE-STRUCTURED-LOCATION;VALUE=URI;X-ADDRESS=Mad River Green Shops 107 M waitsfield VT 05673 United States;X-APPLE-RADIUS=500;X-TITLE=107 M:geo:-72.7798479,44.1926386
END:VEVENT
BEGIN:VEVENT
DTSTART;TZID=America/New_York:20250816T090000
DTEND;TZID=America/New_York:20250816T130000
DTSTAMP:20260423T183653
CREATED:20250518T192538Z
LAST-MODIFIED:20250618T131149Z
UID:10008127-1755334800-1755349200@mrvvillage.com
SUMMARY:Waitsfield Farmer’s Market
DESCRIPTION:Rain or Shine\, May 17th to October 18th. 9AM to 1PM. \nEnjoy local food\, live music\, and support local Vermont small businesses. \nOur vendors consist of 57+ small family farms\, handmade artisans\, and unique culinary producers.
URL:https://mrvvillage.com/event/waitsfield-farmers-market-37/
LOCATION:Mad River Green Shops\, 107 M\, waitsfield\, VT\, 05673\, United States
CATEGORIES:Family Friendly,Food & Drink,Live Music,Public Welcome,Special Events
ATTACH;FMTTYPE=image/png:https://mrvvillage.com/wp-content/uploads/2025/05/Untitled-design-15-QqCNuT.png
ORGANIZER;CN="Waitsfield%20Farmers%20Market":MAILTO:waitsfieldmarketmanager@gmail.com
GEO:44.1926386;-72.7798479
X-APPLE-STRUCTURED-LOCATION;VALUE=URI;X-ADDRESS=Mad River Green Shops 107 M waitsfield VT 05673 United States;X-APPLE-RADIUS=500;X-TITLE=107 M:geo:-72.7798479,44.1926386
END:VEVENT
BEGIN:VEVENT
DTSTART;TZID=America/New_York:20250823T090000
DTEND;TZID=America/New_York:20250823T130000
DTSTAMP:20260423T183653
CREATED:20250525T001129Z
LAST-MODIFIED:20250618T131217Z
UID:10008180-1755939600-1755954000@mrvvillage.com
SUMMARY:Waitsfield Farmer’s Market
DESCRIPTION:Rain or Shine\, May 17th to October 18th. 9AM to 1PM. \nEnjoy local food\, live music\, and support local Vermont small businesses. \nOur vendors consist of 57+ small family farms\, handmade artisans\, and unique culinary producers.
URL:https://mrvvillage.com/event/waitsfield-farmers-market-38/
LOCATION:Mad River Green Shops\, 107 M\, waitsfield\, VT\, 05673\, United States
CATEGORIES:Family Friendly,Food & Drink,Live Music,Public Welcome,Special Events
ATTACH;FMTTYPE=image/png:https://mrvvillage.com/wp-content/uploads/2025/05/Untitled-design-15-QqCNuT.png
ORGANIZER;CN="Waitsfield%20Farmers%20Market":MAILTO:waitsfieldmarketmanager@gmail.com
GEO:44.1926386;-72.7798479
X-APPLE-STRUCTURED-LOCATION;VALUE=URI;X-ADDRESS=Mad River Green Shops 107 M waitsfield VT 05673 United States;X-APPLE-RADIUS=500;X-TITLE=107 M:geo:-72.7798479,44.1926386
END:VEVENT
BEGIN:VEVENT
DTSTART;TZID=America/New_York:20250830T090000
DTEND;TZID=America/New_York:20250830T130000
DTSTAMP:20260423T183653
CREATED:20250601T012646Z
LAST-MODIFIED:20250618T131231Z
UID:10008223-1756544400-1756558800@mrvvillage.com
SUMMARY:Waitsfield Farmer’s Market
DESCRIPTION:Rain or Shine\, May 17th to October 18th. 9AM to 1PM. \nEnjoy local food\, live music\, and support local Vermont small businesses. \nOur vendors consist of 57+ small family farms\, handmade artisans\, and unique culinary producers.
URL:https://mrvvillage.com/event/waitsfield-farmers-market-39/
LOCATION:Mad River Green Shops\, 107 M\, waitsfield\, VT\, 05673\, United States
CATEGORIES:Family Friendly,Food & Drink,Live Music,Public Welcome,Special Events
ATTACH;FMTTYPE=image/png:https://mrvvillage.com/wp-content/uploads/2025/05/Untitled-design-15-QqCNuT.png
ORGANIZER;CN="Waitsfield%20Farmers%20Market":MAILTO:waitsfieldmarketmanager@gmail.com
GEO:44.1926386;-72.7798479
X-APPLE-STRUCTURED-LOCATION;VALUE=URI;X-ADDRESS=Mad River Green Shops 107 M waitsfield VT 05673 United States;X-APPLE-RADIUS=500;X-TITLE=107 M:geo:-72.7798479,44.1926386
END:VEVENT
BEGIN:VEVENT
DTSTART;TZID=America/New_York:20250906T090000
DTEND;TZID=America/New_York:20250906T130000
DTSTAMP:20260423T183653
CREATED:20250608T031256Z
LAST-MODIFIED:20250618T131244Z
UID:10008296-1757149200-1757163600@mrvvillage.com
SUMMARY:Waitsfield Farmer’s Market
DESCRIPTION:Rain or Shine\, May 17th to October 18th. 9AM to 1PM. \nEnjoy local food\, live music\, and support local Vermont small businesses. \nOur vendors consist of 57+ small family farms\, handmade artisans\, and unique culinary producers.
URL:https://mrvvillage.com/event/waitsfield-farmers-market-40/
LOCATION:Mad River Green Shops\, 107 M\, waitsfield\, VT\, 05673\, United States
CATEGORIES:Family Friendly,Food & Drink,Live Music,Public Welcome,Special Events
ATTACH;FMTTYPE=image/png:https://mrvvillage.com/wp-content/uploads/2025/05/Untitled-design-15-QqCNuT.png
ORGANIZER;CN="Waitsfield%20Farmers%20Market":MAILTO:waitsfieldmarketmanager@gmail.com
GEO:44.1926386;-72.7798479
X-APPLE-STRUCTURED-LOCATION;VALUE=URI;X-ADDRESS=Mad River Green Shops 107 M waitsfield VT 05673 United States;X-APPLE-RADIUS=500;X-TITLE=107 M:geo:-72.7798479,44.1926386
END:VEVENT
BEGIN:VEVENT
DTSTART;TZID=America/New_York:20250913T090000
DTEND;TZID=America/New_York:20250913T130000
DTSTAMP:20260423T183653
CREATED:20250615T044256Z
LAST-MODIFIED:20250618T131257Z
UID:10008328-1757754000-1757768400@mrvvillage.com
SUMMARY:Waitsfield Farmer’s Market
DESCRIPTION:Rain or Shine\, May 17th to October 18th. 9AM to 1PM. \nEnjoy local food\, live music\, and support local Vermont small businesses. \nOur vendors consist of 57+ small family farms\, handmade artisans\, and unique culinary producers.
URL:https://mrvvillage.com/event/waitsfield-farmers-market-41/
LOCATION:Mad River Green Shops\, 107 M\, waitsfield\, VT\, 05673\, United States
CATEGORIES:Family Friendly,Food & Drink,Live Music,Public Welcome,Special Events
ATTACH;FMTTYPE=image/png:https://mrvvillage.com/wp-content/uploads/2025/05/Untitled-design-15-QqCNuT.png
ORGANIZER;CN="Waitsfield%20Farmers%20Market":MAILTO:waitsfieldmarketmanager@gmail.com
GEO:44.1926386;-72.7798479
X-APPLE-STRUCTURED-LOCATION;VALUE=URI;X-ADDRESS=Mad River Green Shops 107 M waitsfield VT 05673 United States;X-APPLE-RADIUS=500;X-TITLE=107 M:geo:-72.7798479,44.1926386
END:VEVENT
END:VCALENDAR