BEGIN:VCALENDAR
VERSION:2.0
PRODID:-//The Mad River Valley Village - ECPv6.0.13//NONSGML v1.0//EN
CALSCALE:GREGORIAN
METHOD:PUBLISH
X-WR-CALNAME:The Mad River Valley Village
X-ORIGINAL-URL:https://mrvvillage.com
X-WR-CALDESC:Events for The Mad River Valley Village
REFRESH-INTERVAL;VALUE=DURATION:PT1H
X-Robots-Tag:noindex
X-PUBLISHED-TTL:PT1H
BEGIN:VTIMEZONE
TZID:America/New_York
BEGIN:DAYLIGHT
TZOFFSETFROM:-0500
TZOFFSETTO:-0400
TZNAME:EDT
DTSTART:20240310T070000
END:DAYLIGHT
BEGIN:STANDARD
TZOFFSETFROM:-0400
TZOFFSETTO:-0500
TZNAME:EST
DTSTART:20241103T060000
END:STANDARD
BEGIN:DAYLIGHT
TZOFFSETFROM:-0500
TZOFFSETTO:-0400
TZNAME:EDT
DTSTART:20250309T070000
END:DAYLIGHT
BEGIN:STANDARD
TZOFFSETFROM:-0400
TZOFFSETTO:-0500
TZNAME:EST
DTSTART:20251102T060000
END:STANDARD
END:VTIMEZONE
BEGIN:VEVENT
DTSTART;TZID=America/New_York:20240912T170000
DTEND;TZID=America/New_York:20240912T190000
DTSTAMP:20260424T000154
CREATED:20240906T192343Z
LAST-MODIFIED:20240912T215315Z
UID:10007005-1726160400-1726167600@mrvvillage.com
SUMMARY:What’s in Your Art Collection?
DESCRIPTION:Panel discussion on art collecting\, the relationship between art and money and the role of patronage within the art ecosystems of Vermont and our Global culture with Amy Cunningham from Vermont Arts Council\, Edee Simon with The Current\, Stowe VT and Mark Waskow with NNE MoCA. This is a chance to learn about each of their unique visions and mission around supporting the arts\, artists and institutions that engage audiences on the issues of our time.
URL:https://mrvvillage.com/event/whats-in-your-art-collection/
LOCATION:Mad River Valley Arts Festival Gallery\, 5031 Main Street.\, #2 Village Square\, Waitsfield\, 05673
CATEGORIES:Arts & Entertainment,Community
ATTACH;FMTTYPE=image/jpeg:https://mrvvillage.com/wp-content/uploads/2024/09/ART-copy-Zzgjre.tmp_.jpg
ORGANIZER;CN="Mad%20River%20Valley%20Arts":MAILTO:director@madrivervalleyarts.org
GEO:44.1845712;-72.8355482
X-APPLE-STRUCTURED-LOCATION;VALUE=URI;X-ADDRESS=Mad River Valley Arts Festival Gallery 5031 Main Street. #2 Village Square Waitsfield 05673;X-APPLE-RADIUS=500;X-TITLE=5031 Main Street.\, #2 Village Square:geo:-72.8355482,44.1845712
END:VEVENT
BEGIN:VEVENT
DTSTART;TZID=America/New_York:20250321T170000
DTEND;TZID=America/New_York:20250321T190000
DTSTAMP:20260424T000154
CREATED:20250306T213928Z
LAST-MODIFIED:20250321T235320Z
UID:10007730-1742576400-1742583600@mrvvillage.com
SUMMARY:OFF THE WALL
DESCRIPTION:Off The Wall\nMarch 6-March 21\, 2025\nTuesday- Saturday 1-5pm\nReception: March 21\, 5-7pm \nWe are hosting a new community initiative called Off The Wall. \nMad Arts is thrilled to own this popular art fundraiser in the Valley. We have kindly requested Valley and Vermont artists to experiment with a provided 10”x10” x 1.5” panel to benefit the operations of our community art center. \nOur devoted creatives transform the intangible into reality\, which then becomes the panel for a proud art collector or community passer-by. We encourage everyone who visits us for the first time to pop into this short window of wonderful talent as artists continue to be a top producer of community culture.
URL:https://mrvvillage.com/event/off-the-wall/
LOCATION:Mad River Valley Arts Festival Gallery\, 5031 Main Street.\, #2 Village Square\, Waitsfield\, 05673
ATTACH;FMTTYPE=image/jpeg:https://mrvvillage.com/wp-content/uploads/2025/03/image-asset-JXoRRo.tmp_.jpg
ORGANIZER;CN="Mad%20River%20Valley%20Arts":MAILTO:director@madrivervalleyarts.org
GEO:44.1845712;-72.8355482
X-APPLE-STRUCTURED-LOCATION;VALUE=URI;X-ADDRESS=Mad River Valley Arts Festival Gallery 5031 Main Street. #2 Village Square Waitsfield 05673;X-APPLE-RADIUS=500;X-TITLE=5031 Main Street.\, #2 Village Square:geo:-72.8355482,44.1845712
END:VEVENT
BEGIN:VEVENT
DTSTART;TZID=America/New_York:20250821T130000
DTEND;TZID=America/New_York:20250821T130000
DTSTAMP:20260424T000154
CREATED:20250811T142403Z
LAST-MODIFIED:20250821T210825Z
UID:10008825-1755781200-1755781200@mrvvillage.com
SUMMARY:Stardust Exhibit by the Mad 8 Collective
DESCRIPTION:The Mad 802 Collective is proud to share ‘Stardust’\, an exhibition about The Quantum World. The Quantum World is one of uncertainty. One can’t really talk about where a quantum object is\, we can only talk about where we might find it. Yet\, our seemingly solid reality is built upon this tiny world of possibilities\, stuff has form\, the universe has form and we are solid. \nThis show looks at the behavior of photons\, particles and mysterious patterns of quantum phenomena. It inspires us to think about the magic of the quantum fundamental basis to reality and asks us to be curious about where the human species is going. \nArtists open up to their interpretation of the immaterial while engaging with the scales of the unimaginable tiny to the infinitely large. \nAugust 21- October 31\, 2025\nOpen: Tuesday – Saturday\, 1-5pm\nReception: September 19\, 5-7pm
URL:https://mrvvillage.com/event/stardust-exhibit-by-the-mad-8-collective/
LOCATION:Mad River Valley Arts Festival Gallery\, 5031 Main Street.\, #2 Village Square\, Waitsfield\, 05673
CATEGORIES:Arts & Entertainment
ATTACH;FMTTYPE=image/png:https://mrvvillage.com/wp-content/uploads/2025/08/Chart-3-FyaIFS.png
ORGANIZER;CN="Mad%20River%20Valley%20Arts":MAILTO:director@madrivervalleyarts.org
GEO:44.1845712;-72.8355482
X-APPLE-STRUCTURED-LOCATION;VALUE=URI;X-ADDRESS=Mad River Valley Arts Festival Gallery 5031 Main Street. #2 Village Square Waitsfield 05673;X-APPLE-RADIUS=500;X-TITLE=5031 Main Street.\, #2 Village Square:geo:-72.8355482,44.1845712
END:VEVENT
END:VCALENDAR