BEGIN:VCALENDAR
VERSION:2.0
PRODID:-//The Mad River Valley Village - ECPv6.0.13//NONSGML v1.0//EN
CALSCALE:GREGORIAN
METHOD:PUBLISH
X-WR-CALNAME:The Mad River Valley Village
X-ORIGINAL-URL:https://mrvvillage.com
X-WR-CALDESC:Events for The Mad River Valley Village
REFRESH-INTERVAL;VALUE=DURATION:PT1H
X-Robots-Tag:noindex
X-PUBLISHED-TTL:PT1H
BEGIN:VTIMEZONE
TZID:America/New_York
BEGIN:DAYLIGHT
TZOFFSETFROM:-0500
TZOFFSETTO:-0400
TZNAME:EDT
DTSTART:20230312T070000
END:DAYLIGHT
BEGIN:STANDARD
TZOFFSETFROM:-0400
TZOFFSETTO:-0500
TZNAME:EST
DTSTART:20231105T060000
END:STANDARD
BEGIN:DAYLIGHT
TZOFFSETFROM:-0500
TZOFFSETTO:-0400
TZNAME:EDT
DTSTART:20240310T070000
END:DAYLIGHT
BEGIN:STANDARD
TZOFFSETFROM:-0400
TZOFFSETTO:-0500
TZNAME:EST
DTSTART:20241103T060000
END:STANDARD
BEGIN:DAYLIGHT
TZOFFSETFROM:-0500
TZOFFSETTO:-0400
TZNAME:EDT
DTSTART:20250309T070000
END:DAYLIGHT
BEGIN:STANDARD
TZOFFSETFROM:-0400
TZOFFSETTO:-0500
TZNAME:EST
DTSTART:20251102T060000
END:STANDARD
END:VTIMEZONE
BEGIN:VEVENT
DTSTART;TZID=America/New_York:20230807T180000
DTEND;TZID=America/New_York:20230807T200000
DTSTAMP:20260422T154542
CREATED:20230726T221009Z
LAST-MODIFIED:20230807T143817Z
UID:10004468-1691431200-1691438400@mrvvillage.com
SUMMARY:Broadway In Vermont
DESCRIPTION:Now in its third year\, “Broadway In Vermont” (Registered Tradename) returns with some of Broadway’s leading stars heading back up to the Green Mountains for a special outdoor concert event. Vermonter Merritt David Janes who is currently performing in the Original Broadway cast of “Back To The Future” will bring his friends on Monday\, August 7th at 6:00 PM on the grounds at Moose Meadow Lodge in Duxbury. Enjoy your favorite songs from classic and contemporary musicals. The singers\, accompanied by a live band\, will perform songs intermingled with stories about their professional journeys. The event will be an intimate look at some of the most legendary musicals and life as a Broadway performer. Gates open at 5:00 PM for picnicking. Parking is limited. Carpooling is encouraged. Food will be available for purchase from vendors. Tickets are $40 general admission\, $26.50 students and children\, and are available online at moosemeadowlodge.net.
URL:https://mrvvillage.com/event/broadway-in-vermont/
LOCATION:Moose Meadow Lodge\, 607 Crossett Hill\, Waterbury\, VT\, 05676\, United States
CATEGORIES:Arts & Entertainment
ATTACH;FMTTYPE=image/jpeg:https://mrvvillage.com/wp-content/uploads/2023/07/Moose-Meadow-Broadway-31a-gm-5x7-1-jNi9Ed.tmp_.jpg
ORGANIZER;CN="Moose%20Meadow%20Lodge":MAILTO:relax@moosemeadowlodge.com
GEO:44.3035181;-72.7819277
X-APPLE-STRUCTURED-LOCATION;VALUE=URI;X-ADDRESS=Moose Meadow Lodge 607 Crossett Hill Waterbury VT 05676 United States;X-APPLE-RADIUS=500;X-TITLE=607 Crossett Hill:geo:-72.7819277,44.3035181
END:VEVENT
BEGIN:VEVENT
DTSTART;TZID=America/New_York:20230813T160000
DTEND;TZID=America/New_York:20230813T173000
DTSTAMP:20260422T154542
CREATED:20230726T221105Z
LAST-MODIFIED:20230813T160824Z
UID:10004476-1691942400-1691947800@mrvvillage.com
SUMMARY:Vermont Philharmonic Pops Concert
DESCRIPTION:The Vermont Philharmonic will play its annual outdoor Summer Pops Concerts on the beautiful lawn of Moose Meadow Lodge on Sunday\, August 13\, 2023 at 4:00 PM and on the scenic grounds of the Shore Acres Inn in North Hero overlooking Lake Champlain and the Green Mountains on Saturday\, September 2\, 2023\, at 4:00 PM. \nLed by music director Lou Kosma\, the orchestra will entertain the audience with selections from musicals (The King and I and Rocky Broadway)\, films (The Lord of the Rings)\, and orchestral classics (“Hungarian March” from Hector Berlioz’s The Damnation of Faust) The program will also feature two works by young Vermont composers\, Chase Ehrlich’s “Spirit of the Sky” and Callum Robechek’s “And in a Moment”\, along with audience favorites “Bohemian Rhapsody” and “Take Me Out to the Ballgame”. The program concludes\, of course\, with “The Stars and Stripes Forever”. \nMoose Meadow Lodge is at 607 Crossett Hill Road in Duxbury. The grounds will be open for picnicking at 3:00 PM. \nShore Acres Inn is at 237 Shore Acres Drive in North Hero. Alcoholic beverages will be available for sale by Shore Acres Inn. Bringing your own alcohol is prohibited. \nParking is limited at both locations. Carpooling is highly recommended. Tickets and information are online at vermontphilharmonic.com.
URL:https://mrvvillage.com/event/vermont-philharmonic-pops-concert/
LOCATION:Moose Meadow Lodge\, 607 Crossett Hill\, Waterbury\, VT\, 05676\, United States
CATEGORIES:Arts & Entertainment
ATTACH;FMTTYPE=image/jpeg:https://mrvvillage.com/wp-content/uploads/2023/07/IMG_8855-1ee4lP.tmp_.jpg
GEO:44.3035181;-72.7819277
X-APPLE-STRUCTURED-LOCATION;VALUE=URI;X-ADDRESS=Moose Meadow Lodge 607 Crossett Hill Waterbury VT 05676 United States;X-APPLE-RADIUS=500;X-TITLE=607 Crossett Hill:geo:-72.7819277,44.3035181
END:VEVENT
BEGIN:VEVENT
DTSTART;TZID=America/New_York:20240805T180000
DTEND;TZID=America/New_York:20240805T200000
DTSTAMP:20260422T154542
CREATED:20240726T132357Z
LAST-MODIFIED:20240805T150812Z
UID:10006544-1722880800-1722888000@mrvvillage.com
SUMMARY:BROADWAY IN VERMONT
DESCRIPTION:An intimate evening of music from legendary musicals by today’s leading stars \nBack for another magical evening\, some of Broadway’s leading stars are heading up to the Green Mountains for a special outdoor concert event. Vermonter Merritt David Janes who performs regularly on Broadway and in national tours will bring his friends for “Broadway In Vermont.” \n\n\nEnjoy your favorite songs from unforgettable shows. The singers\, accompanied by a live band\, will perform songs intermingled with stories about their professional journeys. The event will be an intimate look at some of the most legendary musicals and life as a Broadway performer.  Pack a picnic or enjoy delectable offerings from JDK BBQ. \nBuy tickets in advance. If tickets are available at the event\, only CASH will be accepted. “Broadway In Vermont” is a registered trade name.
URL:https://mrvvillage.com/event/broadway-in-vermont-2/
LOCATION:Moose Meadow Lodge\, 607 Crossett Hill\, Waterbury\, VT\, 05676\, United States
CATEGORIES:Arts & Entertainment,Community,Food & Drink
ATTACH;FMTTYPE=image/jpeg:https://mrvvillage.com/wp-content/uploads/2024/07/9f273d39-3475-48be-a9f9-e2b93db12c62-2-5KHIyc.tmp_.jpg
ORGANIZER;CN="Moose%20Meadow%20Lodge":MAILTO:relax@moosemeadowlodge.com
GEO:44.3035181;-72.7819277
X-APPLE-STRUCTURED-LOCATION;VALUE=URI;X-ADDRESS=Moose Meadow Lodge 607 Crossett Hill Waterbury VT 05676 United States;X-APPLE-RADIUS=500;X-TITLE=607 Crossett Hill:geo:-72.7819277,44.3035181
END:VEVENT
BEGIN:VEVENT
DTSTART;TZID=America/New_York:20240811T160000
DTEND;TZID=America/New_York:20240811T180000
DTSTAMP:20260422T154542
CREATED:20240726T132424Z
LAST-MODIFIED:20240811T155312Z
UID:10006545-1723392000-1723399200@mrvvillage.com
SUMMARY:Vermont Philharmonic 65th Season
DESCRIPTION:Vermont’s oldest community orchestra\, providing classical music for\nCentral and Northern Vermont
URL:https://mrvvillage.com/event/vermont-philharmonic-65th-season/
LOCATION:Moose Meadow Lodge\, 607 Crossett Hill\, Waterbury\, VT\, 05676\, United States
CATEGORIES:Arts & Entertainment
ATTACH;FMTTYPE=image/jpeg:https://mrvvillage.com/wp-content/uploads/2024/07/8ddb482f-bf0b-49eb-a28a-4e153921132f-ge7itb.tmp_.jpg
ORGANIZER;CN="Moose%20Meadow%20Lodge":MAILTO:relax@moosemeadowlodge.com
GEO:44.3035181;-72.7819277
X-APPLE-STRUCTURED-LOCATION;VALUE=URI;X-ADDRESS=Moose Meadow Lodge 607 Crossett Hill Waterbury VT 05676 United States;X-APPLE-RADIUS=500;X-TITLE=607 Crossett Hill:geo:-72.7819277,44.3035181
END:VEVENT
BEGIN:VEVENT
DTSTART;TZID=America/New_York:20250721T180000
DTEND;TZID=America/New_York:20250721T203000
DTSTAMP:20260422T154542
CREATED:20250626T151220Z
LAST-MODIFIED:20250721T212326Z
UID:10008486-1753120800-1753129800@mrvvillage.com
SUMMARY:Broadway in Vermont
DESCRIPTION:Now in its 5th year\, Broadway in Vermont returns to Moose Meadow for an unforgettable evening of Broadway hits. \nJoin Vermonter actor/singer Merritt David Janes and his Broadway friends for a truly special musical event.
URL:https://mrvvillage.com/event/broadway-in-vermont-3/
LOCATION:Moose Meadow Lodge\, 607 Crossett Hill\, Waterbury\, VT\, 05676\, United States
CATEGORIES:Arts & Entertainment
ATTACH;FMTTYPE=image/jpeg:https://mrvvillage.com/wp-content/uploads/2025/06/Moose-Meadow-Broadway-22a-gm-reduced-oY4ZkY.jpg
ORGANIZER;CN="Moose%20Meadow%20Lodge":MAILTO:relax@moosemeadowlodge.com
GEO:44.3035181;-72.7819277
X-APPLE-STRUCTURED-LOCATION;VALUE=URI;X-ADDRESS=Moose Meadow Lodge 607 Crossett Hill Waterbury VT 05676 United States;X-APPLE-RADIUS=500;X-TITLE=607 Crossett Hill:geo:-72.7819277,44.3035181
END:VEVENT
BEGIN:VEVENT
DTSTART;TZID=America/New_York:20250810T160000
DTEND;TZID=America/New_York:20250810T173000
DTSTAMP:20260422T154542
CREATED:20250716T122612Z
LAST-MODIFIED:20250810T183819Z
UID:10008657-1754841600-1754847000@mrvvillage.com
SUMMARY:Vermont Philharmonic Pops Concert
DESCRIPTION:The Vermont Philharmonic brings its big orchestral sound to the lawn at Moose Meadow Lodge on Sunday August 10th at 4:00 PM for its annual Summer Pops Concert. \nUnder the baton of music director Lou Kosma\, the orchestra will entertain the audience with music from West Side Story and Carmen (“March of the Toreadors”) and composers Leroy Anderson and Duke Ellington. Concertmaster Joanna Alpizar will sing Sabor a Mi\, and principal clarinetist Margaret Barsumian will perform the rousing Clarinet Polka. The program also features a work by a young Vermont composer\, Alexander Maroney\, along with audience favorites “Washington Post March”\, “Ashokan Farewell”\, “Bohemian Rhapsody”\, and “Take Me Out to the Ballgame”. The program concludes\, of course\, with “The Stars and Stripes Forever”. \nMoose Meadow Lodge is located at 607 Crossett Hill Road in Duxbury. The grounds will be open for picnicking at 3:00 PM. Tickets are $25 adults\, $20 seniors\, $5 students\, $55 family of 4 – available online or at the venue (cash or check). \nIn case of rain\, the concert will be held at Harwood Union High School\, 458 Rte 100\, Moretown. \nCelebrating its 66th Season\, the Vermont Philharmonic is composed of professional and talented amateur musicians from throughout Vermont. It is Vermont’s oldest community orchestra\, founded in 1959 by Jon Borowicz\, emeritus professor of music at Norwich University. Since 1993\, the Philharmonic’s home base has been the Barre Opera House. Lou Kosma has been the Music Director of the Philharmonic since 1999. \nInformation and tickets are at www.vermontphilharmonic.com.
URL:https://mrvvillage.com/event/vermont-philharmonic-pops-concert-2/
LOCATION:Moose Meadow Lodge\, 607 Crossett Hill\, Waterbury\, VT\, 05676\, United States
CATEGORIES:Live Music,Ticketed Event
ATTACH;FMTTYPE=image/jpeg:https://mrvvillage.com/wp-content/uploads/2025/07/IMG_8855-wj1XBr.jpg
GEO:44.3035181;-72.7819277
X-APPLE-STRUCTURED-LOCATION;VALUE=URI;X-ADDRESS=Moose Meadow Lodge 607 Crossett Hill Waterbury VT 05676 United States;X-APPLE-RADIUS=500;X-TITLE=607 Crossett Hill:geo:-72.7819277,44.3035181
END:VEVENT
END:VCALENDAR