BEGIN:VCALENDAR
VERSION:2.0
PRODID:-//The Mad River Valley Village - ECPv6.0.13//NONSGML v1.0//EN
CALSCALE:GREGORIAN
METHOD:PUBLISH
X-ORIGINAL-URL:https://mrvvillage.com
X-WR-CALDESC:Events for The Mad River Valley Village
REFRESH-INTERVAL;VALUE=DURATION:PT1H
X-Robots-Tag:noindex
X-PUBLISHED-TTL:PT1H
BEGIN:VTIMEZONE
TZID:America/New_York
BEGIN:DAYLIGHT
TZOFFSETFROM:-0500
TZOFFSETTO:-0400
TZNAME:EDT
DTSTART:20250309T070000
END:DAYLIGHT
BEGIN:STANDARD
TZOFFSETFROM:-0400
TZOFFSETTO:-0500
TZNAME:EST
DTSTART:20251102T060000
END:STANDARD
END:VTIMEZONE
BEGIN:VEVENT
DTSTART;TZID=America/New_York:20250610T173000
DTEND;TZID=America/New_York:20250610T203000
DTSTAMP:20260423T160736
CREATED:20250603T213850Z
LAST-MODIFIED:20250610T232337Z
UID:10008230-1749576600-1749587400@mrvvillage.com
SUMMARY:Tuesdays on the Big Deck
DESCRIPTION:Kick back like a local with Tuesday evenings on the Big Deck at Mt. Ellen. Enjoy live music\, tasty food specials\, and unbeatable sunset views. The perfect way to soak up those easy summer vibes.
URL:https://mrvvillage.com/event/tuesdays-on-the-big-deck-2/
LOCATION:The Big Deck\, Mt Ellen
CATEGORIES:Food & Drink,Sugarbush
ATTACH;FMTTYPE=image/jpeg:https://mrvvillage.com/wp-content/uploads/2025/06/big-deck-generic-ZPpir5.jpg
GEO:44.1600589;-72.9292834
X-APPLE-STRUCTURED-LOCATION;VALUE=URI;X-ADDRESS=The Big Deck Mt Ellen;X-APPLE-RADIUS=500;X-TITLE=Mt Ellen:geo:-72.9292834,44.1600589
END:VEVENT
BEGIN:VEVENT
DTSTART;TZID=America/New_York:20250617T173000
DTEND;TZID=America/New_York:20250617T203000
DTSTAMP:20260423T160736
CREATED:20250603T213939Z
LAST-MODIFIED:20250617T125321Z
UID:10008235-1750181400-1750192200@mrvvillage.com
SUMMARY:Tuesdays on the Big Deck
DESCRIPTION:Kick back like a local with Tuesday evenings on the Big Deck at Mt. Ellen. Enjoy live music\, tasty food specials\, and unbeatable sunset views. The perfect way to soak up those easy summer vibes.
URL:https://mrvvillage.com/event/tuesdays-on-the-big-deck-3/
LOCATION:The Big Deck\, Mt Ellen
CATEGORIES:Food & Drink,Sugarbush
ATTACH;FMTTYPE=image/jpeg:https://mrvvillage.com/wp-content/uploads/2025/06/big-deck-generic-ZPpir5.jpg
GEO:44.1600589;-72.9292834
X-APPLE-STRUCTURED-LOCATION;VALUE=URI;X-ADDRESS=The Big Deck Mt Ellen;X-APPLE-RADIUS=500;X-TITLE=Mt Ellen:geo:-72.9292834,44.1600589
END:VEVENT
BEGIN:VEVENT
DTSTART;TZID=America/New_York:20250624T173000
DTEND;TZID=America/New_York:20250624T203000
DTSTAMP:20260423T160736
CREATED:20250624T143826Z
LAST-MODIFIED:20250624T143826Z
UID:10008444-1750786200-1750797000@mrvvillage.com
SUMMARY:Tuesdays on the Big Deck
DESCRIPTION:Kick back like a local with Tuesday evenings\, rain or shine\, on the Big Deck at Mt. Ellen. Enjoy live music\, tasty food specials\, and unbeatable sunset views. The perfect way to soak up those easy summer vibes.
URL:https://mrvvillage.com/event/tuesdays-on-the-big-deck-6/
LOCATION:The Big Deck\, Mt Ellen
CATEGORIES:Food & Drink,Sugarbush
ATTACH;FMTTYPE=image/jpeg:https://mrvvillage.com/wp-content/uploads/2025/06/big-deck-generic-ZPpir5.jpg
GEO:44.1600589;-72.9292834
X-APPLE-STRUCTURED-LOCATION;VALUE=URI;X-ADDRESS=The Big Deck Mt Ellen;X-APPLE-RADIUS=500;X-TITLE=Mt Ellen:geo:-72.9292834,44.1600589
END:VEVENT
BEGIN:VEVENT
DTSTART;TZID=America/New_York:20250624T173000
DTEND;TZID=America/New_York:20250624T203000
DTSTAMP:20260423T160736
CREATED:20250603T214009Z
LAST-MODIFIED:20250624T143826Z
UID:10008239-1750786200-1750797000@mrvvillage.com
SUMMARY:Tuesdays on the Big Deck
DESCRIPTION:Kick back like a local with Tuesday evenings on the Big Deck at Mt. Ellen. Enjoy live music\, tasty food specials\, and unbeatable sunset views. The perfect way to soak up those easy summer vibes.
URL:https://mrvvillage.com/event/tuesdays-on-the-big-deck-4/
LOCATION:The Big Deck\, Mt Ellen
CATEGORIES:Food & Drink,Sugarbush
ATTACH;FMTTYPE=image/jpeg:https://mrvvillage.com/wp-content/uploads/2025/06/big-deck-generic-ZPpir5.jpg
GEO:44.1600589;-72.9292834
X-APPLE-STRUCTURED-LOCATION;VALUE=URI;X-ADDRESS=The Big Deck Mt Ellen;X-APPLE-RADIUS=500;X-TITLE=Mt Ellen:geo:-72.9292834,44.1600589
END:VEVENT
BEGIN:VEVENT
DTSTART;TZID=America/New_York:20250701T173000
DTEND;TZID=America/New_York:20250701T203000
DTSTAMP:20260423T160736
CREATED:20250624T143936Z
LAST-MODIFIED:20250701T162333Z
UID:10008448-1751391000-1751401800@mrvvillage.com
SUMMARY:Tuesdays on the Big Deck
DESCRIPTION:Kick back like a local with Tuesday evenings\, rain or shine\, on the Big Deck at Mt. Ellen. Enjoy live music\, tasty food specials\, and unbeatable sunset views. The perfect way to soak up those easy summer vibes.
URL:https://mrvvillage.com/event/tuesdays-on-the-big-deck-7/
LOCATION:The Big Deck\, Mt Ellen
CATEGORIES:Food & Drink,Sugarbush
ATTACH;FMTTYPE=image/jpeg:https://mrvvillage.com/wp-content/uploads/2025/06/big-deck-generic-ZPpir5.jpg
GEO:44.1600589;-72.9292834
X-APPLE-STRUCTURED-LOCATION;VALUE=URI;X-ADDRESS=The Big Deck Mt Ellen;X-APPLE-RADIUS=500;X-TITLE=Mt Ellen:geo:-72.9292834,44.1600589
END:VEVENT
BEGIN:VEVENT
DTSTART;TZID=America/New_York:20250701T173000
DTEND;TZID=America/New_York:20250701T203000
DTSTAMP:20260423T160736
CREATED:20250603T214038Z
LAST-MODIFIED:20250701T162333Z
UID:10008242-1751391000-1751401800@mrvvillage.com
SUMMARY:Tuesdays on the Big Deck
DESCRIPTION:Kick back like a local with Tuesday evenings on the Big Deck at Mt. Ellen. Enjoy live music\, tasty food specials\, and unbeatable sunset views. The perfect way to soak up those easy summer vibes.
URL:https://mrvvillage.com/event/tuesdays-on-the-big-deck-5/
LOCATION:The Big Deck\, Mt Ellen
CATEGORIES:Food & Drink,Sugarbush
ATTACH;FMTTYPE=image/jpeg:https://mrvvillage.com/wp-content/uploads/2025/06/big-deck-generic-ZPpir5.jpg
GEO:44.1600589;-72.9292834
X-APPLE-STRUCTURED-LOCATION;VALUE=URI;X-ADDRESS=The Big Deck Mt Ellen;X-APPLE-RADIUS=500;X-TITLE=Mt Ellen:geo:-72.9292834,44.1600589
END:VEVENT
BEGIN:VEVENT
DTSTART;TZID=America/New_York:20250708T173000
DTEND;TZID=America/New_York:20250708T203000
DTSTAMP:20260423T160736
CREATED:20250624T144034Z
LAST-MODIFIED:20250708T180836Z
UID:10008455-1751995800-1752006600@mrvvillage.com
SUMMARY:Tuesdays on the Big Deck
DESCRIPTION:Kick back like a local with Tuesday evenings\, rain or shine\, on the Big Deck at Mt. Ellen. Enjoy live music\, tasty food specials\, and unbeatable sunset views. The perfect way to soak up those easy summer vibes.
URL:https://mrvvillage.com/event/tuesdays-on-the-big-deck-8/
LOCATION:The Big Deck\, Mt Ellen
CATEGORIES:Food & Drink,Sugarbush
ATTACH;FMTTYPE=image/jpeg:https://mrvvillage.com/wp-content/uploads/2025/06/big-deck-generic-ZPpir5.jpg
GEO:44.1600589;-72.9292834
X-APPLE-STRUCTURED-LOCATION;VALUE=URI;X-ADDRESS=The Big Deck Mt Ellen;X-APPLE-RADIUS=500;X-TITLE=Mt Ellen:geo:-72.9292834,44.1600589
END:VEVENT
BEGIN:VEVENT
DTSTART;TZID=America/New_York:20250715T173000
DTEND;TZID=America/New_York:20250715T203000
DTSTAMP:20260423T160736
CREATED:20250624T144128Z
LAST-MODIFIED:20250715T195324Z
UID:10008460-1752600600-1752611400@mrvvillage.com
SUMMARY:Tuesdays on the Big Deck
DESCRIPTION:Kick back like a local with Tuesday evenings\, rain or shine\, on the Big Deck at Mt. Ellen. Enjoy live music\, tasty food specials\, and unbeatable sunset views. The perfect way to soak up those easy summer vibes.
URL:https://mrvvillage.com/event/tuesdays-on-the-big-deck-9/
LOCATION:The Big Deck\, Mt Ellen
CATEGORIES:Food & Drink,Sugarbush
ATTACH;FMTTYPE=image/jpeg:https://mrvvillage.com/wp-content/uploads/2025/06/big-deck-generic-ZPpir5.jpg
GEO:44.1600589;-72.9292834
X-APPLE-STRUCTURED-LOCATION;VALUE=URI;X-ADDRESS=The Big Deck Mt Ellen;X-APPLE-RADIUS=500;X-TITLE=Mt Ellen:geo:-72.9292834,44.1600589
END:VEVENT
BEGIN:VEVENT
DTSTART;TZID=America/New_York:20250722T173000
DTEND;TZID=America/New_York:20250722T203000
DTSTAMP:20260423T160736
CREATED:20250624T144222Z
LAST-MODIFIED:20250722T213822Z
UID:10008464-1753205400-1753216200@mrvvillage.com
SUMMARY:Tuesdays on the Big Deck
DESCRIPTION:Kick back like a local with Tuesday evenings\, rain or shine\, on the Big Deck at Mt. Ellen. Enjoy live music\, tasty food specials\, and unbeatable sunset views. The perfect way to soak up those easy summer vibes.
URL:https://mrvvillage.com/event/tuesdays-on-the-big-deck-10/
LOCATION:The Big Deck\, Mt Ellen
CATEGORIES:Food & Drink,Sugarbush
ATTACH;FMTTYPE=image/jpeg:https://mrvvillage.com/wp-content/uploads/2025/06/big-deck-generic-ZPpir5.jpg
GEO:44.1600589;-72.9292834
X-APPLE-STRUCTURED-LOCATION;VALUE=URI;X-ADDRESS=The Big Deck Mt Ellen;X-APPLE-RADIUS=500;X-TITLE=Mt Ellen:geo:-72.9292834,44.1600589
END:VEVENT
BEGIN:VEVENT
DTSTART;TZID=America/New_York:20250801T163000
DTEND;TZID=America/New_York:20250801T203000
DTSTAMP:20260423T160736
CREATED:20250728T152343Z
LAST-MODIFIED:20250801T162323Z
UID:10008743-1754065800-1754080200@mrvvillage.com
SUMMARY:Sabouyouma at Mt Ellen
DESCRIPTION:Start your Grateful Gravel weekend on a high note with an evening of live music and mountain vibes at Mt. Ellen\, Friday\, August 1 from 5:30-8:30 PM.We’ll have DJ K Pax spinning at 4:30 PM to set the tone\, followed by Sabouyouma at 6:00 PM – a seven-piece polyrhythmic groove machine led by Guinean-born master Balafonist Ousmane Camara. Blending West African tradition with funk\, soul\, and jam-fusion\, their sound is bold\, joyful and made for dancing. Check them out here.The evening also features a casual cookout with food and beverages available for purchase. It’s all free\, all ages and all good vibes.
URL:https://mrvvillage.com/event/sabouyouma-at-mt-ellen/
LOCATION:The Big Deck\, Mt Ellen
CATEGORIES:Food & Drink,Sugarbush
ATTACH;FMTTYPE=image/jpeg:https://mrvvillage.com/wp-content/uploads/2025/07/sabouyouma-n6mv9n.jpg
GEO:44.1600589;-72.9292834
X-APPLE-STRUCTURED-LOCATION;VALUE=URI;X-ADDRESS=The Big Deck Mt Ellen;X-APPLE-RADIUS=500;X-TITLE=Mt Ellen:geo:-72.9292834,44.1600589
END:VEVENT
BEGIN:VEVENT
DTSTART;TZID=America/New_York:20250812T173000
DTEND;TZID=America/New_York:20250812T203000
DTSTAMP:20260423T160736
CREATED:20250728T152507Z
LAST-MODIFIED:20250812T185322Z
UID:10008752-1755019800-1755030600@mrvvillage.com
SUMMARY:Tuesdays on the Big Deck
DESCRIPTION:Kick back like a local with Tuesday evenings\, rain or shine\, on the Big Deck at Mt. Ellen. Enjoy live music\, tasty food specials\, and unbeatable sunset views. The perfect way to soak up those easy summer vibes.
URL:https://mrvvillage.com/event/tuesdays-on-the-big-deck-11/
LOCATION:The Big Deck\, Mt Ellen
CATEGORIES:Food & Drink,Sugarbush
ATTACH;FMTTYPE=image/jpeg:https://mrvvillage.com/wp-content/uploads/2025/06/big-deck-generic-ZPpir5.jpg
GEO:44.1600589;-72.9292834
X-APPLE-STRUCTURED-LOCATION;VALUE=URI;X-ADDRESS=The Big Deck Mt Ellen;X-APPLE-RADIUS=500;X-TITLE=Mt Ellen:geo:-72.9292834,44.1600589
END:VEVENT
BEGIN:VEVENT
DTSTART;TZID=America/New_York:20250819T173000
DTEND;TZID=America/New_York:20250819T203000
DTSTAMP:20260423T160736
CREATED:20250728T152550Z
LAST-MODIFIED:20250819T203824Z
UID:10008759-1755624600-1755635400@mrvvillage.com
SUMMARY:Tuesdays on the Big Deck
DESCRIPTION:Kick back like a local with Tuesday evenings\, rain or shine\, on the Big Deck at Mt. Ellen. Enjoy live music\, tasty food specials\, and unbeatable sunset views. The perfect way to soak up those easy summer vibes.
URL:https://mrvvillage.com/event/tuesdays-on-the-big-deck-12/
LOCATION:The Big Deck\, Mt Ellen
CATEGORIES:Food & Drink,Sugarbush
ATTACH;FMTTYPE=image/jpeg:https://mrvvillage.com/wp-content/uploads/2025/06/big-deck-generic-ZPpir5.jpg
GEO:44.1600589;-72.9292834
X-APPLE-STRUCTURED-LOCATION;VALUE=URI;X-ADDRESS=The Big Deck Mt Ellen;X-APPLE-RADIUS=500;X-TITLE=Mt Ellen:geo:-72.9292834,44.1600589
END:VEVENT
BEGIN:VEVENT
DTSTART;TZID=America/New_York:20250826T173000
DTEND;TZID=America/New_York:20250826T203000
DTSTAMP:20260423T160736
CREATED:20250728T152648Z
LAST-MODIFIED:20250826T222325Z
UID:10008766-1756229400-1756240200@mrvvillage.com
SUMMARY:Tuesdays on the Big Deck
DESCRIPTION:Kick back like a local with Tuesday evenings\, rain or shine\, on the Big Deck at Mt. Ellen. Enjoy live music\, tasty food specials\, and unbeatable sunset views. The perfect way to soak up those easy summer vibes.
URL:https://mrvvillage.com/event/tuesdays-on-the-big-deck-13/
LOCATION:The Big Deck\, Mt Ellen
CATEGORIES:Food & Drink,Sugarbush
ATTACH;FMTTYPE=image/jpeg:https://mrvvillage.com/wp-content/uploads/2025/06/big-deck-generic-ZPpir5.jpg
GEO:44.1600589;-72.9292834
X-APPLE-STRUCTURED-LOCATION;VALUE=URI;X-ADDRESS=The Big Deck Mt Ellen;X-APPLE-RADIUS=500;X-TITLE=Mt Ellen:geo:-72.9292834,44.1600589
END:VEVENT
BEGIN:VEVENT
DTSTART;TZID=America/New_York:20250902T173000
DTEND;TZID=America/New_York:20250902T203000
DTSTAMP:20260423T160736
CREATED:20250805T125624Z
LAST-MODIFIED:20250902T192322Z
UID:10008796-1756834200-1756845000@mrvvillage.com
SUMMARY:Tuesdays on the Big Deck
DESCRIPTION:Kick back like a local with Tuesday evenings\, rain or shine\, on the Big Deck at Mt. Ellen. Enjoy live music\, tasty food specials\, and unbeatable sunset views. The perfect way to soak up those easy summer vibes.
URL:https://mrvvillage.com/event/tuesdays-on-the-big-deck-14/
LOCATION:The Big Deck\, Mt Ellen
CATEGORIES:Food & Drink,Sugarbush
ATTACH;FMTTYPE=image/jpeg:https://mrvvillage.com/wp-content/uploads/2025/06/big-deck-generic-ZPpir5.jpg
GEO:44.1600589;-72.9292834
X-APPLE-STRUCTURED-LOCATION;VALUE=URI;X-ADDRESS=The Big Deck Mt Ellen;X-APPLE-RADIUS=500;X-TITLE=Mt Ellen:geo:-72.9292834,44.1600589
END:VEVENT
END:VCALENDAR