BEGIN:VCALENDAR
VERSION:2.0
PRODID:-//The Mad River Valley Village - ECPv6.0.13//NONSGML v1.0//EN
CALSCALE:GREGORIAN
METHOD:PUBLISH
X-WR-CALNAME:The Mad River Valley Village
X-ORIGINAL-URL:https://mrvvillage.com
X-WR-CALDESC:Events for The Mad River Valley Village
REFRESH-INTERVAL;VALUE=DURATION:PT1H
X-Robots-Tag:noindex
X-PUBLISHED-TTL:PT1H
BEGIN:VTIMEZONE
TZID:America/New_York
BEGIN:DAYLIGHT
TZOFFSETFROM:-0500
TZOFFSETTO:-0400
TZNAME:EDT
DTSTART:20230312T070000
END:DAYLIGHT
BEGIN:STANDARD
TZOFFSETFROM:-0400
TZOFFSETTO:-0500
TZNAME:EST
DTSTART:20231105T060000
END:STANDARD
BEGIN:DAYLIGHT
TZOFFSETFROM:-0500
TZOFFSETTO:-0400
TZNAME:EDT
DTSTART:20240310T070000
END:DAYLIGHT
BEGIN:STANDARD
TZOFFSETFROM:-0400
TZOFFSETTO:-0500
TZNAME:EST
DTSTART:20241103T060000
END:STANDARD
BEGIN:DAYLIGHT
TZOFFSETFROM:-0500
TZOFFSETTO:-0400
TZNAME:EDT
DTSTART:20250309T070000
END:DAYLIGHT
BEGIN:STANDARD
TZOFFSETFROM:-0400
TZOFFSETTO:-0500
TZNAME:EST
DTSTART:20251102T060000
END:STANDARD
END:VTIMEZONE
BEGIN:VEVENT
DTSTART;TZID=America/New_York:20230722T110000
DTEND;TZID=America/New_York:20230722T143000
DTSTAMP:20260424T015424
CREATED:20230704T165610Z
LAST-MODIFIED:20230722T212316Z
UID:10004243-1690023600-1690036200@mrvvillage.com
SUMMARY:Sugarbush Soaring – Soaring Discovery Day
DESCRIPTION:Saturday\, July 22\, 2023\n11:00 AM 2:30 PM\nSugarbush Soaring Association\n2355 Airport Road Warren\, VT \nSoaring Discovery Day is free and open to the public and is a unique opportunity for young people to learn about the joy and excitement of silent flight at Sugarbush Soaring. \nOpen to boys and girls aged 13 – 18\, the day will be spent learning about the principles of flying gliders and connecting with other like-minded youth and aviation professionals. \nMeet the students who participate in our Line Crew Program\, and watch them in action as they launch and recover gliders. \nThe day will conclude with a raffle of 5 free introductory glider flights (for youth only\, to be taken at a later date.) \nA great day will be had by all!
URL:https://mrvvillage.com/event/sugarbush-soaring-soaring-discovery-day/
LOCATION:warren-sugarbush airport\, 2355 Airport Road\, Warren\, VT\, 05674
CATEGORIES:Community,Sports & Recreation
ATTACH;FMTTYPE=image/jpeg:https://mrvvillage.com/wp-content/uploads/2023/07/SoaringTwoGliders-A28lFI.tmp_.jpg
ORGANIZER;CN="Sugarbush%20Soaring":MAILTO:soar@sugarbushsoaring.com
GEO:44.1188084;-72.8270262
X-APPLE-STRUCTURED-LOCATION;VALUE=URI;X-ADDRESS=warren-sugarbush airport 2355 Airport Road Warren VT 05674;X-APPLE-RADIUS=500;X-TITLE=2355 Airport Road:geo:-72.8270262,44.1188084
END:VEVENT
BEGIN:VEVENT
DTSTART;TZID=America/New_York:20230722T110000
DTEND;TZID=America/New_York:20230722T143000
DTSTAMP:20260424T015424
CREATED:20230627T155617Z
LAST-MODIFIED:20230722T212316Z
UID:10004204-1690023600-1690036200@mrvvillage.com
SUMMARY:Soaring Discovery Day for Youth
DESCRIPTION:Soaring Discovery Day introduces youth aged 13-18 to the joy and excitement of soaring. Participants will attend ground school\, tour the airport\, learn about Sugarbush Soaring’s youth programs\, and enjoy the opportunity to connect with like-minded students and aviation professionals. Highlights will include learning how to assemble a glider and watching the line crew in action as they launch and recover the gliders. A BBQ lunch (by donation) and a raffle will be held at the end of the day for 5 free glider rides. Registration is required.
URL:https://mrvvillage.com/event/soaring-discovery-day-for-youth/
LOCATION:warren-sugarbush airport\, 2355 Airport Road\, Warren\, VT\, 05674
CATEGORIES:Community,Special Events
ATTACH;FMTTYPE=image/png:https://mrvvillage.com/wp-content/uploads/2023/06/Flyer1.7mb-Zkug5H.tmp_.png
ORGANIZER;CN="Sugarbush%20Soaring":MAILTO:soar@sugarbushsoaring.com
GEO:44.1188084;-72.8270262
X-APPLE-STRUCTURED-LOCATION;VALUE=URI;X-ADDRESS=warren-sugarbush airport 2355 Airport Road Warren VT 05674;X-APPLE-RADIUS=500;X-TITLE=2355 Airport Road:geo:-72.8270262,44.1188084
END:VEVENT
BEGIN:VEVENT
DTSTART;TZID=America/New_York:20240928T103000
DTEND;TZID=America/New_York:20240928T143000
DTSTAMP:20260424T015424
CREATED:20240906T192510Z
LAST-MODIFIED:20240928T233816Z
UID:10007012-1727519400-1727533800@mrvvillage.com
SUMMARY:Fall Fly-In at Sugarbush Soaring
DESCRIPTION:Join the Sugarbush Soaring community on September 28th for our fall fly-in. Small aircraft from around the Northeast will fly in to enjoy our beautiful Vermont foliage and a cookout to benefit Flight Experience for Youth. Bring the family\, watch the airplanes and enjoy a hamburger for a good cause!
URL:https://mrvvillage.com/event/fall-fly-in-at-sugarbush-soaring/
LOCATION:warren-sugarbush airport\, 2355 Airport Road\, Warren\, VT\, 05674
CATEGORIES:Arts & Entertainment,Community,Sports & Recreation
ATTACH;FMTTYPE=image/png:https://mrvvillage.com/wp-content/uploads/2024/09/Local-fall-fly-in-poster-gOEEIe.tmp_.png
ORGANIZER;CN="Sugarbush%20Soaring":MAILTO:soar@sugarbushsoaring.com
GEO:44.1188084;-72.8270262
X-APPLE-STRUCTURED-LOCATION;VALUE=URI;X-ADDRESS=warren-sugarbush airport 2355 Airport Road Warren VT 05674;X-APPLE-RADIUS=500;X-TITLE=2355 Airport Road:geo:-72.8270262,44.1188084
END:VEVENT
BEGIN:VEVENT
DTSTART;TZID=America/New_York:20250628T103000
DTEND;TZID=America/New_York:20250628T143000
DTSTAMP:20260424T015424
CREATED:20250612T235456Z
LAST-MODIFIED:20250628T153823Z
UID:10008315-1751106600-1751121000@mrvvillage.com
SUMMARY:Spring Fly-In at Warren-Sugarbush Airport
DESCRIPTION:Join us for a high-flying day of fun at Sugarbush Soaring’s Annual Spring Fly-In! \nBring the whole family for:\n* Plane spotting\n* Meet the pilots and check out the aircraft\n* BBQ lunch\, with proceeds supporting Flight Experience for Youth\n* Community fun at the airfield \nGlider rides available by advanced reservation\, or first come\, first served as available. Call 802-496-2290 to reserve your spot in the sky. \nEveryone is welcome— be part of our vibrant airport community!
URL:https://mrvvillage.com/event/spring-fly-in-at-warren-sugarbush-airport/
LOCATION:warren-sugarbush airport\, 2355 Airport Road\, Warren\, VT\, 05674
CATEGORIES:Family Friendly,Sports & Recreation
ATTACH;FMTTYPE=image/png:https://mrvvillage.com/wp-content/uploads/2025/06/Spring-2025-Fly-in-local-flyer-hyG6rZ.png
ORGANIZER;CN="Sugarbush%20Soaring":MAILTO:soar@sugarbushsoaring.com
GEO:44.1188084;-72.8270262
X-APPLE-STRUCTURED-LOCATION;VALUE=URI;X-ADDRESS=warren-sugarbush airport 2355 Airport Road Warren VT 05674;X-APPLE-RADIUS=500;X-TITLE=2355 Airport Road:geo:-72.8270262,44.1188084
END:VEVENT
BEGIN:VEVENT
DTSTART;TZID=America/New_York:20250927T103000
DTEND;TZID=America/New_York:20250927T143000
DTSTAMP:20260424T015424
CREATED:20250829T184120Z
LAST-MODIFIED:20250927T230821Z
UID:10008932-1758969000-1758983400@mrvvillage.com
SUMMARY:Fall Foliage Fly-in at the Warren-Sugarbush Airport
DESCRIPTION:Join us for a spectacular day as the leaves turn vibrant shades of red\, orange\, and gold! Bring the whole family to the Fall Foliage Fly-In at Warren-Sugarbush Airport for a celebration of aviation and autumn. \n🌭 Enjoy a delicious BBQ fundraiser benefiting Flight Experience for Youth — a great way to support young aspiring pilots!\n🪂 Take to the skies with glider rides\, available by advanced reservation or as space allows.\n👨‍👩‍👧‍👦 Watch aircraft come and go\, chat with pilots\, and soak in the stunning mountain views and peak foliage. \nWhether you’re flying in or just driving up\, this is the perfect way to celebrate the season — fun\, food\, and flight for all!
URL:https://mrvvillage.com/event/fall-foliage-fly-in-at-the-warren-sugarbush-airport/
LOCATION:warren-sugarbush airport\, 2355 Airport Road\, Warren\, VT\, 05674
CATEGORIES:Sports & Recreation
ATTACH;FMTTYPE=image/png:https://mrvvillage.com/wp-content/uploads/2025/08/Fly-in-10-FuZzAJ.png
ORGANIZER;CN="Sugarbush%20Soaring":MAILTO:soar@sugarbushsoaring.com
GEO:44.1188084;-72.8270262
X-APPLE-STRUCTURED-LOCATION;VALUE=URI;X-ADDRESS=warren-sugarbush airport 2355 Airport Road Warren VT 05674;X-APPLE-RADIUS=500;X-TITLE=2355 Airport Road:geo:-72.8270262,44.1188084
END:VEVENT
END:VCALENDAR