BEGIN:VCALENDAR
VERSION:2.0
PRODID:-//The Mad River Valley Village - ECPv6.0.13//NONSGML v1.0//EN
CALSCALE:GREGORIAN
METHOD:PUBLISH
X-WR-CALNAME:The Mad River Valley Village
X-ORIGINAL-URL:https://mrvvillage.com
X-WR-CALDESC:Events for The Mad River Valley Village
REFRESH-INTERVAL;VALUE=DURATION:PT1H
X-Robots-Tag:noindex
X-PUBLISHED-TTL:PT1H
BEGIN:VTIMEZONE
TZID:America/New_York
BEGIN:DAYLIGHT
TZOFFSETFROM:-0500
TZOFFSETTO:-0400
TZNAME:EDT
DTSTART:20260308T070000
END:DAYLIGHT
BEGIN:STANDARD
TZOFFSETFROM:-0400
TZOFFSETTO:-0500
TZNAME:EST
DTSTART:20261101T060000
END:STANDARD
END:VTIMEZONE
BEGIN:VEVENT
DTSTART;TZID=America/New_York:20260422T183000
DTEND;TZID=America/New_York:20260422T200000
DTSTAMP:20260422T100840
CREATED:20260309T134325Z
LAST-MODIFIED:20260421T223822Z
UID:10009991-1776882600-1776888000@mrvvillage.com
SUMMARY:Preservation Policy and Tools for Improved Resiliency & Performance of Historic Buildings (Yestermorrow Spring Speaker Series)
DESCRIPTION:Yestermorrow Spring 2026 Speaker Series\nHistoric Preservation: Meaning\, Memory\, and Stewardship \nPreservation Policy and Tools for Improved Resiliency & Performance of Historic Buildings with Jamie Duggan \nThis presentation will discuss emerging policies and tools that are being developed at national\, state and local levels to support and improve the resiliency and performance of historic buildings. Featuring case studies that explore flood-proofing and armouring historic buildings for climate change\, increasing energy efficiency and performance of conditioned spaces\, as well as other topics that help overcome misperceptions about how to treat a historic building and the give-and-take of making improvements without diminishing historic character. Information and materials will be shared on new survey and mapping projects\, education and advocacy efforts at the Vermont Division for Historic Preservation and works in progress at State-owned Historic Sites. \nThis talk is presented as part of our Spring 2026 Speaker Series. All talks are free and open to the public\, and take place Wednesday evenings from 6:30 – 8 pm. No registration required\, just drop by. Join us in person or online via livestream on our YouTube channel.
URL:https://mrvvillage.com/event/preservation-policy-and-tools-for-improved-resiliency-performance-of-historic-buildings-yestermorrow-spring-speaker-series/
LOCATION:Yestermorrow Design/Build School\, 7865 Main Street\, Waitsfield\, 05673
CATEGORIES:Community
ATTACH;FMTTYPE=image/jpeg:https://mrvvillage.com/wp-content/uploads/2026/03/photo-by-john-herrick-QO0bME.jpg
ORGANIZER;CN="Yestermorrow%20Design%2FBuild%20School":MAILTO:info@yestermorrow.org
GEO:44.1490529;-72.8380281
X-APPLE-STRUCTURED-LOCATION;VALUE=URI;X-ADDRESS=Yestermorrow Design/Build School 7865 Main Street Waitsfield 05673;X-APPLE-RADIUS=500;X-TITLE=7865 Main Street:geo:-72.8380281,44.1490529
END:VEVENT
END:VCALENDAR